BEGIN:VCALENDAR
VERSION:2.0
PRODID:-//Maryland STEM Festival - ECPv6.15.20//NONSGML v1.0//EN
CALSCALE:GREGORIAN
METHOD:PUBLISH
X-ORIGINAL-URL:https://marylandstemfestival.org
X-WR-CALDESC:Events for Maryland STEM Festival
REFRESH-INTERVAL;VALUE=DURATION:PT1H
X-Robots-Tag:noindex
X-PUBLISHED-TTL:PT1H
BEGIN:VTIMEZONE
TZID:America/New_York
BEGIN:DAYLIGHT
TZOFFSETFROM:-0500
TZOFFSETTO:-0400
TZNAME:EDT
DTSTART:20240310T070000
END:DAYLIGHT
BEGIN:STANDARD
TZOFFSETFROM:-0400
TZOFFSETTO:-0500
TZNAME:EST
DTSTART:20241103T060000
END:STANDARD
BEGIN:DAYLIGHT
TZOFFSETFROM:-0500
TZOFFSETTO:-0400
TZNAME:EDT
DTSTART:20250309T070000
END:DAYLIGHT
BEGIN:STANDARD
TZOFFSETFROM:-0400
TZOFFSETTO:-0500
TZNAME:EST
DTSTART:20251102T060000
END:STANDARD
BEGIN:DAYLIGHT
TZOFFSETFROM:-0500
TZOFFSETTO:-0400
TZNAME:EDT
DTSTART:20260308T070000
END:DAYLIGHT
BEGIN:STANDARD
TZOFFSETFROM:-0400
TZOFFSETTO:-0500
TZNAME:EST
DTSTART:20261101T060000
END:STANDARD
END:VTIMEZONE
BEGIN:VEVENT
DTSTART;TZID=America/New_York:20251017T100000
DTEND;TZID=America/New_York:20251017T113000
DTSTAMP:20260420T102612
CREATED:20251001T023204Z
LAST-MODIFIED:20251001T023204Z
UID:2428-1760695200-1760700600@marylandstemfestival.org
SUMMARY:Craft &  Chat Fridays
DESCRIPTION:On the 3rd Friday of every month\, the Hancock Library will sponsor a program at the Hancock Senior Center. Each month will feature a different activity and healthy snacks. Please contact the Library or the Senior Center for more information.
URL:https://marylandstemfestival.org/event/craft-chat-fridays/
LOCATION:Hancock War Memorial Library\, 231 Hancock Veterans Pkwy\, Hancock\, MD\, 21750\, United States
CATEGORIES:Arts
ORGANIZER;CN="Washington County Free Library":MAILTO:jraab@washcolibrary.org
END:VEVENT
BEGIN:VEVENT
DTSTART;TZID=America/New_York:20251017T140000
DTEND;TZID=America/New_York:20251017T150000
DTSTAMP:20260420T102612
CREATED:20250602T130712Z
LAST-MODIFIED:20250602T130806Z
UID:1891-1760709600-1760713200@marylandstemfestival.org
SUMMARY:Calling All Halloween Hooligans! Build a Haunted Halloween House!
DESCRIPTION:Spooky season is here! Engage your mind by blending art and engineering to construct your very own haunted house to keep. We’ll be using sturdy milk cartons\, icing as our construction glue\, and sweet and savory treats and candies. All materials provided\, while they last. Dress for a mess! \nThis program is for children between the ages of 8 and 17 years old. Children under the age of 12 MUST be accompanied by an adult. This is a STEAM (Science\, Technology\, Engineering\, Art and Math) Program.
URL:https://marylandstemfestival.org/event/calling-all-halloween-hooligans-build-a-haunted-halloween-house/
LOCATION:Olney Library\, 3500 Olney Laytonsville Rd\, Olney\, MD\, 20832\, United States
CATEGORIES:Arts,Engineering,Food
END:VEVENT
END:VCALENDAR