BEGIN:VCALENDAR
VERSION:2.0
PRODID:-//Maryland STEM Festival - ECPv6.15.20//NONSGML v1.0//EN
CALSCALE:GREGORIAN
METHOD:PUBLISH
X-ORIGINAL-URL:https://marylandstemfestival.org
X-WR-CALDESC:Events for Maryland STEM Festival
REFRESH-INTERVAL;VALUE=DURATION:PT1H
X-Robots-Tag:noindex
X-PUBLISHED-TTL:PT1H
BEGIN:VTIMEZONE
TZID:America/New_York
BEGIN:DAYLIGHT
TZOFFSETFROM:-0500
TZOFFSETTO:-0400
TZNAME:EDT
DTSTART:20240310T070000
END:DAYLIGHT
BEGIN:STANDARD
TZOFFSETFROM:-0400
TZOFFSETTO:-0500
TZNAME:EST
DTSTART:20241103T060000
END:STANDARD
BEGIN:DAYLIGHT
TZOFFSETFROM:-0500
TZOFFSETTO:-0400
TZNAME:EDT
DTSTART:20250309T070000
END:DAYLIGHT
BEGIN:STANDARD
TZOFFSETFROM:-0400
TZOFFSETTO:-0500
TZNAME:EST
DTSTART:20251102T060000
END:STANDARD
BEGIN:DAYLIGHT
TZOFFSETFROM:-0500
TZOFFSETTO:-0400
TZNAME:EDT
DTSTART:20260308T070000
END:DAYLIGHT
BEGIN:STANDARD
TZOFFSETFROM:-0400
TZOFFSETTO:-0500
TZNAME:EST
DTSTART:20261101T060000
END:STANDARD
BEGIN:DAYLIGHT
TZOFFSETFROM:-0500
TZOFFSETTO:-0400
TZNAME:EDT
DTSTART:20270314T070000
END:DAYLIGHT
BEGIN:STANDARD
TZOFFSETFROM:-0400
TZOFFSETTO:-0500
TZNAME:EST
DTSTART:20271107T060000
END:STANDARD
END:VTIMEZONE
BEGIN:VEVENT
DTSTART;TZID=America/New_York:20251108T100000
DTEND;TZID=America/New_York:20251108T170000
DTSTAMP:20260422T235810
CREATED:20251005T131955Z
LAST-MODIFIED:20251021T224839Z
UID:2550-1762596000-1762621200@marylandstemfestival.org
SUMMARY:Basic Seamanship & Vessel Operations
DESCRIPTION:Learn the basics of seamanship and vessel operations with CBMM’s Shipyard Educator Steve Garrand and Schooner Sultana Capt. Kate Dumhart. Students will gain experience aboard two vessels\, a modern outboard powered 16-foot skiff and a traditional inboard powered 29-foot Smith Island crab scrape\, plus 1909 crab dredger Old Point. In this class\, we will introduce you to the skills needed to gain confidence out on the water and confidence means more fun! \nIn this class expect to learn: \nBasic dock line management\, coiling\, stowing\, cleat hitches and some easy to learn knots\, as well as strategies for tying up your boat in different scenarios\nThe theory and practice of close quarters maneuvering on and off the dock as well as getting on and off the anchor\nStrategies for man overboard retrieval\nRules of the Road basics and VHF operations and etiquette\nThis program is supported through CBMM’s Regional Folklife Center under the Maryland Traditions program of the Maryland State Arts Council. \nBasic Seamanship & Vessel Operations\nDate/Time: Saturday & Sunday\, Nov. 8-9\, 10am-5pm\nLocation: CBMM’s docks & waterfront\nCost: $300\, with a 20% discount for CBMM members
URL:https://marylandstemfestival.org/event/basic-seamanship-vessel-operations/
LOCATION:Chesapeake Bay Maritime Museum\, 213 North Talbot St.\, St. Michaels\, MD\, 21663\, United States
CATEGORIES:Business and Careers,Engineering,Technology
ORGANIZER;CN="Chesapeake Children's Museum":MAILTO:debbie@theccm.org
END:VEVENT
BEGIN:VEVENT
DTSTART;TZID=America/New_York:20251109T100000
DTEND;TZID=America/New_York:20251109T170000
DTSTAMP:20260422T235810
CREATED:20251021T224754Z
LAST-MODIFIED:20251021T224754Z
UID:2737-1762682400-1762707600@marylandstemfestival.org
SUMMARY:Basic Seamanship & Vessel Operations
DESCRIPTION:Learn the basics of seamanship and vessel operations with CBMM’s Shipyard Educator Steve Garrand and Schooner Sultana Capt. Kate Dumhart. Students will gain experience aboard two vessels\, a modern outboard powered 16-foot skiff and a traditional inboard powered 29-foot Smith Island crab scrape\, plus 1909 crab dredger Old Point. In this class\, we will introduce you to the skills needed to gain confidence out on the water and confidence means more fun! \nIn this class expect to learn: \nBasic dock line management\, coiling\, stowing\, cleat hitches and some easy to learn knots\, as well as strategies for tying up your boat in different scenarios\nThe theory and practice of close quarters maneuvering on and off the dock as well as getting on and off the anchor\nStrategies for man overboard retrieval\nRules of the Road basics and VHF operations and etiquette\nThis program is supported through CBMM’s Regional Folklife Center under the Maryland Traditions program of the Maryland State Arts Council. \nBasic Seamanship & Vessel Operations\nDate/Time: Saturday & Sunday\, Nov. 8-9\, 10am-5pm\nLocation: CBMM’s docks & waterfront\nCost: $300\, with a 20% discount for CBMM members
URL:https://marylandstemfestival.org/event/basic-seamanship-vessel-operations-2/
LOCATION:Chesapeake Bay Maritime Museum\, 213 North Talbot St.\, St. Michaels\, MD\, 21663\, United States
CATEGORIES:Business and Careers,Engineering,Technology
ORGANIZER;CN="Chesapeake Children's Museum":MAILTO:debbie@theccm.org
END:VEVENT
BEGIN:VEVENT
DTSTART;TZID=America/New_York:20251112T160000
DTEND;TZID=America/New_York:20251112T180000
DTSTAMP:20260422T235810
CREATED:20251105T123949Z
LAST-MODIFIED:20251105T123949Z
UID:2783-1762963200-1762970400@marylandstemfestival.org
SUMMARY:Careers & Opportunities from Montgomery County Department of Environmental Protection!
DESCRIPTION:Special Event for Maryland STEM Festival in the large 3rd Floor Meeting Room! Discover the possibilities in the environmental field for teens\, tweens & adults! \nThis special event on Montgomery County Department of Environmental Protection and careers\, internship and volunteer opportunities\, with and without a college degree\, will feature Ana Arriaza\, Partnership & Engagement Manager at Montgomery County Department of Environmental Protection. \nNo registration – drop-ins welcome! SSL opportunity and enjoy free snacks! Spanish speakers welcome! \nHelp design future teen programs and help with cleanup/takedown after the event as SSL opportunities! \nQuestions about this program? Contact Brigadier General Charles E. McGee Library at 240-773-9420.
URL:https://marylandstemfestival.org/event/careers-opportunities-from-montgomery-county-department-of-environmental-protection/
LOCATION:Brigadier General Charles E. McGee Library\, 900 Wayne Avenue 5th Floor\, Silver Spring\, MD\, 20910\, United States
CATEGORIES:Business and Careers,Chemistry,Engineering,Health,Life Sciences,Science and Society
END:VEVENT
BEGIN:VEVENT
DTSTART;TZID=America/New_York:20251113T190000
DTEND;TZID=America/New_York:20251113T210000
DTSTAMP:20260422T235810
CREATED:20251026T195153Z
LAST-MODIFIED:20251026T195153Z
UID:2761-1763060400-1763067600@marylandstemfestival.org
SUMMARY:Science Slam at Peabody Heights!
DESCRIPTION:Baltimore\, it’s Science Slam time! When else can you enjoy a bite while learning remarkable science that is going on in Charm City? \nWhen else can you enjoy a bite and a drink while learning remarkable science that is going on in Charm City? Come join us for a night of 5 min science talks from local scientists and support their efforts to communicate their work! \nWe are so happy to be able to have this at Peabody Heights and we thank them so much for their support! \nBUGSS will host 6 or so local scientists (grad students\, postdocs\, citizen scientists\, etc) to present their work in 5 minutes. We give prizes to the talks that are most creative and best communicated! This is a great way to connect with others\, learn diverse topics of science going on right here in Charm City\, gain communication skills and experience\, enhance chances of collaboration and emerging projects and ideas!\nJoin us and bring your friends for a fun night don’t miss out on this exciting science filled evening at BUGSS! Korean fusion food available on site! \nWhen: Thursday\, November 13 · 7 – 9pm EST \nWhere: Peabody Heights Brewery\n401 East 30th Street Baltimore\, MD 21218 \nFee: Free! (Donations accepted) \nMake sure to register on Eventbrite to secure your spot: https://www.eventbrite.com/e/science-slam-at-peabody-heights-tickets-1743997737179?aff=ebdsoporgprofile
URL:https://marylandstemfestival.org/event/science-slam-at-peabody-heights/
LOCATION:Peabody Heights Brewery\, 401 East 30th Street\, Baltimore\, MD\, 21218\, United States
CATEGORIES:Arts,Business and Careers,Chemistry,Earth and Space Science,Engineering,Food,Health,Life Sciences,Mathematics,Science and Society,Sports and Fitness,Technology
END:VEVENT
BEGIN:VEVENT
DTSTART;TZID=America/New_York:20251114T080000
DTEND;TZID=America/New_York:20251114T160000
DTSTAMP:20260422T235810
CREATED:20251107T154303Z
LAST-MODIFIED:20251107T154732Z
UID:2785-1763107200-1763136000@marylandstemfestival.org
SUMMARY:Game Your Future Conference
DESCRIPTION:Join us at the Game Your Future Conference\, where community\, creativity\, and career growth collide. Whether you’re a game developer\, esports enthusiast\, student\, or professional in a tangential industry\, this is your chance to upskill\, get inspired\, and build meaningful connections in an evolving job market. With top speakers\, hands-on learning\, and unmatched networking opportunities\, you’ll leave empowered to thrive in gaming—and beyond.  This is a three-day event running from 11/14 to 11/16
URL:https://marylandstemfestival.org/event/game-your-future-conference/
LOCATION:baltimore convention center\, 1 W Pratt St\, Baltimore\, MD\, 21201\, United States
CATEGORIES:Arts,Biotech,Business and Careers,Technology
END:VEVENT
BEGIN:VEVENT
DTSTART;TZID=America/New_York:20251114T123000
DTEND;TZID=America/New_York:20251114T170000
DTSTAMP:20260422T235810
CREATED:20251112T205926Z
LAST-MODIFIED:20251112T210706Z
UID:2804-1763123400-1763139600@marylandstemfestival.org
SUMMARY:MSE3 Community of Practice Webinar
DESCRIPTION:We are delighted to invite you to the next Maryland STEM Education to Employment Ecosystem (MSE3) Community of Practice (CoP) meeting on Friday\, November 14\, 2025\, at 12:30 PM (virtual). \n  \nThis session marks an exciting milestone as we launch two new Constellations designed to close Maryland’s STEM workforce gaps and we invite you to get involved in building these Constellations: \n  \n\nIgnite AI Maryland – advancing equitable AI learning and integration across K–12 education\, inspired by the 2025 statewide AI for Education Summit. Introducing Hour of AI across Maryland to in increase AI literacy and empower Marylanders to become creators\, not just consumers\, of technology.\n\n  \n\nThe -Ship Yard – Where -Ships are built and launched\, One Marylander at a time! This is a statewide effort to expand internships\, apprenticeships\, externships\, scholarships\, and Work-Study Co-ops\, connecting Maryland students and educators to meaningful STEM career pathways. This is the focus of the 2026 MSE3 Summit.\n\nRegister here
URL:https://marylandstemfestival.org/event/mse3-community-of-practice-webinar/
LOCATION:Online
CATEGORIES:AI,Business and Careers,Technology
ORGANIZER;CN="Maryland STEM Education to Employment Ecosystem":MAILTO:work.ashley.benitez@gmail.com
END:VEVENT
BEGIN:VEVENT
DTSTART;TZID=America/New_York:20251115T080000
DTEND;TZID=America/New_York:20251115T160000
DTSTAMP:20260422T235810
CREATED:20251107T154409Z
LAST-MODIFIED:20251107T154639Z
UID:2789-1763193600-1763222400@marylandstemfestival.org
SUMMARY:Game Your Future Conference
DESCRIPTION:Join us at the Game Your Future Conference\, where community\, creativity\, and career growth collide. Whether you’re a game developer\, esports enthusiast\, student\, or professional in a tangential industry\, this is your chance to upskill\, get inspired\, and build meaningful connections in an evolving job market. With top speakers\, hands-on learning\, and unmatched networking opportunities\, you’ll leave empowered to thrive in gaming—and beyond.  This is a three-day event running from 11/14 to 11/16
URL:https://marylandstemfestival.org/event/game-your-future-conference-2/
LOCATION:baltimore convention center\, 1 W Pratt St\, Baltimore\, MD\, 21201\, United States
CATEGORIES:Arts,Biotech,Business and Careers,Technology
END:VEVENT
BEGIN:VEVENT
DTSTART;TZID=America/New_York:20251115T110000
DTEND;TZID=America/New_York:20251115T120000
DTSTAMP:20260422T235810
CREATED:20251001T005928Z
LAST-MODIFIED:20251001T005928Z
UID:2440-1763204400-1763208000@marylandstemfestival.org
SUMMARY:Kids Discover: Little Bear Apiary
DESCRIPTION:Join us for Kids Discover/Little Explorers STEM with special local guest Little Bear Apiary on Saturday November 15th from 11am-12pm. We’ll learn all about beekeeping and have lots of special hands-on activities. Storytime and instruction begin promptly at 11am\, but the room is open to complete activities until 12pm. Registration required. Ages 3-10. Hope to see you there!
URL:https://marylandstemfestival.org/event/kids-discover-little-bear-apiary/
LOCATION:Hagerstown Branch\, 100 S. Potomac St.\, Hagerstown\, MD\, 21740\, United States
CATEGORIES:Business and Careers,Earth and Space Science,Food,Health,Life Sciences
ORGANIZER;CN="Washington County Free Library":MAILTO:jraab@washcolibrary.org
END:VEVENT
BEGIN:VEVENT
DTSTART;TZID=America/New_York:20251116T080000
DTEND;TZID=America/New_York:20251116T160000
DTSTAMP:20260422T235810
CREATED:20251107T154449Z
LAST-MODIFIED:20251107T154515Z
UID:2790-1763280000-1763308800@marylandstemfestival.org
SUMMARY:Game Your Future Conference
DESCRIPTION:Join us at the Game Your Future Conference\, where community\, creativity\, and career growth collide. Whether you’re a game developer\, esports enthusiast\, student\, or professional in a tangential industry\, this is your chance to upskill\, get inspired\, and build meaningful connections in an evolving job market. With top speakers\, hands-on learning\, and unmatched networking opportunities\, you’ll leave empowered to thrive in gaming—and beyond.  This is a three day event running from 11/14-11/16
URL:https://marylandstemfestival.org/event/game-your-future-conference-3/
LOCATION:baltimore convention center\, 1 W Pratt St\, Baltimore\, MD\, 21201\, United States
CATEGORIES:Arts,Biotech,Business and Careers,Technology
END:VEVENT
BEGIN:VEVENT
DTSTART;TZID=America/New_York:20261117T093000
DTEND;TZID=America/New_York:20261117T113000
DTSTAMP:20260422T235810
CREATED:20260415T192025Z
LAST-MODIFIED:20260420T180632Z
UID:3481-1794907800-1794915000@marylandstemfestival.org
SUMMARY:STEM of Many Colors
DESCRIPTION:STEM Professionals from underserved communities discuss their careers and fields. This is for Baltimore County Students only
URL:https://marylandstemfestival.org/event/stem-of-many-colors-2/
LOCATION:George Washington Carver Center for Arts and Technology\, 938 York Rd\,\, Baltimore\, MD\, 21204\, United States
CATEGORIES:Business and Careers,Computer Science,Engineering,Science and Society,Technology
ORGANIZER;CN="Maryland STEM Festival":MAILTO:phil@marylandstemfestival.org
END:VEVENT
END:VCALENDAR