BEGIN:VCALENDAR
VERSION:2.0
PRODID:-//Maryland STEM Festival - ECPv6.15.20//NONSGML v1.0//EN
CALSCALE:GREGORIAN
METHOD:PUBLISH
X-ORIGINAL-URL:https://marylandstemfestival.org
X-WR-CALDESC:Events for Maryland STEM Festival
REFRESH-INTERVAL;VALUE=DURATION:PT1H
X-Robots-Tag:noindex
X-PUBLISHED-TTL:PT1H
BEGIN:VTIMEZONE
TZID:America/New_York
BEGIN:DAYLIGHT
TZOFFSETFROM:-0500
TZOFFSETTO:-0400
TZNAME:EDT
DTSTART:20240310T070000
END:DAYLIGHT
BEGIN:STANDARD
TZOFFSETFROM:-0400
TZOFFSETTO:-0500
TZNAME:EST
DTSTART:20241103T060000
END:STANDARD
BEGIN:DAYLIGHT
TZOFFSETFROM:-0500
TZOFFSETTO:-0400
TZNAME:EDT
DTSTART:20250309T070000
END:DAYLIGHT
BEGIN:STANDARD
TZOFFSETFROM:-0400
TZOFFSETTO:-0500
TZNAME:EST
DTSTART:20251102T060000
END:STANDARD
BEGIN:DAYLIGHT
TZOFFSETFROM:-0500
TZOFFSETTO:-0400
TZNAME:EDT
DTSTART:20260308T070000
END:DAYLIGHT
BEGIN:STANDARD
TZOFFSETFROM:-0400
TZOFFSETTO:-0500
TZNAME:EST
DTSTART:20261101T060000
END:STANDARD
END:VTIMEZONE
BEGIN:VEVENT
DTSTART;TZID=America/New_York:20251014T160000
DTEND;TZID=America/New_York:20251014T170000
DTSTAMP:20260424T021537
CREATED:20250901T162631Z
LAST-MODIFIED:20250901T162631Z
UID:2159-1760457600-1760461200@marylandstemfestival.org
SUMMARY:The Science Guys: Spooky Science Show
DESCRIPTION:Explore spooky science experiments with the Science Guys of Baltimore! Learn the science behind dense\, thick\, and eerie fog\, make the call of a screeching owl\, create bubbling potions\, challenge yourself with optical illusions\, and MORE! Ages 6-14.
URL:https://marylandstemfestival.org/event/the-science-guys-spooky-science-show/
LOCATION:Chesapeake City Branch Library\, 2527 Augustine Herman Highway\, Chesapeake City\, MD\, 21915\, United States
CATEGORIES:Chemistry
ORGANIZER;CN="Cecil County Public Library":MAILTO:kmclimans@cecilcountylibrary.org
END:VEVENT
BEGIN:VEVENT
DTSTART;TZID=America/New_York:20251015T150000
DTEND;TZID=America/New_York:20251015T160000
DTSTAMP:20260424T021537
CREATED:20250901T161417Z
LAST-MODIFIED:20250901T161417Z
UID:2160-1760540400-1760544000@marylandstemfestival.org
SUMMARY:Frankenstein Science
DESCRIPTION:Explore the science of Dr. Victor Frankenstein with monstrous multidisciplinary science experiments! Ages 6-11.
URL:https://marylandstemfestival.org/event/frankenstein-science/
LOCATION:Perryville Branch Library\, 500 Coudon Blvd.\, Perryville\, MD\, 21903\, United States
CATEGORIES:Chemistry,Engineering,Health,Physics
ORGANIZER;CN="Cecil County Public Library":MAILTO:kmclimans@cecilcountylibrary.org
END:VEVENT
BEGIN:VEVENT
DTSTART;TZID=America/New_York:20251017T130000
DTEND;TZID=America/New_York:20251017T140000
DTSTAMP:20260424T021537
CREATED:20250915T000142Z
LAST-MODIFIED:20250915T000142Z
UID:2287-1760706000-1760709600@marylandstemfestival.org
SUMMARY:Pumpkin Slime
DESCRIPTION:Celebrate STEAM and the creepy season by learning to make pumpkin slime.
URL:https://marylandstemfestival.org/event/pumpkin-slime/
LOCATION:Carroll County Public Library Taneytown\, 10 Grand Drive\, Taneytown\, MD\, 21787\, United States
CATEGORIES:Chemistry,Physics
ORGANIZER;CN="Carroll County Public Library":MAILTO:lpicker@carr.org
END:VEVENT
BEGIN:VEVENT
DTSTART;TZID=America/New_York:20251017T143000
DTEND;TZID=America/New_York:20251017T173000
DTSTAMP:20260424T021537
CREATED:20250930T122518Z
LAST-MODIFIED:20250930T122518Z
UID:2417-1760711400-1760722200@marylandstemfestival.org
SUMMARY:STEM Party in the Park
DESCRIPTION:Join the Mobile Library at Sudlersville Park for a day of fun where all ages can participate in a variety of STEM activities from snap circuits to microscopes and more! Refreshment will be provided\, feel free to bring your own snacks too!
URL:https://marylandstemfestival.org/event/stem-party-in-the-park/
LOCATION:Queen Anne’s County Library\, 121 S Commerce St\, Centreville\, MD\, 21617\, United States
CATEGORIES:Chemistry,Engineering,Technology
ORGANIZER;CN="Queen Anne's County Library":MAILTO:caitbyrnes@qaclibrary.org
END:VEVENT
BEGIN:VEVENT
DTSTART;TZID=America/New_York:20251017T153000
DTEND;TZID=America/New_York:20251017T163000
DTSTAMP:20260424T021537
CREATED:20251005T131632Z
LAST-MODIFIED:20251005T131632Z
UID:2543-1760715000-1760718600@marylandstemfestival.org
SUMMARY:STEM Fun: Pumpkin Palooza
DESCRIPTION:A STEM-based program for preschool-aged children all about our favorite orange gourd! \nParticipants will enhance their motor skills while using tweezers to count pumpkin seeds; practice the scientific method to estimate the height\, weight\, and circumference of provided pumpkins; and participate in a sensory experience by making slime inside of a real pumpkin! This program was designed for preschool and lower elementary aged children. Please register each child attending.
URL:https://marylandstemfestival.org/event/stem-fun-pumpkin-palooza/
LOCATION:St. Mary’s County Library\, 37600 New Market Road\, Charlotte Hall\, MD\, 20622\, United States
CATEGORIES:Chemistry,Food,Life Sciences,Mathematics
ORGANIZER;CN="St Mary's Library":MAILTO:jhutchison@stmalib.org
END:VEVENT
BEGIN:VEVENT
DTSTART;TZID=America/New_York:20251018T100000
DTEND;TZID=America/New_York:20251018T140000
DTSTAMP:20260424T021537
CREATED:20250912T181555Z
LAST-MODIFIED:20250912T181555Z
UID:2203-1760781600-1760796000@marylandstemfestival.org
SUMMARY:UMES Extension 4-H STEM Expo
DESCRIPTION:Join us on October 18th from 10 am to 2 pm for a day of hands-on interactive activities. The 2025 University of Maryland Eastern Shore Extension 4-H STEM Expo is a free event that is open to youth of all ages and their families. Located on the UMES campus in our Engineering & Aviation Sciences complex. \nAll are welcome\, whether you are a youth exploring the world of STEM or a parent looking for future opportunities to inspire the next generation. This is the event for you as the events goal is to promote STEM related organizations\, careers\, and degrees. \nThis years exhibitors include:\nUMES Professors from all STEM disciplines\nNASA Wallops Island\nPocomoke State Forrest\nNational Aquarium’s Animal Rescue Division\nAnd more…\nThe 2025 University of Maryland Eastern Shore Extension 4-H STEM Expo coordinated by the University of Maryland Eastern Shore Extension 4-H STEM faculty/staff will be held on Saturday\, October 18th \, 2025\, from 10:00 am to 2:00 pm. This event will once again be held inside (limited outside space could be used upon request) the UMES Engineering & Aviation Science Complex on campus in Princess Anne\, Maryland. \nWe invite you or a representative from your organization/department to offer an interactive exhibit at this year’s event. The UMES Extension 4-H STEM Festival is part of the broader Maryland STEM Festival\, whose statewide theme is “Energy” (do not worry about following this theme for our event). We ask all exhibitors to have an interactive display/activity station that promotes STEM related careers/degrees that your organization is connected to or meets the statewide theme. Our focus is youth in K-12 and families with past festival years drawing from 175 to 400 participants. \nEach exhibitor will be supplied with a table and 2 chairs (more tables or chairs available upon request). If you need electricity for your table\, please let us know through the JotForm below. The event starts at 10:00 am and we ask you to have your exhibit/activity set up by 9:30 am on October 18th 2025. Breakdown/clean up begins at 2:00 pm. \nPlease consider joining us for another great UMES Extension 4-H STEM Expo. To register your organization/group please complete the Exhibitor Registration Form (https://form.jotform.com/252195123635152 ). We kindly ask that you respond by Friday October 3rd 2025 to give us time to coordinate tables and space. \nPlease share this information with any colleagues or organizations that you think would be willing to take part or attend the event.
URL:https://marylandstemfestival.org/event/umes-extension-4-h-stem-expo/
LOCATION:UMES Engineering & Aviation Sciences Building\, 30690 University Blvd. S. Kiah Hall 1112\, Princess Anne\, MD\, 21853\, United States
CATEGORIES:Arts,Business and Careers,Chemistry,Earth and Space Science,Engineering,Food,Health,Life Sciences,Mathematics,Physics,Science and Society,Technology
ORGANIZER;CN="University of Maryland Eastern Shore Extension 4-H":MAILTO:amclay@umes.edu
END:VEVENT
BEGIN:VEVENT
DTSTART;TZID=America/New_York:20251018T110000
DTEND;TZID=America/New_York:20251018T120000
DTSTAMP:20260424T021537
CREATED:20251001T013316Z
LAST-MODIFIED:20251001T013316Z
UID:2429-1760785200-1760788800@marylandstemfestival.org
SUMMARY:Kids Discover: Pumpkin Sensory Bottles
DESCRIPTION:Join us for Kids Discover/Little Explorers STEM and create your own Pumpkin Patch Sensory Bottle. We’ll be exploring with orbeez (water beads) also. This event takes place on Saturday October 18th from 11am-12pm. Storytime and instruction begin promptly at 11am\, but the room is open to complete activities until 12pm. Registration required. Ages 3-10. Hope to see you there!
URL:https://marylandstemfestival.org/event/kids-discover-pumpkin-sensory-bottles/
LOCATION:Hagerstown Branch\, 100 S. Potomac St.\, Hagerstown\, MD\, 21740\, United States
CATEGORIES:Arts,Chemistry,Physics
ORGANIZER;CN="Washington County Free Library":MAILTO:jraab@washcolibrary.org
END:VEVENT
BEGIN:VEVENT
DTSTART;TZID=America/New_York:20251021T130000
DTEND;TZID=America/New_York:20251021T140000
DTSTAMP:20260424T021537
CREATED:20251001T013033Z
LAST-MODIFIED:20251001T013033Z
UID:2432-1761051600-1761055200@marylandstemfestival.org
SUMMARY:Home School at the Library
DESCRIPTION:Join us for a variety of STEM activities\, crafts and more. Please check with Clear Spring Branch manager for details of each month’s event.
URL:https://marylandstemfestival.org/event/home-school-at-the-library/
LOCATION:Clear Spring Library\, 12625 Broadfording Rd. Clear Spring\, MD 21722 US\, Clear Spring\, MD\, 21722\, United States
CATEGORIES:Chemistry,Earth and Space Science,Engineering,Life Sciences
ORGANIZER;CN="Washington County Free Library":MAILTO:jraab@washcolibrary.org
END:VEVENT
BEGIN:VEVENT
DTSTART;TZID=America/New_York:20251021T153000
DTEND;TZID=America/New_York:20251021T163000
DTSTAMP:20260424T021537
CREATED:20251001T001010Z
LAST-MODIFIED:20251001T001010Z
UID:2473-1761060600-1761064200@marylandstemfestival.org
SUMMARY:Spooky STEM: Slime Making
DESCRIPTION:The best kind of science is spooky science\, and what’s spookier than slime? Join us to make some colored slime and take it home with you!
URL:https://marylandstemfestival.org/event/spooky-stem-slime-making/
LOCATION:Edmondson Avenue Branch\, 4330 Edmondson Avenue\, Baltimore\, MD\, 21229\, United States
CATEGORIES:Arts,Chemistry
END:VEVENT
BEGIN:VEVENT
DTSTART;TZID=America/New_York:20251023T093000
DTEND;TZID=America/New_York:20251023T120000
DTSTAMP:20260424T021537
CREATED:20251001T112612Z
LAST-MODIFIED:20251017T201305Z
UID:2485-1761211800-1761220800@marylandstemfestival.org
SUMMARY:New Volunteer Orientation Session
DESCRIPTION:We are Montgomery County STEM Volunteer Program\, an educational non-profit (501 c3) organization of retired and working STEM (science\, technology\, engineering\, math) professionals who volunteer our time to go into MCPS schools to bring the real world of STEM into the classroom. We are holding our annual New Volunteer training/orientation session on October 23\, 9.00 am-Noon. If you have the background/experience and are interested in helping students get excited about STEM subjects and how they fit into our everyday lives\, we’d love to hear from you. It’s the start of the new school year so you will be making a valuable contribution to the next generation of STEM professionals. For more information about our program\, please visit the MCPS STEM Professional Volunteer Site: https://sites.google.com/mcpsmd.net/mcps-steam-mentors/mcps-steam-volunteer-program or contact me for more details: Robert Thomas\, MC STEM Volunteer Program Leader robert.james.thomas@verizon.net\, 301-717-0900 \n  \nJoin Zoom Meeting \nhttps://mcpsmd.zoom.us/j/88481113569?pwd=fmwVSbiOSLYPrdLiFRGutcaLh2HdHa.1 \nMeeting ID: 884 8111 3569 \nPasscode: 563708 \n 
URL:https://marylandstemfestival.org/event/new-volunteer-orientation-session/
LOCATION:Robert Thomas\, Team Leader\, MC STEM Volunteer Program via Zoom
CATEGORIES:Chemistry,Earth and Space Science,Environment,Health,Life Sciences,Mathematics,Physics,Science and Society,Technology
END:VEVENT
BEGIN:VEVENT
DTSTART;TZID=America/New_York:20251023T103000
DTEND;TZID=America/New_York:20251023T113000
DTSTAMP:20260424T021537
CREATED:20250912T185451Z
LAST-MODIFIED:20250912T185451Z
UID:2162-1761215400-1761219000@marylandstemfestival.org
SUMMARY:Full STEAM Ahead!
DESCRIPTION:Enjoy different STEAM activities each week in this hands-on program for young learners. Program designed for children ages 20 months – early 4s. Siblings welcome.
URL:https://marylandstemfestival.org/event/full-steam-ahead-3/
LOCATION:Perryville Branch Library\, 500 Coudon Blvd.\, Perryville\, MD\, 21903\, United States
CATEGORIES:Arts,Chemistry,Engineering,Mathematics,Technology
ORGANIZER;CN="Cecil County Public Library":MAILTO:kmclimans@cecilcountylibrary.org
END:VEVENT
BEGIN:VEVENT
DTSTART;TZID=America/New_York:20251024T160000
DTEND;TZID=America/New_York:20251024T180000
DTSTAMP:20260424T021537
CREATED:20251011T024730Z
LAST-MODIFIED:20251011T024730Z
UID:2627-1761321600-1761328800@marylandstemfestival.org
SUMMARY:DIY Hallowed Halloween Hand Melt Activity
DESCRIPTION:Celebrate Halloween with us by excavating frozen hands with themed toys trapped inside! \nWhy This Activity is Perfect for Everyone: \nCreative Exploration: Discover the best way to free spooky toys from icy hands. Will warm water work? What about salt? Try different methods!\nGuided Support: Our team will be there to assist and provide safety guidelines for a fun experience.\nHands-On Experiment: Perfect for kids who love hands-on activities and experimenting with new techniques and some spooky surprises to take home\nDetails: \nIncludes All Materials: We provide everything you need\, including padded gloves and safety glasses.\nWho Can Join: Open to all ages! Best suited for kids 5-8. Younger kids can participate using water only with adult assistance.\nRegistration: Advance registration is STRONGLY encouraged: We handcraft the frozen hands and need to know how many to make in advance. A few walks-ins can be accommodated and day-of payment can be made at the register.\nStop by during activity hours and join in the spooky fun!
URL:https://marylandstemfestival.org/event/diy-hallowed-halloween-hand-melt-activity/
LOCATION:Because Science\, 1759 columbia rd nw\, washington\, DC\, 20009\, United States
CATEGORIES:Arts,Chemistry,Science and Society
ORGANIZER;CN="Because Science":MAILTO:becausesciencedc@gmail.com
END:VEVENT
BEGIN:VEVENT
DTSTART;TZID=America/New_York:20251025T100000
DTEND;TZID=America/New_York:20251025T150000
DTSTAMP:20260424T021537
CREATED:20250925T121056Z
LAST-MODIFIED:20250925T121056Z
UID:2401-1761386400-1761404400@marylandstemfestival.org
SUMMARY:Morgan State University STEM Expo 2025
DESCRIPTION:Everyone is invited to the Morgan State University STEM Expo! Discover the latest in AI and machine learning through exciting STEM activities\, interactive games\, and hands-on workshops. Connect with our DSEC partners and explore opportunities for collaboration. This event is FREE so mark your calendars! Please register here: www.morgancemse.com \nDate: Saturday\, October 25\, 2025\nTime: 10:00 am —3:00 pm\nLocation: University Student Center\nAddress: 1700 East Cold Spring Lane\nBaltimore\, MD 21251 \nContact Person: Katrina Robinson\nEmail: katrina.robinson@morgan.edu\nPhone: 443 885-4407
URL:https://marylandstemfestival.org/event/morgan-state-university-stem-expo-2025/
LOCATION:Morgan State University\, 2040 E 32nd St\, Baltimore\, MD\, 21218\, United States
CATEGORIES:Chemistry,Earth and Space Science,Engineering,Health,Life Sciences,Mathematics,Physics,Science and Society,Technology
ORGANIZER;CN="morgan state university":MAILTO:katrina.robinson@morgan.edu
END:VEVENT
BEGIN:VEVENT
DTSTART;TZID=America/New_York:20251025T140000
DTEND;TZID=America/New_York:20251025T160000
DTSTAMP:20260424T021537
CREATED:20251011T025254Z
LAST-MODIFIED:20251011T025254Z
UID:2629-1761400800-1761408000@marylandstemfestival.org
SUMMARY:Spooky Slime Making
DESCRIPTION:Join us for a fun and creative slime-making session! Learn how to craft your own slime putty with all the supplies provided\, including spooky mix-ins. \nWhy You’ll Love This Activity: \nHands-On Experience: Perfect for anyone who enjoys getting crafty and learning a bit about slimes.\nTake-Home Creation: Leave with your very own custom slime putty!\nDetails: \nIncludes All Materials: We supply everything you need to make your slime and bags to take it home\nWho Can Join: Open to everyone—adults and kids welcome! Kids under 5 will need parental assistance.
URL:https://marylandstemfestival.org/event/spooky-slime-making/
LOCATION:Because Science\, 1759 columbia rd nw\, washington\, DC\, 20009\, United States
CATEGORIES:Arts,Chemistry,Science and Society
ORGANIZER;CN="Because Science":MAILTO:becausesciencedc@gmail.com
END:VEVENT
BEGIN:VEVENT
DTSTART;TZID=America/New_York:20251025T150000
DTEND;TZID=America/New_York:20251025T160000
DTSTAMP:20260424T021537
CREATED:20250916T123048Z
LAST-MODIFIED:20250916T123048Z
UID:2311-1761404400-1761408000@marylandstemfestival.org
SUMMARY:Ooey Gooey Science
DESCRIPTION:Get ready for some icky\, sticky\, gooey science — just in time for Halloween. Explore the ingredients and chemical reactions you need to make fluffy slime and create your own slippery\, slimy worms.
URL:https://marylandstemfestival.org/event/ooey-gooey-science/
LOCATION:Davis Library\, 6400 Democracy Blvd.\, Bethesda\, MD\, 20817\, United States
CATEGORIES:Chemistry
END:VEVENT
BEGIN:VEVENT
DTSTART;TZID=America/New_York:20251025T160000
DTEND;TZID=America/New_York:20251025T180000
DTSTAMP:20260424T021537
CREATED:20251011T025634Z
LAST-MODIFIED:20251011T025634Z
UID:2630-1761408000-1761415200@marylandstemfestival.org
SUMMARY:Invisible Ink pH Painting
DESCRIPTION:Use pH indicator paper and everyday liquids to reveal hidden hues and make one-of-a-kind artwork. \nWhy You’ll Love This Activity: \n? Science Meets Art: Explore the magic of acids and bases as pH indicators react to create stunning\, unexpected color patterns. \n?? Creative & Educational: Perfect for budding artists and curious scientists alike. No two pieces will be the same!
URL:https://marylandstemfestival.org/event/invisible-ink-ph-painting/
LOCATION:Because Science\, 1759 columbia rd nw\, washington\, DC\, 20009\, United States
CATEGORIES:Arts,Chemistry,Science and Society
ORGANIZER;CN="Because Science":MAILTO:becausesciencedc@gmail.com
END:VEVENT
BEGIN:VEVENT
DTSTART;TZID=America/New_York:20251025T220000
DTEND;TZID=America/New_York:20251025T233000
DTSTAMP:20260424T021537
CREATED:20251015T125757Z
LAST-MODIFIED:20251015T125757Z
UID:2696-1761429600-1761435000@marylandstemfestival.org
SUMMARY:It's Electric! Bacterial Batteries
DESCRIPTION:This hands-on workshop will make use of Mudwatts to create bacterial batteries! We will explain how electro-microbiology works and how it is currently used. \nWe have a limited supply (only 10!) mudwatts. So\, there are 10 available tickets for people who want to build their own MudWatt that they can take home. But…there are also more tickets available for people who want to attend but not build their own Mudwatt (maybe you are sharing and building together with a partner\, sibling\, family member\, friend-all welcome!) \nIn this workshop\, you will discover the power of electricity-generating bacteria living in the soil beneath our feet! Best of all\, you will get to keep and take home your mudwatt to run a long-term experiment using the MudWatt Explorer App! MudWatts are reusable and can last for years! \nClass is appropriate for anyone in third grade and up!
URL:https://marylandstemfestival.org/event/its-electric-bacterial-batteries/
LOCATION:Baltimore Underground Science Space (BUGSS)\, 101 N Haven St\, Baltimore\, MD\, 21224\, United States
CATEGORIES:Chemistry,Earth and Space Science,Engineering,Life Sciences,Physics,Technology
END:VEVENT
BEGIN:VEVENT
DTSTART;TZID=America/New_York:20251027T170000
DTEND;TZID=America/New_York:20251027T180000
DTSTAMP:20260424T021537
CREATED:20251025T125510Z
LAST-MODIFIED:20251025T125510Z
UID:2757-1761584400-1761588000@marylandstemfestival.org
SUMMARY:Build a Candy DNA Model
DESCRIPTION:Build a DNA model from sweet\, colorful candy!
URL:https://marylandstemfestival.org/event/build-a-candy-dna-model/
LOCATION:Wheaton Library\, 11701 Georgia Ave\, Wheaton\, MD\, 20902\, United States
CATEGORIES:Chemistry,Food,Health,Life Sciences
END:VEVENT
BEGIN:VEVENT
DTSTART;TZID=America/New_York:20251030T140000
DTEND;TZID=America/New_York:20251030T160000
DTSTAMP:20260424T021537
CREATED:20250901T033731Z
LAST-MODIFIED:20250901T033731Z
UID:2106-1761832800-1761840000@marylandstemfestival.org
SUMMARY:STEM Tinker Lab: Spooky Science
DESCRIPTION:Get creative and inventive with eerie STEM-based activities that are equal parts creepy and cool.
URL:https://marylandstemfestival.org/event/stem-tinker-lab-spooky-science/
LOCATION:1275 Green Holly Dr\, Annapolis\, MD 21409 ANNAPOLIS\, MD 21409 US\, 1275 Green Holly Dr\, Annapolis\, MD\, 21409\, United States
CATEGORIES:Chemistry,Engineering,Technology
END:VEVENT
BEGIN:VEVENT
DTSTART;TZID=America/New_York:20251030T160000
DTEND;TZID=America/New_York:20251030T170000
DTSTAMP:20260424T021537
CREATED:20250907T152104Z
LAST-MODIFIED:20250907T152104Z
UID:2166-1761840000-1761843600@marylandstemfestival.org
SUMMARY:Boo! Spooky STEM Lab
DESCRIPTION:Watch science come to life with a growing ghost powered by a bubbling chemical reaction! Then\, create your own glowing pet ghost to light up the night! Ages 6-11.
URL:https://marylandstemfestival.org/event/boo-spooky-stem-lab/
LOCATION:Rising Sun  Branch Library\, 111 Colonial Way\, Rising Sun\, MD\, 21911\, United States
CATEGORIES:Chemistry
ORGANIZER;CN="Cecil County Public Library":MAILTO:kmclimans@cecilcountylibrary.org
END:VEVENT
BEGIN:VEVENT
DTSTART;TZID=America/New_York:20251030T163000
DTEND;TZID=America/New_York:20251030T173000
DTSTAMP:20260424T021537
CREATED:20250814T023639Z
LAST-MODIFIED:20250814T023639Z
UID:2083-1761841800-1761845400@marylandstemfestival.org
SUMMARY:Halloween STEAM!
DESCRIPTION:Join us for some scary good crafts and experiments!
URL:https://marylandstemfestival.org/event/halloween-steam/
LOCATION:Ocean Pines Library\, 11107 Cathell Road\, Berlin\, MD\, 21811\, United States
CATEGORIES:Chemistry,Engineering,Science and Society
ORGANIZER;CN="Worcester County Library":MAILTO:sarena@worcesterlibrary.org
END:VEVENT
END:VCALENDAR