BEGIN:VCALENDAR
VERSION:2.0
PRODID:-//Maryland STEM Festival - ECPv6.15.20//NONSGML v1.0//EN
CALSCALE:GREGORIAN
METHOD:PUBLISH
X-WR-CALNAME:Maryland STEM Festival
X-ORIGINAL-URL:https://marylandstemfestival.org
X-WR-CALDESC:Events for Maryland STEM Festival
REFRESH-INTERVAL;VALUE=DURATION:PT1H
X-Robots-Tag:noindex
X-PUBLISHED-TTL:PT1H
BEGIN:VTIMEZONE
TZID:America/New_York
BEGIN:DAYLIGHT
TZOFFSETFROM:-0500
TZOFFSETTO:-0400
TZNAME:EDT
DTSTART:20240310T070000
END:DAYLIGHT
BEGIN:STANDARD
TZOFFSETFROM:-0400
TZOFFSETTO:-0500
TZNAME:EST
DTSTART:20241103T060000
END:STANDARD
BEGIN:DAYLIGHT
TZOFFSETFROM:-0500
TZOFFSETTO:-0400
TZNAME:EDT
DTSTART:20250309T070000
END:DAYLIGHT
BEGIN:STANDARD
TZOFFSETFROM:-0400
TZOFFSETTO:-0500
TZNAME:EST
DTSTART:20251102T060000
END:STANDARD
BEGIN:DAYLIGHT
TZOFFSETFROM:-0500
TZOFFSETTO:-0400
TZNAME:EDT
DTSTART:20260308T070000
END:DAYLIGHT
BEGIN:STANDARD
TZOFFSETFROM:-0400
TZOFFSETTO:-0500
TZNAME:EST
DTSTART:20261101T060000
END:STANDARD
BEGIN:DAYLIGHT
TZOFFSETFROM:-0500
TZOFFSETTO:-0400
TZNAME:EDT
DTSTART:20270314T070000
END:DAYLIGHT
BEGIN:STANDARD
TZOFFSETFROM:-0400
TZOFFSETTO:-0500
TZNAME:EST
DTSTART:20271107T060000
END:STANDARD
END:VTIMEZONE
BEGIN:VEVENT
DTSTART;TZID=America/New_York:20251117T130000
DTEND;TZID=America/New_York:20251117T140000
DTSTAMP:20260424T052823
CREATED:20250830T154502Z
LAST-MODIFIED:20250830T154502Z
UID:2181-1763384400-1763388000@marylandstemfestival.org
SUMMARY:Kids' Academy: Salt Painting
DESCRIPTION:Explore the principle of hygroscopy\, where salt attracts and absorbs water molecules. Create unique textures and designs by adding watercolor. Ages 6-11. \nA monthly educational activity for students in homeschool and non-traditional school settings.
URL:https://marylandstemfestival.org/event/kids-academy-salt-painting/
LOCATION:North East Branch\, 485 Mauldin Avenue\, North East\, MD\, 20901\, United States
CATEGORIES:Arts,Chemistry
ORGANIZER;CN="Cecil County Public Library":MAILTO:kmclimans@cecilcountylibrary.org
END:VEVENT
BEGIN:VEVENT
DTSTART;TZID=America/New_York:20251117T160000
DTEND;TZID=America/New_York:20251117T170000
DTSTAMP:20260424T052823
CREATED:20250930T225900Z
LAST-MODIFIED:20250930T225900Z
UID:2484-1763395200-1763398800@marylandstemfestival.org
SUMMARY:Science Heroes Presents: Adventure of the Missing Color
DESCRIPTION:Join Science Heroes on their mission to turn science into an adventure! \nDiscover how fun and colorful science can be through hands-on experiments all about: \nchemical reactions\nair pressure\nphysical explosions\nand more!\nDon’t miss this exciting and interactive STEM learning adventure!
URL:https://marylandstemfestival.org/event/science-heroes-presents-adventure-of-the-missing-color/
LOCATION:Southeast Anchor\, 3601 Eastern Avenue\, Baltimore\, MD\, 21224\, United States
CATEGORIES:Chemistry,Physics,Technology
END:VEVENT
BEGIN:VEVENT
DTSTART;TZID=America/New_York:20251117T173000
DTEND;TZID=America/New_York:20251117T183000
DTSTAMP:20260424T052823
CREATED:20250902T200550Z
LAST-MODIFIED:20250902T200550Z
UID:2214-1763400600-1763404200@marylandstemfestival.org
SUMMARY:Fingerprinting Fun!
DESCRIPTION:One of a kind; each of us have fingerprints but no two fingerprints are exactly alike! Engage in hands-on learning activities to step into the shoes of a Latent Print Examiner.
URL:https://marylandstemfestival.org/event/fingerprinting-fun/
LOCATION:Savage Branch Library\, 9525 Durness Lane\, Laurel\, MD\, 20723\, United States
CATEGORIES:Arts,Chemistry,Engineering,Mathematics,Science and Society,Technology
END:VEVENT
BEGIN:VEVENT
DTSTART;TZID=America/New_York:20251119T153000
DTEND;TZID=America/New_York:20251119T163000
DTSTAMP:20260424T052823
CREATED:20250830T152636Z
LAST-MODIFIED:20250830T152636Z
UID:2183-1763566200-1763569800@marylandstemfestival.org
SUMMARY:Salt Painting
DESCRIPTION:Explore the principle of hygroscopy\, where salt attracts and absorbs water molecules. Create unique textures and designs by adding watercolor. Ages 6-11.
URL:https://marylandstemfestival.org/event/salt-painting/
LOCATION:North East Branch\, 485 Mauldin Avenue\, North East\, MD\, 20901\, United States
CATEGORIES:Arts,Chemistry
ORGANIZER;CN="Cecil County Public Library":MAILTO:kmclimans@cecilcountylibrary.org
END:VEVENT
BEGIN:VEVENT
DTSTART;TZID=America/New_York:20260319T160000
DTEND;TZID=America/New_York:20260319T180000
DTSTAMP:20260424T052823
CREATED:20251113T124729Z
LAST-MODIFIED:20251113T124729Z
UID:2806-1773936000-1773943200@marylandstemfestival.org
SUMMARY:Family STEAM Night
DESCRIPTION:STEAM Night is a dynamic\, two-hour event featuring 15 hands-on\, student-led and guest-presenter activities\, including a planetarium\, that highlight engaging concepts in energy and energy transfer\, with participation from valued community partners such as the University of Maryland\, the Department of Public Works\, The NEED Project\, and Constellation.
URL:https://marylandstemfestival.org/event/family-steam-night/
LOCATION:KIPP Harmony Academy\, 2000 Edgewood Street\, Baltimore\, MD\, 21085\, United States
CATEGORIES:Chemistry,Engineering,Life Sciences,Physics,Science and Society
ORGANIZER;CN="KIPP Harmony Academy":MAILTO:pkendall@kippbaltimore.org
END:VEVENT
END:VCALENDAR