BEGIN:VCALENDAR
VERSION:2.0
PRODID:-//Maryland STEM Festival - ECPv6.15.20//NONSGML v1.0//EN
CALSCALE:GREGORIAN
METHOD:PUBLISH
X-ORIGINAL-URL:https://marylandstemfestival.org
X-WR-CALDESC:Events for Maryland STEM Festival
REFRESH-INTERVAL;VALUE=DURATION:PT1H
X-Robots-Tag:noindex
X-PUBLISHED-TTL:PT1H
BEGIN:VTIMEZONE
TZID:America/New_York
BEGIN:DAYLIGHT
TZOFFSETFROM:-0500
TZOFFSETTO:-0400
TZNAME:EDT
DTSTART:20240310T070000
END:DAYLIGHT
BEGIN:STANDARD
TZOFFSETFROM:-0400
TZOFFSETTO:-0500
TZNAME:EST
DTSTART:20241103T060000
END:STANDARD
BEGIN:DAYLIGHT
TZOFFSETFROM:-0500
TZOFFSETTO:-0400
TZNAME:EDT
DTSTART:20250309T070000
END:DAYLIGHT
BEGIN:STANDARD
TZOFFSETFROM:-0400
TZOFFSETTO:-0500
TZNAME:EST
DTSTART:20251102T060000
END:STANDARD
BEGIN:DAYLIGHT
TZOFFSETFROM:-0500
TZOFFSETTO:-0400
TZNAME:EDT
DTSTART:20260308T070000
END:DAYLIGHT
BEGIN:STANDARD
TZOFFSETFROM:-0400
TZOFFSETTO:-0500
TZNAME:EST
DTSTART:20261101T060000
END:STANDARD
END:VTIMEZONE
BEGIN:VEVENT
DTSTART;TZID=America/New_York:20251017T110000
DTEND;TZID=America/New_York:20251017T120000
DTSTAMP:20260420T044316
CREATED:20251011T021145Z
LAST-MODIFIED:20251011T021145Z
UID:2608-1760698800-1760702400@marylandstemfestival.org
SUMMARY:Sally Ride - Reach for the Stars
DESCRIPTION:Award-winning actress and Smithsonian scholar Mary Ann Jung presents her fascinating STEM show. This lively program has delighted audiences at the Kennedy Space Center and the National Air and Space Museum. Blast off for adventure with Dr. Sally Ride and learn about her journey and its challenges.
URL:https://marylandstemfestival.org/event/sally-ride-reach-for-the-stars-2/
LOCATION:Baltimore County Public Library – Catonsville Branch\, 1100 Frederick Road\, Catonsville\, MD\, 21228\, United States
CATEGORIES:Earth and Space Science
ORGANIZER;CN="Baltimore County Public Library":MAILTO:cstrittmatter@bcpl.net
END:VEVENT
BEGIN:VEVENT
DTSTART;TZID=America/New_York:20251017T140000
DTEND;TZID=America/New_York:20251017T150000
DTSTAMP:20260420T044316
CREATED:20251010T130004Z
LAST-MODIFIED:20251010T130004Z
UID:2609-1760709600-1760713200@marylandstemfestival.org
SUMMARY:Electricity and Magnetism With The Science Guys of Baltimore
DESCRIPTION:Test your strength with our electromagnet tug of war\, launch rings into the air with our electromagnetic pulse generator and watch sparks fly and prove the difference between insulators and conductors with our Tesla coil. At the end of the show\, all of the kids will get to shock their friends as a part of our human circuit.
URL:https://marylandstemfestival.org/event/electricity-and-magnetism-with-the-science-guys-of-baltimore/
LOCATION:Rosedale Library\, 6105 Kenwood Ave\, Rosedale\, MD\, 21237\, United States
CATEGORIES:Earth and Space Science
ORGANIZER;CN="Baltimore County Public Library":MAILTO:cstrittmatter@bcpl.net
END:VEVENT
BEGIN:VEVENT
DTSTART;TZID=America/New_York:20251017T190000
DTEND;TZID=America/New_York:20251017T210000
DTSTAMP:20260420T044316
CREATED:20250912T182801Z
LAST-MODIFIED:20250912T182801Z
UID:2265-1760727600-1760734800@marylandstemfestival.org
SUMMARY:Discover the Night Sky!
DESCRIPTION:Join the Westminster Astronomical Society and CCPL’s Finksburg Branch for an evening of stargazing with inexpensive high-tech telescopes. Start by learning about the telescopes and the wonders of the night sky. Then\, weather permitting\, step outside to explore celestial sights like the Andromeda Galaxy\, Bubble Nebula\, Ghost of Cassiopeia\, and more! \n  \n 
URL:https://marylandstemfestival.org/event/discover-the-night-sky/
LOCATION:Finksburg Branch\, 2265 Old Westminster Pike\, Finksburg\, MD\, 21048\, United States
CATEGORIES:Earth and Space Science
ORGANIZER;CN="Carroll County Public Library":MAILTO:lpicker@carr.org
END:VEVENT
END:VCALENDAR