BEGIN:VCALENDAR
VERSION:2.0
PRODID:-//Maryland STEM Festival - ECPv6.15.20//NONSGML v1.0//EN
CALSCALE:GREGORIAN
METHOD:PUBLISH
X-ORIGINAL-URL:https://marylandstemfestival.org
X-WR-CALDESC:Events for Maryland STEM Festival
REFRESH-INTERVAL;VALUE=DURATION:PT1H
X-Robots-Tag:noindex
X-PUBLISHED-TTL:PT1H
BEGIN:VTIMEZONE
TZID:America/New_York
BEGIN:DAYLIGHT
TZOFFSETFROM:-0500
TZOFFSETTO:-0400
TZNAME:EDT
DTSTART:20240310T070000
END:DAYLIGHT
BEGIN:STANDARD
TZOFFSETFROM:-0400
TZOFFSETTO:-0500
TZNAME:EST
DTSTART:20241103T060000
END:STANDARD
BEGIN:DAYLIGHT
TZOFFSETFROM:-0500
TZOFFSETTO:-0400
TZNAME:EDT
DTSTART:20250309T070000
END:DAYLIGHT
BEGIN:STANDARD
TZOFFSETFROM:-0400
TZOFFSETTO:-0500
TZNAME:EST
DTSTART:20251102T060000
END:STANDARD
BEGIN:DAYLIGHT
TZOFFSETFROM:-0500
TZOFFSETTO:-0400
TZNAME:EDT
DTSTART:20260308T070000
END:DAYLIGHT
BEGIN:STANDARD
TZOFFSETFROM:-0400
TZOFFSETTO:-0500
TZNAME:EST
DTSTART:20261101T060000
END:STANDARD
END:VTIMEZONE
BEGIN:VEVENT
DTSTART;TZID=America/New_York:20251116T110000
DTEND;TZID=America/New_York:20251116T113000
DTSTAMP:20260423T025153
CREATED:20251107T160051Z
LAST-MODIFIED:20251107T160051Z
UID:2794-1763290800-1763292600@marylandstemfestival.org
SUMMARY:The Chesapeake Mermaid Show
DESCRIPTION:Join us for story time\, crafts\, and lots of fun activities each day of the Waterfowl Festival! There will be opportunities for one-on-one pictures with the mermaid after the shows. The Chesapeake Mermaid is a traveling nature show that focuses on oysters as a critical element in restoring balance to the Bay.  This shows runs on 11/14\, 11/15 and 11/16
URL:https://marylandstemfestival.org/event/the-chesapeake-mermaid-show-3/
LOCATION:Talbot County Free Library\, Easton Branch\, 100 W. Dover St\, Easton\, MD\, 21601\, United States
CATEGORIES:Earth and Space Science,Life Sciences
ORGANIZER;CN="Talbot County Free Library":MAILTO:ssimonson@tcfl.org
END:VEVENT
BEGIN:VEVENT
DTSTART;TZID=America/New_York:20251118T110000
DTEND;TZID=America/New_York:20251118T120000
DTSTAMP:20260423T025153
CREATED:20250830T152825Z
LAST-MODIFIED:20250830T152825Z
UID:2182-1763463600-1763467200@marylandstemfestival.org
SUMMARY:Preschool Science: Dinosaurs
DESCRIPTION:Learn more about dinosaurs through exploration and hands-on activities. Ages 3-5.
URL:https://marylandstemfestival.org/event/preschool-science-dinosaurs/
LOCATION:Rising Sun  Branch Library\, 111 Colonial Way\, Rising Sun\, MD\, 21911\, United States
CATEGORIES:Earth and Space Science
ORGANIZER;CN="Cecil County Public Library":MAILTO:kmclimans@cecilcountylibrary.org
END:VEVENT
END:VCALENDAR