BEGIN:VCALENDAR
VERSION:2.0
PRODID:-//Maryland STEM Festival - ECPv6.15.20//NONSGML v1.0//EN
CALSCALE:GREGORIAN
METHOD:PUBLISH
X-ORIGINAL-URL:https://marylandstemfestival.org
X-WR-CALDESC:Events for Maryland STEM Festival
REFRESH-INTERVAL;VALUE=DURATION:PT1H
X-Robots-Tag:noindex
X-PUBLISHED-TTL:PT1H
BEGIN:VTIMEZONE
TZID:America/New_York
BEGIN:DAYLIGHT
TZOFFSETFROM:-0500
TZOFFSETTO:-0400
TZNAME:EDT
DTSTART:20240310T070000
END:DAYLIGHT
BEGIN:STANDARD
TZOFFSETFROM:-0400
TZOFFSETTO:-0500
TZNAME:EST
DTSTART:20241103T060000
END:STANDARD
BEGIN:DAYLIGHT
TZOFFSETFROM:-0500
TZOFFSETTO:-0400
TZNAME:EDT
DTSTART:20250309T070000
END:DAYLIGHT
BEGIN:STANDARD
TZOFFSETFROM:-0400
TZOFFSETTO:-0500
TZNAME:EST
DTSTART:20251102T060000
END:STANDARD
BEGIN:DAYLIGHT
TZOFFSETFROM:-0500
TZOFFSETTO:-0400
TZNAME:EDT
DTSTART:20260308T070000
END:DAYLIGHT
BEGIN:STANDARD
TZOFFSETFROM:-0400
TZOFFSETTO:-0500
TZNAME:EST
DTSTART:20261101T060000
END:STANDARD
END:VTIMEZONE
BEGIN:VEVENT
DTSTART;TZID=America/New_York:20251029T140000
DTEND;TZID=America/New_York:20251029T150000
DTSTAMP:20260423T002417
CREATED:20250907T152528Z
LAST-MODIFIED:20250907T152528Z
UID:2232-1761746400-1761750000@marylandstemfestival.org
SUMMARY:LEGO Spike Essentials Build Session
DESCRIPTION:Using Lego Spike Essentials\, participants will build fun and exciting LEGO builds and then bring them to life\, all while learning about programming and coding! \nThis is a registration-only program for children ages 6 and up\, so please make sure to register in advance! \nIf you have questions\, please contact the Potomac Branch at 301-375-7375 or email potomacref@ccplonline.org.
URL:https://marylandstemfestival.org/event/lego-spike-essentials-build-session/
LOCATION:Charles County Public Library\, 10405 O'Donnell Place\, Waldorf\, MD\, 20603\, United States
CATEGORIES:Engineering,Technology
ORGANIZER;CN="Charles County Public Library":MAILTO:rdavis@ccplonline.org
END:VEVENT
BEGIN:VEVENT
DTSTART;TZID=America/New_York:20251029T150000
DTEND;TZID=America/New_York:20251029T160000
DTSTAMP:20260423T002417
CREATED:20251001T005240Z
LAST-MODIFIED:20251001T005240Z
UID:2474-1761750000-1761753600@marylandstemfestival.org
SUMMARY:Sphero’s Trick or Treat Adventure
DESCRIPTION:Use your coding skills to guide Sphero Bolt through a spooky Halloween maze! In this interactive program\, you’ll learn how to program Sphero to find its way to the end of the course\, add sound effects and bring Sphero to life with exciting animations as it travels through the maze.
URL:https://marylandstemfestival.org/event/spheros-trick-or-treat-adventure/
LOCATION:Pennslyvannia Avenue Branch\, 1531 W. North Avenue\, Baltimore\, MD\, 21217\, United States
CATEGORIES:Engineering,Mathematics,Physics,Technology
END:VEVENT
BEGIN:VEVENT
DTSTART;TZID=America/New_York:20251029T180000
DTEND;TZID=America/New_York:20251029T193000
DTSTAMP:20260423T002417
CREATED:20251010T190226Z
LAST-MODIFIED:20251010T190624Z
UID:2639-1761760800-1761766200@marylandstemfestival.org
SUMMARY:Catapult Challenge
DESCRIPTION:Students will learn how to collect and organize data while performing experiments using a self-built catapult. Students will analyze data using formulas in a spreadsheet.  Classs runs on 10/29\, 11/5\, 11/12 and 11/19
URL:https://marylandstemfestival.org/event/catapult-challenge/
LOCATION:Converge Innovation Center\, 1201 Technology Drive\, Aberdeen\, MD\, 21001\, United States
CATEGORIES:Engineering,Mathematics
ORGANIZER;CN="Energetics Technology Center":MAILTO:vto@etcmd.com
END:VEVENT
END:VCALENDAR