BEGIN:VCALENDAR
VERSION:2.0
PRODID:-//Maryland STEM Festival - ECPv6.15.20//NONSGML v1.0//EN
CALSCALE:GREGORIAN
METHOD:PUBLISH
X-WR-CALNAME:Maryland STEM Festival
X-ORIGINAL-URL:https://marylandstemfestival.org
X-WR-CALDESC:Events for Maryland STEM Festival
REFRESH-INTERVAL;VALUE=DURATION:PT1H
X-Robots-Tag:noindex
X-PUBLISHED-TTL:PT1H
BEGIN:VTIMEZONE
TZID:America/New_York
BEGIN:DAYLIGHT
TZOFFSETFROM:-0500
TZOFFSETTO:-0400
TZNAME:EDT
DTSTART:20240310T070000
END:DAYLIGHT
BEGIN:STANDARD
TZOFFSETFROM:-0400
TZOFFSETTO:-0500
TZNAME:EST
DTSTART:20241103T060000
END:STANDARD
BEGIN:DAYLIGHT
TZOFFSETFROM:-0500
TZOFFSETTO:-0400
TZNAME:EDT
DTSTART:20250309T070000
END:DAYLIGHT
BEGIN:STANDARD
TZOFFSETFROM:-0400
TZOFFSETTO:-0500
TZNAME:EST
DTSTART:20251102T060000
END:STANDARD
BEGIN:DAYLIGHT
TZOFFSETFROM:-0500
TZOFFSETTO:-0400
TZNAME:EDT
DTSTART:20260308T070000
END:DAYLIGHT
BEGIN:STANDARD
TZOFFSETFROM:-0400
TZOFFSETTO:-0500
TZNAME:EST
DTSTART:20261101T060000
END:STANDARD
END:VTIMEZONE
BEGIN:VEVENT
DTSTART;TZID=America/New_York:20251108T093000
DTEND;TZID=America/New_York:20251108T113000
DTSTAMP:20260420T062617
CREATED:20250910T151106Z
LAST-MODIFIED:20250910T151106Z
UID:2280-1762594200-1762601400@marylandstemfestival.org
SUMMARY:Pumpkin Smash at Mt. Airy Library
DESCRIPTION:FRC Team 2199 “Robo-Lions” presents their Pumpkin Smashing Robots
URL:https://marylandstemfestival.org/event/pumpkin-smash-at-mt-airy-library/
LOCATION:Mt Airy Branch\, 705 Ridge Avenue\, Mt Airy\, MD\, 21771\, United States
CATEGORIES:Engineering
ORGANIZER;CN="Carroll County Public Library":MAILTO:lpicker@carr.org
END:VEVENT
BEGIN:VEVENT
DTSTART;TZID=America/New_York:20251108T100000
DTEND;TZID=America/New_York:20251108T140000
DTSTAMP:20260420T062617
CREATED:20251012T185438Z
LAST-MODIFIED:20251012T232534Z
UID:2677-1762596000-1762610400@marylandstemfestival.org
SUMMARY:Western Maryland STEM Festival
DESCRIPTION:There will be STEM activities and demos for everyone featuring Superstar Steve Spangler.  Click here for details.
URL:https://marylandstemfestival.org/event/western-maryland-stem-festival/
LOCATION:Frostburg State University\, 101 Braddock Road\, Dundalk\, Maryland\, 21224
CATEGORIES:Engineering,Life Sciences,Mathematics,Robotics,Science and Society,Technology
END:VEVENT
BEGIN:VEVENT
DTSTART;TZID=America/New_York:20251108T100000
DTEND;TZID=America/New_York:20251108T160000
DTSTAMP:20260420T062617
CREATED:20251001T004056Z
LAST-MODIFIED:20251001T004056Z
UID:2452-1762596000-1762617600@marylandstemfestival.org
SUMMARY:STEM-Fest: Signaling the Future
DESCRIPTION:Join the National Cryptologic Museum for the 11th Annual STEM Fest! Explore a world of discovery where science\, technology\, engineering and math come together! \nGet ready for hands-on exhibits\, exciting activities and industry experts that will help spark curiosity and creativity! \nThe NCM is partnering with the Maryland STEM Festival for the 11th consecutive year. It’s a chance to explore the latest innovations in the STEM fields and have a family fun adventure! STEM Fest is free and open to the public. Just drop by!
URL:https://marylandstemfestival.org/event/stem-fest-signaling-the-future/
LOCATION:National Cryptologic Museum\, 8290 Colony 7 Road Annapolis Junction\, MD\, annapolis Junction\, MD\, 20701\, United States
CATEGORIES:Cybersecurity,Engineering,Mathematics,Science and Society
END:VEVENT
BEGIN:VEVENT
DTSTART;TZID=America/New_York:20251108T100000
DTEND;TZID=America/New_York:20251108T170000
DTSTAMP:20260420T062617
CREATED:20251005T131955Z
LAST-MODIFIED:20251021T224839Z
UID:2550-1762596000-1762621200@marylandstemfestival.org
SUMMARY:Basic Seamanship & Vessel Operations
DESCRIPTION:Learn the basics of seamanship and vessel operations with CBMM’s Shipyard Educator Steve Garrand and Schooner Sultana Capt. Kate Dumhart. Students will gain experience aboard two vessels\, a modern outboard powered 16-foot skiff and a traditional inboard powered 29-foot Smith Island crab scrape\, plus 1909 crab dredger Old Point. In this class\, we will introduce you to the skills needed to gain confidence out on the water and confidence means more fun! \nIn this class expect to learn: \nBasic dock line management\, coiling\, stowing\, cleat hitches and some easy to learn knots\, as well as strategies for tying up your boat in different scenarios\nThe theory and practice of close quarters maneuvering on and off the dock as well as getting on and off the anchor\nStrategies for man overboard retrieval\nRules of the Road basics and VHF operations and etiquette\nThis program is supported through CBMM’s Regional Folklife Center under the Maryland Traditions program of the Maryland State Arts Council. \nBasic Seamanship & Vessel Operations\nDate/Time: Saturday & Sunday\, Nov. 8-9\, 10am-5pm\nLocation: CBMM’s docks & waterfront\nCost: $300\, with a 20% discount for CBMM members
URL:https://marylandstemfestival.org/event/basic-seamanship-vessel-operations/
LOCATION:Chesapeake Bay Maritime Museum\, 213 North Talbot St.\, St. Michaels\, MD\, 21663\, United States
CATEGORIES:Business and Careers,Engineering,Technology
ORGANIZER;CN="Chesapeake Children's Museum":MAILTO:debbie@theccm.org
END:VEVENT
BEGIN:VEVENT
DTSTART;TZID=America/New_York:20251108T103000
DTEND;TZID=America/New_York:20251108T113000
DTSTAMP:20260420T062617
CREATED:20251024T115412Z
LAST-MODIFIED:20251024T115412Z
UID:2746-1762597800-1762601400@marylandstemfestival.org
SUMMARY:STEM at the Chevy Chase Library: Egg Drop Engineering Challenge - Presented by Science Connections
DESCRIPTION:Calling all future NASA engineers! Join Michelle Bertke of Science Connections to test out your design and construction skills. Learn how NASA engineers landed the most recent rover\, Perseverance\, on Mars in February 2021. Apply some of the same techniques they used to plan\, build\, and test out your very own creation. Can you complete the challenge: to protect your raw egg cargo from a 10-foot drop!! \nScience Connections specializes in exploring STEM (science\, technology\, engineering\, math) topics with hands-on activities that bring science alive. Each program and activity has been designed with Next Generation Science Standards in mind to ensure that it is not only fun but also educational. We will provide all of the materials for this program. \nFor 6-10 year olds \nSpace is limited. Register on our website! \nGenerously sponsored by the Friends of the Chevy Chase Library \nLocation: Chevy Chase Library Meeting Room (lower level) \nQuestions about this program? Contact the Chevy Chase Library at 240-773-9590
URL:https://marylandstemfestival.org/event/stem-at-the-chevy-chase-library-egg-drop-engineering-challenge-presented-by-science-connections/
LOCATION:Chevy Chase Library\, 8005 Connecticut Ave.\, Chevy Chase\, MD\, 20815\, United States
CATEGORIES:Earth and Space Science,Engineering,Physics
END:VEVENT
BEGIN:VEVENT
DTSTART;TZID=America/New_York:20251108T133000
DTEND;TZID=America/New_York:20251108T150000
DTSTAMP:20260420T062617
CREATED:20250910T150656Z
LAST-MODIFIED:20250910T150656Z
UID:2281-1762608600-1762614000@marylandstemfestival.org
SUMMARY:Pumpkin Smash at Westminster Library
DESCRIPTION:FRC Team 2199 “Robo-Lions” present their Pumpkin Smashing Robots
URL:https://marylandstemfestival.org/event/pumpkin-smash-at-westminster-library/
LOCATION:Westminster Branch\, 50 East Main Street\, Westminster\, MD\, 21157\, United States
CATEGORIES:Engineering
ORGANIZER;CN="Carroll County Public Library":MAILTO:lpicker@carr.org
END:VEVENT
BEGIN:VEVENT
DTSTART;TZID=America/New_York:20251108T140000
DTEND;TZID=America/New_York:20251108T150000
DTSTAMP:20260420T062617
CREATED:20250917T121831Z
LAST-MODIFIED:20250917T121831Z
UID:2321-1762610400-1762614000@marylandstemfestival.org
SUMMARY:Robot Pumpkin Smash
DESCRIPTION:Join the Robo-Lions\, a team of students\, as they fire up their robots for Robot Pumpkin Smash! Find out how long it takes a robot to crack open a pumpkin. This program is a collaboration between PIE3 (Partnership in Inspiration for Engineering Education and Entrepreneurship)\, Robo-Lions\, and Carroll County Public Library.
URL:https://marylandstemfestival.org/event/robot-pumpkin-smash-5/
LOCATION:Carroll County Public Library Westminster location\, 50 East Main Street\, Westminster\, MD\, 21157\, United States
CATEGORIES:Engineering,Technology
ORGANIZER;CN="Carroll County Public Library":MAILTO:lpicker@carr.org
END:VEVENT
BEGIN:VEVENT
DTSTART;TZID=America/New_York:20251108T140000
DTEND;TZID=America/New_York:20251108T160000
DTSTAMP:20260420T062617
CREATED:20250828T153950Z
LAST-MODIFIED:20250828T153950Z
UID:2137-1762610400-1762617600@marylandstemfestival.org
SUMMARY:National STEM Day (ages 5-10)
DESCRIPTION:Drop in and experiment with our fun STEM toys! \nThis program is for children in grades K-5 (ages 5-10).
URL:https://marylandstemfestival.org/event/national-stem-day-ages-5-10/
LOCATION:Brunswick Branch\, 915 N. Maple Avenue\, Brunswick\, MD\, 21716\, United States
CATEGORIES:Engineering,Mathematics,Science and Society,Technology
ORGANIZER;CN="Frederick County Public Libraries":MAILTO:rgoetz@frederickcountymd.gov
END:VEVENT
BEGIN:VEVENT
DTSTART;TZID=America/New_York:20251108T150000
DTEND;TZID=America/New_York:20251108T160000
DTSTAMP:20260420T062617
CREATED:20250904T163056Z
LAST-MODIFIED:20250904T163056Z
UID:2236-1762614000-1762617600@marylandstemfestival.org
SUMMARY:Stay & Play: Family Lego Time
DESCRIPTION:Did you know that building with Legos can help children develop fine motor skills\, teach problem-solving skills and boost their self-esteem?\nBring the whole family to get creative while building with our LEGOs! Use your imagination or flip through our LEGO books to get an idea of what to build. \nRegistration is required. Please register each individual that will be building with our Legos\, including parents/guardians. Recommended for ages 6+. If you have questions\, please contact the Waldorf West Branch at 301-645-1395 or email westref@ccplonline.org.
URL:https://marylandstemfestival.org/event/stay-play-family-lego-time/
LOCATION:Charles County Public Library\, 10405 O'Donnell Place\, Waldorf\, MD\, 20603\, United States
CATEGORIES:Arts,Engineering
ORGANIZER;CN="Charles County Public Library":MAILTO:rdavis@ccplonline.org
END:VEVENT
BEGIN:VEVENT
DTSTART;TZID=America/New_York:20251108T210000
DTEND;TZID=America/New_York:20251108T210000
DTSTAMP:20260420T062617
CREATED:20251109T120047Z
LAST-MODIFIED:20251118T125030Z
UID:2797-1762635600-1762635600@marylandstemfestival.org
SUMMARY:National STEM Day 2025 ~ Celebrate STEM Careers with Music
DESCRIPTION:? Play On\, Play – STEM is Power is an original anthem created to celebrate National STEM Day 2025 and beyond to inspire students to explore the power of creativity within STEM careers. \nThe song brings together music\, imagination\, and innovation\, showing how creative expression and scientific thinking can work in harmony to spark curiosity and discovery. \nDeveloped as part of the “Celebrate STEM with Music” initiative\, this anthem encourages students to dream boldly\, think critically\, and design their own path toward the future — all through the rhythm of music and the possibilities of STEM. \n? Purpose:\nTo motivate students to connect with STEM in a fun and expressive way — reminding them that the future of science and technology thrives on creativity\, collaboration\, and play. \n? Watch the Video: https://youtu.be/OaHv7GWWZJM
URL:https://marylandstemfestival.org/event/national-stem-day-2025-celebrate-stem-careers-with-music/
LOCATION:Online
CATEGORIES:Arts,Chemistry,Earth and Space Science,Engineering,Health,Internet Event,Mathematics,Physics,Technology
ORGANIZER;CN="MARTA ALI STUDIOS":MAILTO:martaalistudios@gmail.com
END:VEVENT
END:VCALENDAR