BEGIN:VCALENDAR
VERSION:2.0
PRODID:-//Maryland STEM Festival - ECPv6.15.20//NONSGML v1.0//EN
CALSCALE:GREGORIAN
METHOD:PUBLISH
X-ORIGINAL-URL:https://marylandstemfestival.org
X-WR-CALDESC:Events for Maryland STEM Festival
REFRESH-INTERVAL;VALUE=DURATION:PT1H
X-Robots-Tag:noindex
X-PUBLISHED-TTL:PT1H
BEGIN:VTIMEZONE
TZID:America/New_York
BEGIN:DAYLIGHT
TZOFFSETFROM:-0500
TZOFFSETTO:-0400
TZNAME:EDT
DTSTART:20240310T070000
END:DAYLIGHT
BEGIN:STANDARD
TZOFFSETFROM:-0400
TZOFFSETTO:-0500
TZNAME:EST
DTSTART:20241103T060000
END:STANDARD
BEGIN:DAYLIGHT
TZOFFSETFROM:-0500
TZOFFSETTO:-0400
TZNAME:EDT
DTSTART:20250309T070000
END:DAYLIGHT
BEGIN:STANDARD
TZOFFSETFROM:-0400
TZOFFSETTO:-0500
TZNAME:EST
DTSTART:20251102T060000
END:STANDARD
BEGIN:DAYLIGHT
TZOFFSETFROM:-0500
TZOFFSETTO:-0400
TZNAME:EDT
DTSTART:20260308T070000
END:DAYLIGHT
BEGIN:STANDARD
TZOFFSETFROM:-0400
TZOFFSETTO:-0500
TZNAME:EST
DTSTART:20261101T060000
END:STANDARD
END:VTIMEZONE
BEGIN:VEVENT
DTSTART;TZID=America/New_York:20251115T103000
DTEND;TZID=America/New_York:20251115T113000
DTSTAMP:20260420T014734
CREATED:20250813T203228Z
LAST-MODIFIED:20250813T203228Z
UID:2087-1763202600-1763206200@marylandstemfestival.org
SUMMARY:Kids STEAM Workshop: Power Protectors
DESCRIPTION:Join 4-H educator Theresa Maggio on a journey to learn about renewable energy through an exciting\, superhero-themed workshop. All supplies provided.
URL:https://marylandstemfestival.org/event/kids-steam-workshop-power-protectors/
LOCATION:Ocean City Library\, 10003 Coastal Highway\, Ocean City\, MD\, 21842\, United States
CATEGORIES:Earth and Space Science,Engineering,Science and Society
ORGANIZER;CN="Worcester County Library":MAILTO:sarena@worcesterlibrary.org
END:VEVENT
BEGIN:VEVENT
DTSTART;TZID=America/New_York:20251115T103000
DTEND;TZID=America/New_York:20251115T113000
DTSTAMP:20260420T014734
CREATED:20251023T121642Z
LAST-MODIFIED:20251023T121642Z
UID:2745-1763202600-1763206200@marylandstemfestival.org
SUMMARY:STEM at the Chevy Chase Library: LEGO & DUPLO Play
DESCRIPTION:This hands-on STEM program will provide children with the opportunity to use their critical thinking and problem-solving skills to achieve a result. We provide the LEGOs and DUPLOs\, you provide the imagination! For 1-1/2 year olds and up\, with an adult. No registration necessary. Location: Chevy Chase Library\, Meeting Room (lower level)
URL:https://marylandstemfestival.org/event/stem-at-the-chevy-chase-library-lego-duplo-play/
LOCATION:Chevy Chase Library\, 8005 Connecticut Ave.\, Chevy Chase\, MD\, 20815\, United States
CATEGORIES:Engineering
END:VEVENT
BEGIN:VEVENT
DTSTART;TZID=America/New_York:20251115T113000
DTEND;TZID=America/New_York:20251115T130000
DTSTAMP:20260420T014734
CREATED:20250904T125951Z
LAST-MODIFIED:20250904T125951Z
UID:2211-1763206200-1763211600@marylandstemfestival.org
SUMMARY:Autumn Nature Crafts (families)
DESCRIPTION:Drop in and make a variety of crafts with natural materials like pressed fall leaves and acorns. Learn why leaves change color and how to identify local threes in the process!
URL:https://marylandstemfestival.org/event/autumn-nature-crafts-families/
LOCATION:Savage Branch Library\, 9525 Durness Lane\, Laurel\, MD\, 20723\, United States
CATEGORIES:Arts,Engineering,Mathematics,Science and Society,Technology
END:VEVENT
BEGIN:VEVENT
DTSTART;TZID=America/New_York:20251115T130000
DTEND;TZID=America/New_York:20251115T160000
DTSTAMP:20260420T014734
CREATED:20250925T120901Z
LAST-MODIFIED:20250925T120901Z
UID:2399-1763211600-1763222400@marylandstemfestival.org
SUMMARY:WIE are Makers - Robot Cars
DESCRIPTION:Experience Maryland Engineering with WIE are Makers! This workshop for 7th – 12th graders\, guided by current Maryland Engineering and IEEE@UMD students\, introduces participants to microcontrollers and Arduino as you program a Keyestudio robotic car to complete a challenge.
URL:https://marylandstemfestival.org/event/wie-are-makers-robot-cars/
LOCATION:University of Maryland College Park\, 4298 Campus Drive\, College Park\, MD\, 20742\, United States
CATEGORIES:Engineering
ORGANIZER;CN="A. James Clark School of Engineering%2C University of Maryland%2C College Park":MAILTO:jakuntz@umd.edu
END:VEVENT
BEGIN:VEVENT
DTSTART;TZID=America/New_York:20251115T133000
DTEND;TZID=America/New_York:20251115T163000
DTSTAMP:20260420T014734
CREATED:20251015T123954Z
LAST-MODIFIED:20251015T123954Z
UID:2695-1763213400-1763224200@marylandstemfestival.org
SUMMARY:Community STEM Day
DESCRIPTION:Bring the whole family and join us for an afternoon of STEM exploration with exhibitors from around the region. This event is FREE and open to all. RSVP isn’t required but does help us plan. Feel free to stop by anytime between 1:30 and 4:30 PM. Here’s what we have on tap: \n+ Montgomery County Department of Environmental Protection – Watershed Restoration Division: Learn about our local waterways\, rivers\, lakes\, and streams and how our actions on land directly impact the quality of our water. Discover the types of bugs that are in our local streams and how they act as indicators of water quality. \n+ National Electronics Museum: See demonstrations of various electronics including HAM radios and learn about DIY projects. \n+ Natural History Society of Maryland: Check out the mobile Natural History Museum’s hands on activities\, along with live Reptiles and Amphibians courtesy of members of their Herpetology Club and MATTS. \n+ Echoes of Nature: Meet live animal ambassadors from a variety of species and learn how they have adapted to their environment over time. \n+ 355 Code: Have fun with artificial intelligence games. \n+ Dr. Jim Rudert: Our resident engineer and innovator will be demonstrating an Earthquake Simulator and a Decimal Binary Number Converter \n+ Rocket Robotics: This local high school robotics team will be leading some fun building activities\, sharing about robotics\, and offering the chance for visitors to drive a robot around an obstacle course.
URL:https://marylandstemfestival.org/event/community-stem-day/
LOCATION:Rockville Science Center\, hjlichtman@lichtman.ws\, Rockville\, MD\, 20850\, United States
CATEGORIES:Engineering,Life Sciences,Technology
ORGANIZER;CN="Rockville Science Center":MAILTO:hjlichtman@lichtman.ws
END:VEVENT
BEGIN:VEVENT
DTSTART;TZID=America/New_York:20251115T140000
DTEND;TZID=America/New_York:20251115T150000
DTSTAMP:20260420T014734
CREATED:20250822T191755Z
LAST-MODIFIED:20250822T191755Z
UID:2108-1763215200-1763218800@marylandstemfestival.org
SUMMARY:LEGO Challenge
DESCRIPTION:LEGO creations will be displayed after program.
URL:https://marylandstemfestival.org/event/lego-challenge/
LOCATION:Broadneck Branch\, 1275 Green Holly Dr\, Annapolis\, MD\, 21409\, United States
CATEGORIES:Engineering
END:VEVENT
BEGIN:VEVENT
DTSTART;TZID=America/New_York:20251115T140000
DTEND;TZID=America/New_York:20251115T150000
DTSTAMP:20260420T014734
CREATED:20250903T125927Z
LAST-MODIFIED:20250903T125927Z
UID:2212-1763215200-1763218800@marylandstemfestival.org
SUMMARY:Hexbug Nano (ages 7-10)
DESCRIPTION:Work in groups to create mazes and playgrounds for your hexbugs. Bring your creativity and engineer the toughest maze that you can using your STEM skills!
URL:https://marylandstemfestival.org/event/hexbug-nano-ages-7-10/
LOCATION:Elkridge Branch Library\, 6540 Washington Blvd\,\, Elkridge\, MD\, 21075\, United States
CATEGORIES:Arts,Engineering,Mathematics
END:VEVENT
BEGIN:VEVENT
DTSTART;TZID=America/New_York:20251115T140000
DTEND;TZID=America/New_York:20251115T150000
DTSTAMP:20260420T014734
CREATED:20251001T015534Z
LAST-MODIFIED:20251001T015534Z
UID:2442-1763215200-1763218800@marylandstemfestival.org
SUMMARY:LEGO Club
DESCRIPTION:An interactive program with building challenges with Legos.\nChildren ages 4 and older\, come build with LEGO. A new LEGO building idea every month. Materials must stay at the library. No registration necessary.
URL:https://marylandstemfestival.org/event/lego-club-5/
LOCATION:Hagerstown Branch\, 100 S. Potomac St.\, Hagerstown\, MD\, 21740\, United States
CATEGORIES:Engineering,Technology
ORGANIZER;CN="Washington County Free Library":MAILTO:jraab@washcolibrary.org
END:VEVENT
END:VCALENDAR