BEGIN:VCALENDAR
VERSION:2.0
PRODID:-//Maryland STEM Festival - ECPv6.15.20//NONSGML v1.0//EN
CALSCALE:GREGORIAN
METHOD:PUBLISH
X-ORIGINAL-URL:https://marylandstemfestival.org
X-WR-CALDESC:Events for Maryland STEM Festival
REFRESH-INTERVAL;VALUE=DURATION:PT1H
X-Robots-Tag:noindex
X-PUBLISHED-TTL:PT1H
BEGIN:VTIMEZONE
TZID:America/New_York
BEGIN:DAYLIGHT
TZOFFSETFROM:-0500
TZOFFSETTO:-0400
TZNAME:EDT
DTSTART:20240310T070000
END:DAYLIGHT
BEGIN:STANDARD
TZOFFSETFROM:-0400
TZOFFSETTO:-0500
TZNAME:EST
DTSTART:20241103T060000
END:STANDARD
BEGIN:DAYLIGHT
TZOFFSETFROM:-0500
TZOFFSETTO:-0400
TZNAME:EDT
DTSTART:20250309T070000
END:DAYLIGHT
BEGIN:STANDARD
TZOFFSETFROM:-0400
TZOFFSETTO:-0500
TZNAME:EST
DTSTART:20251102T060000
END:STANDARD
BEGIN:DAYLIGHT
TZOFFSETFROM:-0500
TZOFFSETTO:-0400
TZNAME:EDT
DTSTART:20260308T070000
END:DAYLIGHT
BEGIN:STANDARD
TZOFFSETFROM:-0400
TZOFFSETTO:-0500
TZNAME:EST
DTSTART:20261101T060000
END:STANDARD
END:VTIMEZONE
BEGIN:VEVENT
DTSTART;TZID=America/New_York:20251101T090000
DTEND;TZID=America/New_York:20251101T120000
DTSTAMP:20260423T045634
CREATED:20250906T132838Z
LAST-MODIFIED:20251023T145206Z
UID:2242-1761987600-1761998400@marylandstemfestival.org
SUMMARY:Johns Hopkins Allied Healthcare Career Day 2025
DESCRIPTION:The 3rd Annual Allied Healthcare Career Day will be held on Saturday\, November 1\, 2025\, from 9am to 12pm in Turner Concourse on the Johns Hopkins Hospital campus\, 720 Rutland Avenue\, 21205. It’s a fun event for students in grades 8-12+ to explore different Allied Health career paths by participating in experiential activities from our various health-related fields. In addition to the activity tables\, we will also have snacks and giveaways.   Free parking and Chaperone seating will be available. \n 
URL:https://marylandstemfestival.org/event/johns-hopkins-allied-healthcare-career-day-2025-2/
LOCATION:Johns Hopkins Hospital – Turner Concourse\, 720 Rutland Avenue\, Baltimore\, 21205\, United States
CATEGORIES:Business and Careers,Engineering,Health,Life Sciences,Science and Society
END:VEVENT
BEGIN:VEVENT
DTSTART;TZID=America/New_York:20251101T093000
DTEND;TZID=America/New_York:20251101T133000
DTSTAMP:20260423T045634
CREATED:20251011T031725Z
LAST-MODIFIED:20251011T031725Z
UID:2589-1761989400-1762003800@marylandstemfestival.org
SUMMARY:Mid-Shore S.TE.M. Festival
DESCRIPTION:The 8th Annual Mid-Shore S.T.E.M Festival will be held on Saturday\, November 1\, 2025 at the Eastern Shore Higher Education Center\, located on the Chesapeake College campus\, in Wye Mills\, Maryland. The event will be held rain or shine from 9:30 am – 1:30 pm and is free\, open to the public\, and geared toward youth ages 8-16. There are special early childhood S.T.E.M activities from 10 am – 12 pm for youth ages 4-7 as well. \nThe Mid-Shore S.T.E.M Festival is hosted by the University of Maryland Extension 4-H and Family & Consumer Sciences Programs and is focused on providing hands-on science\, technology\, engineering\, and math learning for youth of all ages and their families. Activities will include interactive displays\, activity stations\, makers space\, demonstrations and workshops. This year’s theme is “FrankenSTEM” with many activities focused on the theme\, as well as many other STEM topics. Youth are encouraged to come in their Halloween costumes; prizes will be awarded. This is a great event to make career connections and learn about the future of science and science-related careers and opportunities. \nBring your kids to participate during the Maryland STEM Festival here on the mid-shore on November 1st for a fun science-filled day! We will have lunch and refreshments for sale. Remember\, the event is FREE and open to all! \nFor more information\, please contact Navonne Owen\, UME Caroline County 4-H\, at nowen@umd.edu or (410) 479-4030. This is an equal opportunity and equal access program.
URL:https://marylandstemfestival.org/event/mid-shore-s-te-m-festival/
LOCATION:Eastern Shore Higher Education Center\, Chesapeake College\, 1000 College Circle\, Wye Mills\,\, MD\, 21679\, United States
CATEGORIES:Arts,Business and Careers,Chemistry,Engineering,Food,Health,Life Sciences,Mathematics,Physics,Science and Society,Technology
ORGANIZER;CN="University of Maryland Eastern Shore Extension 4-H":MAILTO:amclay@umes.edu
END:VEVENT
BEGIN:VEVENT
DTSTART;TZID=America/New_York:20251101T100000
DTEND;TZID=America/New_York:20251101T140000
DTSTAMP:20260423T045634
CREATED:20250626T125553Z
LAST-MODIFIED:20250626T125553Z
UID:1955-1761991200-1762005600@marylandstemfestival.org
SUMMARY:HCC Annual STEAM Fest
DESCRIPTION:Bring the whole family for a day filled with fun hands-on activities related to STEAM. Activities include the ever popular Egg Drop and Bottle Rocket Challenges\, Arts\, Pumpkins\, Drones and more. Learn about our STEM programs from camps to career training to degree programs. Free Parking and Admission! Free Food!
URL:https://marylandstemfestival.org/event/hcc-annual-steam-fest/
LOCATION:Hagerstown Community College\, 11400 Robinwood Drive ARCC\, Hagerstown\, MD\, 21742\, United States
CATEGORIES:Arts,Chemistry,Engineering,Health,Life Sciences,Mathematics,Physics,Technology
ORGANIZER;CN="Hagerstown Community College":MAILTO:lmmontgomery@hagerstowncc.edu
END:VEVENT
BEGIN:VEVENT
DTSTART;TZID=America/New_York:20251104T110000
DTEND;TZID=America/New_York:20251104T120000
DTSTAMP:20260423T045634
CREATED:20250904T130834Z
LAST-MODIFIED:20250904T130834Z
UID:2167-1762254000-1762257600@marylandstemfestival.org
SUMMARY:Kids' Academy: Nanoscience
DESCRIPTION:Explore the world of the extremely small–so small you cannot see it with the human eye and where odd things happen at a nanoscale! \nEducational activities for homeschoolers and children in non-traditional school settings. Ages 6-11.
URL:https://marylandstemfestival.org/event/kids-academy-nanoscience/
LOCATION:Perryville Branch Library\, 500 Coudon Blvd.\, Perryville\, MD\, 21903\, United States
CATEGORIES:Chemistry,Engineering,Health,Life Sciences,Physics
ORGANIZER;CN="Cecil County Public Library":MAILTO:kmclimans@cecilcountylibrary.org
END:VEVENT
BEGIN:VEVENT
DTSTART;TZID=America/New_York:20251105T080000
DTEND;TZID=America/New_York:20251105T113000
DTSTAMP:20260423T045634
CREATED:20250603T153216Z
LAST-MODIFIED:20250814T033113Z
UID:1920-1762329600-1762342200@marylandstemfestival.org
SUMMARY:BioTech Health Expo
DESCRIPTION:Local Biotech and Health Care organizations will be provided with activities and demonstrations for students of RFMS. This is a closed event\, only for RFMS Students
URL:https://marylandstemfestival.org/event/biotech-health-expo/
LOCATION:Robert Frost Middle School\, 9201 Scott Drivce\, Rockville\, 20852\, United States
CATEGORIES:Health,Life Sciences
END:VEVENT
BEGIN:VEVENT
DTSTART;TZID=America/New_York:20251105T143000
DTEND;TZID=America/New_York:20251105T153000
DTSTAMP:20260423T045634
CREATED:20250814T023214Z
LAST-MODIFIED:20250814T023214Z
UID:2085-1762353000-1762356600@marylandstemfestival.org
SUMMARY:Food for Energy
DESCRIPTION:Why are food choices important to keep our energy levels high? How does our body convert food into energy? Come out and sample some healthy\, high energy snacks.
URL:https://marylandstemfestival.org/event/food-for-energy/
LOCATION:Pocomoke Library\, 301 Market\, Pocomoke City\, 21851\, United States
CATEGORIES:Food,Health
ORGANIZER;CN="Worcester County Library":MAILTO:sarena@worcesterlibrary.org
END:VEVENT
BEGIN:VEVENT
DTSTART;TZID=America/New_York:20251106T123000
DTEND;TZID=America/New_York:20251106T143000
DTSTAMP:20260423T045634
CREATED:20250626T130138Z
LAST-MODIFIED:20250626T130138Z
UID:1947-1762432200-1762439400@marylandstemfestival.org
SUMMARY:Science & Technology Career Fair
DESCRIPTION:Connect with regional science and technology employers to discover their mission\, careers and internships opportunities\,
URL:https://marylandstemfestival.org/event/science-technology-career-fair/
LOCATION:Hood College\, 401 Rosemont Avenue Whitaker Campus Center\, Frederick\, MD\, 21701\, United States
CATEGORIES:Business and Careers,Chemistry,Conservation,Health,Life Sciences,Mathematics,Physics,Technology
ORGANIZER;CN="Hood Collere Center for Career Development & Experiential Education":MAILTO:page@hood.edu
END:VEVENT
BEGIN:VEVENT
DTSTART;TZID=America/New_York:20251108T210000
DTEND;TZID=America/New_York:20251108T210000
DTSTAMP:20260423T045634
CREATED:20251109T120047Z
LAST-MODIFIED:20251118T125030Z
UID:2797-1762635600-1762635600@marylandstemfestival.org
SUMMARY:National STEM Day 2025 ~ Celebrate STEM Careers with Music
DESCRIPTION:? Play On\, Play – STEM is Power is an original anthem created to celebrate National STEM Day 2025 and beyond to inspire students to explore the power of creativity within STEM careers. \nThe song brings together music\, imagination\, and innovation\, showing how creative expression and scientific thinking can work in harmony to spark curiosity and discovery. \nDeveloped as part of the “Celebrate STEM with Music” initiative\, this anthem encourages students to dream boldly\, think critically\, and design their own path toward the future — all through the rhythm of music and the possibilities of STEM. \n? Purpose:\nTo motivate students to connect with STEM in a fun and expressive way — reminding them that the future of science and technology thrives on creativity\, collaboration\, and play. \n? Watch the Video: https://youtu.be/OaHv7GWWZJM
URL:https://marylandstemfestival.org/event/national-stem-day-2025-celebrate-stem-careers-with-music/
LOCATION:Online
CATEGORIES:Arts,Chemistry,Earth and Space Science,Engineering,Health,Internet Event,Mathematics,Physics,Technology
ORGANIZER;CN="MARTA ALI STUDIOS":MAILTO:martaalistudios@gmail.com
END:VEVENT
BEGIN:VEVENT
DTSTART;TZID=America/New_York:20251112T160000
DTEND;TZID=America/New_York:20251112T170000
DTSTAMP:20260423T045634
CREATED:20250830T153916Z
LAST-MODIFIED:20250830T153916Z
UID:2176-1762963200-1762966800@marylandstemfestival.org
SUMMARY:University of Maryland Extension Presents: Milk to Motion
DESCRIPTION:Learn about the dairy industry and have fun experimenting to learn about the properties of milk. Activities include a “milk in motion” science experiment\, making a sample of ice-cream and butter\, and making glue from milk! Ages 6-14.
URL:https://marylandstemfestival.org/event/university-of-maryland-extension-presents-milk-to-motion/
LOCATION:Cecilton Branch Library\, 215 E. Main Street\, Cecilton\, MD\, 21913\, United States
CATEGORIES:Chemistry,Food,Health,Life Sciences,Science and Society
ORGANIZER;CN="Cecil County Public Library":MAILTO:kmclimans@cecilcountylibrary.org
END:VEVENT
BEGIN:VEVENT
DTSTART;TZID=America/New_York:20251112T160000
DTEND;TZID=America/New_York:20251112T180000
DTSTAMP:20260423T045634
CREATED:20251105T123949Z
LAST-MODIFIED:20251105T123949Z
UID:2783-1762963200-1762970400@marylandstemfestival.org
SUMMARY:Careers & Opportunities from Montgomery County Department of Environmental Protection!
DESCRIPTION:Special Event for Maryland STEM Festival in the large 3rd Floor Meeting Room! Discover the possibilities in the environmental field for teens\, tweens & adults! \nThis special event on Montgomery County Department of Environmental Protection and careers\, internship and volunteer opportunities\, with and without a college degree\, will feature Ana Arriaza\, Partnership & Engagement Manager at Montgomery County Department of Environmental Protection. \nNo registration – drop-ins welcome! SSL opportunity and enjoy free snacks! Spanish speakers welcome! \nHelp design future teen programs and help with cleanup/takedown after the event as SSL opportunities! \nQuestions about this program? Contact Brigadier General Charles E. McGee Library at 240-773-9420.
URL:https://marylandstemfestival.org/event/careers-opportunities-from-montgomery-county-department-of-environmental-protection/
LOCATION:Brigadier General Charles E. McGee Library\, 900 Wayne Avenue 5th Floor\, Silver Spring\, MD\, 20910\, United States
CATEGORIES:Business and Careers,Chemistry,Engineering,Health,Life Sciences,Science and Society
END:VEVENT
BEGIN:VEVENT
DTSTART;TZID=America/New_York:20251113T103000
DTEND;TZID=America/New_York:20251113T113000
DTSTAMP:20260423T045634
CREATED:20250830T153233Z
LAST-MODIFIED:20250830T153233Z
UID:2178-1763029800-1763033400@marylandstemfestival.org
SUMMARY:Full STEAM Ahead!: Cooking Together
DESCRIPTION:This week\, we will be making Sandwich Kabobs with bread\, cheese\, and vegetables. If you need a non-dairy or gluten-free substitute\, please contact the Children’s Room at the Perryville Library by 5 p.m.\, Wednesday\, Nov. 13th. Call 410-996-6070 x1631. \nEnjoy different STEAM activities each week in this hands-on program for young learners. Program designed for children ages 20 months – early 4s. Siblings welcome. Registration opens two weeks prior to the program date.
URL:https://marylandstemfestival.org/event/full-steam-ahead-cooking-together/
LOCATION:Perryville Branch Library\, 500 Coudon Blvd.\, Perryville\, MD\, 21903\, United States
CATEGORIES:Chemistry,Food,Health
ORGANIZER;CN="Cecil County Public Library":MAILTO:kmclimans@cecilcountylibrary.org
END:VEVENT
BEGIN:VEVENT
DTSTART;TZID=America/New_York:20251113T160000
DTEND;TZID=America/New_York:20251113T170000
DTSTAMP:20260423T045634
CREATED:20250830T153032Z
LAST-MODIFIED:20250830T153032Z
UID:2180-1763049600-1763053200@marylandstemfestival.org
SUMMARY:Kids Can Cook: Monkey Bread
DESCRIPTION:Use the tools and techniques of the kitchen to become a junior chef! This time\, make monkey bread! Ages 8-11.
URL:https://marylandstemfestival.org/event/kids-can-cook-monkey-bread/
LOCATION:Rising Sun  Branch Library\, 111 Colonial Way\, Rising Sun\, MD\, 21911\, United States
CATEGORIES:Chemistry,Food,Health
ORGANIZER;CN="Cecil County Public Library":MAILTO:kmclimans@cecilcountylibrary.org
END:VEVENT
BEGIN:VEVENT
DTSTART;TZID=America/New_York:20251113T190000
DTEND;TZID=America/New_York:20251113T210000
DTSTAMP:20260423T045634
CREATED:20251026T195153Z
LAST-MODIFIED:20251026T195153Z
UID:2761-1763060400-1763067600@marylandstemfestival.org
SUMMARY:Science Slam at Peabody Heights!
DESCRIPTION:Baltimore\, it’s Science Slam time! When else can you enjoy a bite while learning remarkable science that is going on in Charm City? \nWhen else can you enjoy a bite and a drink while learning remarkable science that is going on in Charm City? Come join us for a night of 5 min science talks from local scientists and support their efforts to communicate their work! \nWe are so happy to be able to have this at Peabody Heights and we thank them so much for their support! \nBUGSS will host 6 or so local scientists (grad students\, postdocs\, citizen scientists\, etc) to present their work in 5 minutes. We give prizes to the talks that are most creative and best communicated! This is a great way to connect with others\, learn diverse topics of science going on right here in Charm City\, gain communication skills and experience\, enhance chances of collaboration and emerging projects and ideas!\nJoin us and bring your friends for a fun night don’t miss out on this exciting science filled evening at BUGSS! Korean fusion food available on site! \nWhen: Thursday\, November 13 · 7 – 9pm EST \nWhere: Peabody Heights Brewery\n401 East 30th Street Baltimore\, MD 21218 \nFee: Free! (Donations accepted) \nMake sure to register on Eventbrite to secure your spot: https://www.eventbrite.com/e/science-slam-at-peabody-heights-tickets-1743997737179?aff=ebdsoporgprofile
URL:https://marylandstemfestival.org/event/science-slam-at-peabody-heights/
LOCATION:Peabody Heights Brewery\, 401 East 30th Street\, Baltimore\, MD\, 21218\, United States
CATEGORIES:Arts,Business and Careers,Chemistry,Earth and Space Science,Engineering,Food,Health,Life Sciences,Mathematics,Science and Society,Sports and Fitness,Technology
END:VEVENT
BEGIN:VEVENT
DTSTART;TZID=America/New_York:20251115T110000
DTEND;TZID=America/New_York:20251115T120000
DTSTAMP:20260423T045634
CREATED:20251001T005928Z
LAST-MODIFIED:20251001T005928Z
UID:2440-1763204400-1763208000@marylandstemfestival.org
SUMMARY:Kids Discover: Little Bear Apiary
DESCRIPTION:Join us for Kids Discover/Little Explorers STEM with special local guest Little Bear Apiary on Saturday November 15th from 11am-12pm. We’ll learn all about beekeeping and have lots of special hands-on activities. Storytime and instruction begin promptly at 11am\, but the room is open to complete activities until 12pm. Registration required. Ages 3-10. Hope to see you there!
URL:https://marylandstemfestival.org/event/kids-discover-little-bear-apiary/
LOCATION:Hagerstown Branch\, 100 S. Potomac St.\, Hagerstown\, MD\, 21740\, United States
CATEGORIES:Business and Careers,Earth and Space Science,Food,Health,Life Sciences
ORGANIZER;CN="Washington County Free Library":MAILTO:jraab@washcolibrary.org
END:VEVENT
BEGIN:VEVENT
DTSTART;TZID=America/New_York:20251116T090000
DTEND;TZID=America/New_York:20251116T120000
DTSTAMP:20260423T045634
CREATED:20250908T151419Z
LAST-MODIFIED:20250908T151419Z
UID:2257-1763283600-1763294400@marylandstemfestival.org
SUMMARY:STEM Family Fun Festival
DESCRIPTION:Bring the whole family for a series of fun-filled drop-in events that give kids an opportunity to engage with STEM and collaborate to solve engineering design tasks. Our event is sponsored by NDMU’s School of Education and is run by the Leadership in Teaching: STEM program’s faculty and students.
URL:https://marylandstemfestival.org/event/stem-family-fun-festival/
LOCATION:Notre Dame of Maryland\, 4701 North Charles Street\, Baltimore\, MD\, 21210\, United States
CATEGORIES:Arts,Chemistry,Earth and Space Science,Engineering,Health,Life Sciences,Mathematics,Physics,Science and Society,Technology
ORGANIZER;CN="Notre Dame of Maryland":MAILTO:jdupuis@ndm.edu
END:VEVENT
END:VCALENDAR