BEGIN:VCALENDAR
VERSION:2.0
PRODID:-//Maryland STEM Festival - ECPv6.15.20//NONSGML v1.0//EN
CALSCALE:GREGORIAN
METHOD:PUBLISH
X-ORIGINAL-URL:https://marylandstemfestival.org
X-WR-CALDESC:Events for Maryland STEM Festival
REFRESH-INTERVAL;VALUE=DURATION:PT1H
X-Robots-Tag:noindex
X-PUBLISHED-TTL:PT1H
BEGIN:VTIMEZONE
TZID:America/New_York
BEGIN:DAYLIGHT
TZOFFSETFROM:-0500
TZOFFSETTO:-0400
TZNAME:EDT
DTSTART:20240310T070000
END:DAYLIGHT
BEGIN:STANDARD
TZOFFSETFROM:-0400
TZOFFSETTO:-0500
TZNAME:EST
DTSTART:20241103T060000
END:STANDARD
BEGIN:DAYLIGHT
TZOFFSETFROM:-0500
TZOFFSETTO:-0400
TZNAME:EDT
DTSTART:20250309T070000
END:DAYLIGHT
BEGIN:STANDARD
TZOFFSETFROM:-0400
TZOFFSETTO:-0500
TZNAME:EST
DTSTART:20251102T060000
END:STANDARD
BEGIN:DAYLIGHT
TZOFFSETFROM:-0500
TZOFFSETTO:-0400
TZNAME:EDT
DTSTART:20260308T070000
END:DAYLIGHT
BEGIN:STANDARD
TZOFFSETFROM:-0400
TZOFFSETTO:-0500
TZNAME:EST
DTSTART:20261101T060000
END:STANDARD
END:VTIMEZONE
BEGIN:VEVENT
DTSTART;TZID=America/New_York:20251019T150000
DTEND;TZID=America/New_York:20251019T160000
DTSTAMP:20260419T150907
CREATED:20251011T021714Z
LAST-MODIFIED:20251011T021714Z
UID:2637-1760886000-1760889600@marylandstemfestival.org
SUMMARY:Family Nature Program: Mysterious World of Bats
DESCRIPTION:Ever wonder what it is like to be a bat? Come explore the magical and mysterious world of bats through hands-on activities and crafts with Naturalist Timothy Olson. Sponsored by the Middletown Sustainability Committee. (families\, all ages)
URL:https://marylandstemfestival.org/event/family-nature-program-mysterious-world-of-bats/
LOCATION:Middletown Branch Library\, 31 East Green St\, Middletown\, MD\, 21769\, United States
CATEGORIES:Arts,Life Sciences
ORGANIZER;CN="Frederick County Public Libraries":MAILTO:rgoetz@frederickcountymd.gov
END:VEVENT
END:VCALENDAR