BEGIN:VCALENDAR
VERSION:2.0
PRODID:-//Maryland STEM Festival - ECPv6.15.20//NONSGML v1.0//EN
CALSCALE:GREGORIAN
METHOD:PUBLISH
X-ORIGINAL-URL:https://marylandstemfestival.org
X-WR-CALDESC:Events for Maryland STEM Festival
REFRESH-INTERVAL;VALUE=DURATION:PT1H
X-Robots-Tag:noindex
X-PUBLISHED-TTL:PT1H
BEGIN:VTIMEZONE
TZID:America/New_York
BEGIN:DAYLIGHT
TZOFFSETFROM:-0500
TZOFFSETTO:-0400
TZNAME:EDT
DTSTART:20240310T070000
END:DAYLIGHT
BEGIN:STANDARD
TZOFFSETFROM:-0400
TZOFFSETTO:-0500
TZNAME:EST
DTSTART:20241103T060000
END:STANDARD
BEGIN:DAYLIGHT
TZOFFSETFROM:-0500
TZOFFSETTO:-0400
TZNAME:EDT
DTSTART:20250309T070000
END:DAYLIGHT
BEGIN:STANDARD
TZOFFSETFROM:-0400
TZOFFSETTO:-0500
TZNAME:EST
DTSTART:20251102T060000
END:STANDARD
BEGIN:DAYLIGHT
TZOFFSETFROM:-0500
TZOFFSETTO:-0400
TZNAME:EDT
DTSTART:20260308T070000
END:DAYLIGHT
BEGIN:STANDARD
TZOFFSETFROM:-0400
TZOFFSETTO:-0500
TZNAME:EST
DTSTART:20261101T060000
END:STANDARD
END:VTIMEZONE
BEGIN:VEVENT
DTSTART;TZID=America/New_York:20251029T113000
DTEND;TZID=America/New_York:20251029T123000
DTSTAMP:20260423T083801
CREATED:20251011T125958Z
LAST-MODIFIED:20251011T130653Z
UID:2668-1761737400-1761741000@marylandstemfestival.org
SUMMARY:Cybersecurity Career Panel Discussion for Meade High School Students Only
DESCRIPTION:A diverse group of Cybersecurity Professionals to discuss what they do.  This is a closed event.  Participating Professionals are: \nWilliam Smith \nGreg Wessel \nColin Hamil \nJennifer Langdon \nSandra Dorsey
URL:https://marylandstemfestival.org/event/cybersecurity-career-panel-discussion-for-meade-high-school-students-only/
LOCATION:Meade High School\, 1100 Clark Rd\,\, Fort Meade\, MD\, 20755\, United States
CATEGORIES:Cybersecurity,Mathematics
END:VEVENT
BEGIN:VEVENT
DTSTART;TZID=America/New_York:20251028T093000
DTEND;TZID=America/New_York:20251028T110000
DTSTAMP:20260423T083801
CREATED:20250603T153859Z
LAST-MODIFIED:20250814T033004Z
UID:1922-1761643800-1761649200@marylandstemfestival.org
SUMMARY:STEM of Many Colors
DESCRIPTION:STEM Professionals from underserved communities discuss career paths and working in the STEM Field. This event is for Carver Center students only
URL:https://marylandstemfestival.org/event/stem-of-many-colors/
LOCATION:George Washington Carver Center for Arts and Technology\, 938 York Rd\,\, Baltimore\, MD\, 21204\, United States
CATEGORIES:Biotech,Earth and Space Science,Engineering,Life Sciences,Mathematics,Physics,Science and Society
END:VEVENT
BEGIN:VEVENT
DTSTART;TZID=America/New_York:20251027T110000
DTEND;TZID=America/New_York:20251027T113000
DTSTAMP:20260423T083801
CREATED:20250912T190134Z
LAST-MODIFIED:20250912T190134Z
UID:2216-1761562800-1761564600@marylandstemfestival.org
SUMMARY:Little Adventurers
DESCRIPTION:Children learn and explore through hands on activities using science\, technology\, engineering\, art\, and math concepts at the library. Caregivers are encouraged to connect with children and participate in the activities!
URL:https://marylandstemfestival.org/event/little-adventurers-3/
LOCATION:Emmitsburg Library\, 300 South Seton Ave\, Emmitsburg\, MD\, 21727\, United States
CATEGORIES:Arts,Earth and Space Science,Engineering,Mathematics,Technology
ORGANIZER;CN="Frederick County Public Libraries":MAILTO:rgoetz@frederickcountymd.gov
END:VEVENT
BEGIN:VEVENT
DTSTART;TZID=America/New_York:20251026T143000
DTEND;TZID=America/New_York:20251026T170000
DTSTAMP:20260423T083801
CREATED:20250921T031450Z
LAST-MODIFIED:20250921T031450Z
UID:2349-1761489000-1761498000@marylandstemfestival.org
SUMMARY:Intro to FTC
DESCRIPTION:We will be introducing robotics\, specifically FIRST\, and going through our engineering process for building robots and deciding on prototypes. If interested in this workshop\, we can offer ways to get involved in robotics. In addition\, our previous season’s robot will be available for you to learn the controls and simulate a real match in a tournament.
URL:https://marylandstemfestival.org/event/intro-to-ftc/
LOCATION:Rockville Memorial Library\, 21 Maryland Avenue\, Rockville\, 20850\, United States
CATEGORIES:Engineering,Mathematics,Science and Society,Technology
ORGANIZER;CN="Orca Robotics #21587":MAILTO:malinda.zhu9224@gmail.com
END:VEVENT
BEGIN:VEVENT
DTSTART;TZID=America/New_York:20251025T113000
DTEND;TZID=America/New_York:20251025T123000
DTSTAMP:20260423T083801
CREATED:20250814T032255Z
LAST-MODIFIED:20250814T032255Z
UID:2062-1761391800-1761395400@marylandstemfestival.org
SUMMARY:Halloween STEAM Stations (3-5 years with adult)
DESCRIPTION:Ages 3-7 with adult; 60 min. Ticket required. \nJoin us for a festive\, hands-on Halloween adventure. Build a glow web\, make a witch’s brew\, mix a potion\, and more! Dress for mess! \nThis class is part of the 2025 Maryland STEM Festival. Click here for the full schedule of classes and events for all ages.
URL:https://marylandstemfestival.org/event/halloween-steam-stations-3-5-years-with-adult/
LOCATION:Savage Branch Library\, 9525 Durness Lane\, Laurel\, MD\, 20723\, United States
CATEGORIES:Mathematics,Science and Society,Technology
END:VEVENT
BEGIN:VEVENT
DTSTART;TZID=America/New_York:20251025T100000
DTEND;TZID=America/New_York:20251025T150000
DTSTAMP:20260423T083801
CREATED:20250925T121056Z
LAST-MODIFIED:20250925T121056Z
UID:2401-1761386400-1761404400@marylandstemfestival.org
SUMMARY:Morgan State University STEM Expo 2025
DESCRIPTION:Everyone is invited to the Morgan State University STEM Expo! Discover the latest in AI and machine learning through exciting STEM activities\, interactive games\, and hands-on workshops. Connect with our DSEC partners and explore opportunities for collaboration. This event is FREE so mark your calendars! Please register here: www.morgancemse.com \nDate: Saturday\, October 25\, 2025\nTime: 10:00 am —3:00 pm\nLocation: University Student Center\nAddress: 1700 East Cold Spring Lane\nBaltimore\, MD 21251 \nContact Person: Katrina Robinson\nEmail: katrina.robinson@morgan.edu\nPhone: 443 885-4407
URL:https://marylandstemfestival.org/event/morgan-state-university-stem-expo-2025/
LOCATION:Morgan State University\, 2040 E 32nd St\, Baltimore\, MD\, 21218\, United States
CATEGORIES:Chemistry,Earth and Space Science,Engineering,Health,Life Sciences,Mathematics,Physics,Science and Society,Technology
ORGANIZER;CN="morgan state university":MAILTO:katrina.robinson@morgan.edu
END:VEVENT
BEGIN:VEVENT
DTSTART;TZID=America/New_York:20251023T183000
DTEND;TZID=America/New_York:20251023T193000
DTSTAMP:20260423T083801
CREATED:20250814T032116Z
LAST-MODIFIED:20250814T032116Z
UID:2060-1761244200-1761247800@marylandstemfestival.org
SUMMARY:STEAM Powered Book Club (grades 2-3)
DESCRIPTION:Join our discussion about the book\, then participate in a related STEAM activity. This month we will be reading Bird & Squirrel all tangled up by James Burks (Pick up at Children’s Desk after registering). Please read the book before the book club. \nThis class is part of the 2025 Maryland STEM Festival.
URL:https://marylandstemfestival.org/event/steam-powered-book-club-grades-2-3/
LOCATION:Miller Branch Library\, 9421 Frederick Rd\, Ellicott City\, MD\, 21042\, United States
CATEGORIES:Mathematics,Science and Society
END:VEVENT
BEGIN:VEVENT
DTSTART;TZID=America/New_York:20251023T140000
DTEND;TZID=America/New_York:20251023T143000
DTSTAMP:20260423T083801
CREATED:20250915T000723Z
LAST-MODIFIED:20250915T000723Z
UID:2289-1761228000-1761229800@marylandstemfestival.org
SUMMARY:Elementary Explorers
DESCRIPTION:Participate in a variety of experiences related to science\, technology\, engineering\, art and mathematics. This program is designed for children in grades K – 5 and their caregivers.
URL:https://marylandstemfestival.org/event/elementary-explorers-4/
LOCATION:Thurmont Library\, 76 East Moser Rd\, Thurmont\, MD\, 21788\, United States
CATEGORIES:Arts,Engineering,Mathematics,Science and Society,Technology
ORGANIZER;CN="Frederick County Public Libraries":MAILTO:rgoetz@frederickcountymd.gov
END:VEVENT
BEGIN:VEVENT
DTSTART;TZID=America/New_York:20251023T103000
DTEND;TZID=America/New_York:20251023T113000
DTSTAMP:20260423T083801
CREATED:20250912T185451Z
LAST-MODIFIED:20250912T185451Z
UID:2162-1761215400-1761219000@marylandstemfestival.org
SUMMARY:Full STEAM Ahead!
DESCRIPTION:Enjoy different STEAM activities each week in this hands-on program for young learners. Program designed for children ages 20 months – early 4s. Siblings welcome.
URL:https://marylandstemfestival.org/event/full-steam-ahead-3/
LOCATION:Perryville Branch Library\, 500 Coudon Blvd.\, Perryville\, MD\, 21903\, United States
CATEGORIES:Arts,Chemistry,Engineering,Mathematics,Technology
ORGANIZER;CN="Cecil County Public Library":MAILTO:kmclimans@cecilcountylibrary.org
END:VEVENT
BEGIN:VEVENT
DTSTART;TZID=America/New_York:20251023T093000
DTEND;TZID=America/New_York:20251023T120000
DTSTAMP:20260423T083801
CREATED:20251001T112612Z
LAST-MODIFIED:20251017T201305Z
UID:2485-1761211800-1761220800@marylandstemfestival.org
SUMMARY:New Volunteer Orientation Session
DESCRIPTION:We are Montgomery County STEM Volunteer Program\, an educational non-profit (501 c3) organization of retired and working STEM (science\, technology\, engineering\, math) professionals who volunteer our time to go into MCPS schools to bring the real world of STEM into the classroom. We are holding our annual New Volunteer training/orientation session on October 23\, 9.00 am-Noon. If you have the background/experience and are interested in helping students get excited about STEM subjects and how they fit into our everyday lives\, we’d love to hear from you. It’s the start of the new school year so you will be making a valuable contribution to the next generation of STEM professionals. For more information about our program\, please visit the MCPS STEM Professional Volunteer Site: https://sites.google.com/mcpsmd.net/mcps-steam-mentors/mcps-steam-volunteer-program or contact me for more details: Robert Thomas\, MC STEM Volunteer Program Leader robert.james.thomas@verizon.net\, 301-717-0900 \n  \nJoin Zoom Meeting \nhttps://mcpsmd.zoom.us/j/88481113569?pwd=fmwVSbiOSLYPrdLiFRGutcaLh2HdHa.1 \nMeeting ID: 884 8111 3569 \nPasscode: 563708 \n 
URL:https://marylandstemfestival.org/event/new-volunteer-orientation-session/
LOCATION:Robert Thomas\, Team Leader\, MC STEM Volunteer Program via Zoom
CATEGORIES:Chemistry,Earth and Space Science,Environment,Health,Life Sciences,Mathematics,Physics,Science and Society,Technology
END:VEVENT
BEGIN:VEVENT
DTSTART;TZID=America/New_York:20251022T110000
DTEND;TZID=America/New_York:20251022T113000
DTSTAMP:20260423T083801
CREATED:20250921T030114Z
LAST-MODIFIED:20250921T030114Z
UID:2345-1761130800-1761132600@marylandstemfestival.org
SUMMARY:Tiny STEAM
DESCRIPTION:Explore Science\, Technology\, Engineering\, Art\, and Math concepts. Designed for ages 2-5 with a caregiver.
URL:https://marylandstemfestival.org/event/tiny-steam-3/
LOCATION:Myersville Community Library\, 8 Harp Place\, Myersville\, MD\, 21773\, United States
CATEGORIES:Engineering,Mathematics,Science and Society,Technology
ORGANIZER;CN="Frederick County Public Libraries":MAILTO:rgoetz@frederickcountymd.gov
END:VEVENT
BEGIN:VEVENT
DTSTART;TZID=America/New_York:20251021T163000
DTEND;TZID=America/New_York:20251021T170000
DTSTAMP:20260423T083801
CREATED:20250921T031118Z
LAST-MODIFIED:20250921T031118Z
UID:2348-1761064200-1761066000@marylandstemfestival.org
SUMMARY:STEAM Lab: Creepy Crawly (Five Senses)
DESCRIPTION:Join us for a variety of science\, technology\, engineering\, arts and math activities for elementary-aged children.
URL:https://marylandstemfestival.org/event/steam-lab-creepy-crawly-five-senses/
LOCATION:C. Burr Artz Library\, 110 East Patrick St.\, Frederick\, MD\, 21701\, United States
CATEGORIES:Arts,Engineering,Mathematics,Science and Society,Technology
ORGANIZER;CN="Frederick County Public Libraries":MAILTO:rgoetz@frederickcountymd.gov
END:VEVENT
BEGIN:VEVENT
DTSTART;TZID=America/New_York:20251020T110000
DTEND;TZID=America/New_York:20251020T113000
DTSTAMP:20260423T083801
CREATED:20251011T022429Z
LAST-MODIFIED:20251011T022429Z
UID:2636-1760958000-1760959800@marylandstemfestival.org
SUMMARY:Little Adventurers
DESCRIPTION:Children learn and explore through hands on activities using science\, technology\, engineering\, art\, and math concepts at the library. Caregivers are encouraged to connect with children and participate in the activities!
URL:https://marylandstemfestival.org/event/little-adventurers-4/
LOCATION:Emmitsburg Library\, 300 South Seton Ave\, Emmitsburg\, MD\, 21727\, United States
CATEGORIES:Arts,Engineering,Mathematics,Science and Society,Technology
ORGANIZER;CN="Frederick County Public Libraries":MAILTO:rgoetz@frederickcountymd.gov
END:VEVENT
BEGIN:VEVENT
DTSTART;TZID=America/New_York:20251018T140000
DTEND;TZID=America/New_York:20251018T150000
DTSTAMP:20260423T083801
CREATED:20251001T020507Z
LAST-MODIFIED:20251001T020507Z
UID:2430-1760796000-1760799600@marylandstemfestival.org
SUMMARY:LEGO Club
DESCRIPTION:Children ages 4 and older\, come build with LEGO. A new LEGO building idea every month. Materials must stay at the library. No registration necessary. This month’s theme: Pumpkins
URL:https://marylandstemfestival.org/event/lego-club-8/
LOCATION:Hagerstown Branch\, 100 S. Potomac St.\, Hagerstown\, MD\, 21740\, United States
CATEGORIES:Engineering,Mathematics,Technology
ORGANIZER;CN="Washington County Free Library":MAILTO:jraab@washcolibrary.org
END:VEVENT
BEGIN:VEVENT
DTSTART;TZID=America/New_York:20251018T140000
DTEND;TZID=America/New_York:20251018T150000
DTSTAMP:20260423T083801
CREATED:20250912T050521Z
LAST-MODIFIED:20250912T050521Z
UID:2223-1760796000-1760799600@marylandstemfestival.org
SUMMARY:Chess Club
DESCRIPTION:Practice and sharpen your chess skills. Compete with others and have a great time. Open to all levels\, but a firm grasp of chess is expected from all players as there will be no formal chess instruction. Players will initially randomly sit and rotate every 15 minutes with winners moving up and non-winners moving down. Registration is not required. Recommended for ages 10 and up. If you have questions\, please contact the Waldorf West Branch at 301-645-1395 or email westref@ccplonline.org.
URL:https://marylandstemfestival.org/event/chess-club-2/
LOCATION:Charles County Public Library\, 10405 O'Donnell Place\, Waldorf\, MD\, 20603\, United States
CATEGORIES:Mathematics
ORGANIZER;CN="Charles County Public Library":MAILTO:rdavis@ccplonline.org
END:VEVENT
BEGIN:VEVENT
DTSTART;TZID=America/New_York:20251018T100000
DTEND;TZID=America/New_York:20251018T140000
DTSTAMP:20260423T083801
CREATED:20250912T181555Z
LAST-MODIFIED:20250912T181555Z
UID:2203-1760781600-1760796000@marylandstemfestival.org
SUMMARY:UMES Extension 4-H STEM Expo
DESCRIPTION:Join us on October 18th from 10 am to 2 pm for a day of hands-on interactive activities. The 2025 University of Maryland Eastern Shore Extension 4-H STEM Expo is a free event that is open to youth of all ages and their families. Located on the UMES campus in our Engineering & Aviation Sciences complex. \nAll are welcome\, whether you are a youth exploring the world of STEM or a parent looking for future opportunities to inspire the next generation. This is the event for you as the events goal is to promote STEM related organizations\, careers\, and degrees. \nThis years exhibitors include:\nUMES Professors from all STEM disciplines\nNASA Wallops Island\nPocomoke State Forrest\nNational Aquarium’s Animal Rescue Division\nAnd more…\nThe 2025 University of Maryland Eastern Shore Extension 4-H STEM Expo coordinated by the University of Maryland Eastern Shore Extension 4-H STEM faculty/staff will be held on Saturday\, October 18th \, 2025\, from 10:00 am to 2:00 pm. This event will once again be held inside (limited outside space could be used upon request) the UMES Engineering & Aviation Science Complex on campus in Princess Anne\, Maryland. \nWe invite you or a representative from your organization/department to offer an interactive exhibit at this year’s event. The UMES Extension 4-H STEM Festival is part of the broader Maryland STEM Festival\, whose statewide theme is “Energy” (do not worry about following this theme for our event). We ask all exhibitors to have an interactive display/activity station that promotes STEM related careers/degrees that your organization is connected to or meets the statewide theme. Our focus is youth in K-12 and families with past festival years drawing from 175 to 400 participants. \nEach exhibitor will be supplied with a table and 2 chairs (more tables or chairs available upon request). If you need electricity for your table\, please let us know through the JotForm below. The event starts at 10:00 am and we ask you to have your exhibit/activity set up by 9:30 am on October 18th 2025. Breakdown/clean up begins at 2:00 pm. \nPlease consider joining us for another great UMES Extension 4-H STEM Expo. To register your organization/group please complete the Exhibitor Registration Form (https://form.jotform.com/252195123635152 ). We kindly ask that you respond by Friday October 3rd 2025 to give us time to coordinate tables and space. \nPlease share this information with any colleagues or organizations that you think would be willing to take part or attend the event.
URL:https://marylandstemfestival.org/event/umes-extension-4-h-stem-expo/
LOCATION:UMES Engineering & Aviation Sciences Building\, 30690 University Blvd. S. Kiah Hall 1112\, Princess Anne\, MD\, 21853\, United States
CATEGORIES:Arts,Business and Careers,Chemistry,Earth and Space Science,Engineering,Food,Health,Life Sciences,Mathematics,Physics,Science and Society,Technology
ORGANIZER;CN="University of Maryland Eastern Shore Extension 4-H":MAILTO:amclay@umes.edu
END:VEVENT
BEGIN:VEVENT
DTSTART;TZID=America/New_York:20251017T153000
DTEND;TZID=America/New_York:20251017T163000
DTSTAMP:20260423T083801
CREATED:20251005T131632Z
LAST-MODIFIED:20251005T131632Z
UID:2543-1760715000-1760718600@marylandstemfestival.org
SUMMARY:STEM Fun: Pumpkin Palooza
DESCRIPTION:A STEM-based program for preschool-aged children all about our favorite orange gourd! \nParticipants will enhance their motor skills while using tweezers to count pumpkin seeds; practice the scientific method to estimate the height\, weight\, and circumference of provided pumpkins; and participate in a sensory experience by making slime inside of a real pumpkin! This program was designed for preschool and lower elementary aged children. Please register each child attending.
URL:https://marylandstemfestival.org/event/stem-fun-pumpkin-palooza/
LOCATION:St. Mary’s County Library\, 37600 New Market Road\, Charlotte Hall\, MD\, 20622\, United States
CATEGORIES:Chemistry,Food,Life Sciences,Mathematics
ORGANIZER;CN="St Mary's Library":MAILTO:jhutchison@stmalib.org
END:VEVENT
BEGIN:VEVENT
DTSTART;TZID=America/New_York:20251017T130000
DTEND;TZID=America/New_York:20251017T133000
DTSTAMP:20260423T083801
CREATED:20251011T020649Z
LAST-MODIFIED:20251011T020649Z
UID:2638-1760706000-1760707800@marylandstemfestival.org
SUMMARY:Take a Closer Look: Robotics with First Tech Challenge Team CyberChaos
DESCRIPTION:Curious about robotics? Join FTC Team CyberChaos for an exciting Robotics Show & Tell! Meet the team\, see competitive robotics in action\, and enjoy fun hands-on activities designed to spark creativity and curiosity. Come explore the world of STEM and discover how you can get involved in robotics!
URL:https://marylandstemfestival.org/event/take-a-closer-look-robotics-with-first-tech-challenge-team-cyberchaos/
LOCATION:Walkersville Branch Library\, 2 South Glade Rd\, Walkersville\, MD\, 21793\, United States
CATEGORIES:Business and Careers,Engineering,Mathematics,Science and Society,Technology
ORGANIZER;CN="Frederick County Public Libraries":MAILTO:rgoetz@frederickcountymd.gov
END:VEVENT
BEGIN:VEVENT
DTSTART;TZID=America/New_York:20251016T180000
DTEND;TZID=America/New_York:20251016T200000
DTSTAMP:20260423T083801
CREATED:20251012T185824Z
LAST-MODIFIED:20251015T100244Z
UID:2673-1760637600-1760644800@marylandstemfestival.org
SUMMARY:Opening Ceremony
DESCRIPTION:The Festival opens with an evening of fun\, exciting STEM activities. There will be a pizza and a visit by R2D2  The Ceremony will be in McGowan Academic Center\, Building 6\, at Capitol Technology University. Click  here for details
URL:https://marylandstemfestival.org/event/opening-ceremony/
LOCATION:Capitol Technology University\, 11301 Springfield Road\, Laurel\, Maryland\, 20708
CATEGORIES:Energy,Engineering,Mathematics,Robotics,STEM,Technology
END:VEVENT
BEGIN:VEVENT
DTSTART;TZID=America/New_York:20251012T100000
DTEND;TZID=America/New_York:20251012T160000
DTSTAMP:20260423T083801
CREATED:20251007T121828Z
LAST-MODIFIED:20251007T121828Z
UID:2597-1760263200-1760284800@marylandstemfestival.org
SUMMARY:Open Explore - Hispanic Heritage Month
DESCRIPTION:ACTIVITY HIGHLIGHTS: HISPANIC HERITAGE MONTH! \nPapel Picado: Light and Layer | Maker Arena\nExperiment with translucence and pattern-making as you create intricate designs out of paper! This iconic Mexican tradition is an integral part of celebrating Día de los Muertos. \nLoom Weaving | Textile Studio\nDiscover the ancient art of loom weaving! Use square looms to recreate traditional patterns from Inca\, Nazca\, and Moche cultures while exploring their lasting impact on regional art and culture. \nMinecraft Education: LatinxExplorers Showcase | Maker Playground\nLatin Explorers uses Minecraft to highlight real-life Latina role models like Gloria Estefan and Dr. Ellen Ochoa. Play along with us at the Museum and take home a parent guide and certificate to continue the adventure. \nMEET A MAKER: Dr. Ana G. Martinez-Becerril | 1 – 3 PM\nUnfurl the world of ferns with Dr. Ana\, a Mexican scientist dedicated to preserving and protecting Mexico’s rich botanical heritage.
URL:https://marylandstemfestival.org/event/open-explore-hispanic-heritage-month/
LOCATION:3 Bethesda Metro Center\, 3 Bethesda Metro Center\, Bethesda\, MD\, 20814-5329\, United States
CATEGORIES:Engineering,Mathematics,Science and Society,Technology
END:VEVENT
BEGIN:VEVENT
DTSTART;TZID=America/New_York:20251008T163000
DTEND;TZID=America/New_York:20251008T173000
DTSTAMP:20260423T083801
CREATED:20250908T041839Z
LAST-MODIFIED:20250908T041839Z
UID:2168-1759941000-1759944600@marylandstemfestival.org
SUMMARY:Wind Powered Car Construction
DESCRIPTION:The Maryland STEM Festival is right around the corner! Flex those STEM muscles and join us at Cherry Hill as we assemble our own wind powered cars. All supplies will be provided. Registration is encouraged. Call 410-396-1168 to register.
URL:https://marylandstemfestival.org/event/wind-powered-car-construction/
LOCATION:Enoch Pratt Cherry Hill Branch\, 606 Cherry Hill Rd\, MD\, 21225\, United States
CATEGORIES:Engineering,Mathematics,Physics,Technology
END:VEVENT
BEGIN:VEVENT
DTSTART;TZID=America/New_York:20251002T173000
DTEND;TZID=America/New_York:20251002T183000
DTSTAMP:20260423T083801
CREATED:20250814T030340Z
LAST-MODIFIED:20250814T030340Z
UID:2045-1759426200-1759429800@marylandstemfestival.org
SUMMARY:Math Makers (8-11 years)
DESCRIPTION:Ages 8-11; 60 min. Ticket required. \nBack-to-school brain building; explore math concepts through books\, games\, and activities. You’re welcome to attend any or all sessions! \nThis class is part of the 2025 Maryland STEM Festival. Click here for the full schedule of classes and events for all ages.
URL:https://marylandstemfestival.org/event/math-makers-8-11-years/
LOCATION:Savage Branch Library\, 9525 Durness Lane\, Laurel\, MD\, 20723\, United States
CATEGORIES:Mathematics,Technology
END:VEVENT
BEGIN:VEVENT
DTSTART;TZID=America/New_York:20251001T173000
DTEND;TZID=America/New_York:20251001T183000
DTSTAMP:20260423T083801
CREATED:20250814T030504Z
LAST-MODIFIED:20250814T030504Z
UID:2044-1759339800-1759343400@marylandstemfestival.org
SUMMARY:Math Explorers (5-7 years)
DESCRIPTION:Back-to-school brain building; explore math concepts through books\, games\, and activities. You’re welcome to attend any or all sessions! \nThis class is part of the 2025 Maryland STEM Festival. Click here for the full schedule of classes and events for all ages.
URL:https://marylandstemfestival.org/event/math-explorers-5-7-years/
LOCATION:Savage Branch Library\, 9525 Durness Lane\, Laurel\, MD\, 20723\, United States
CATEGORIES:Mathematics,Technology
END:VEVENT
BEGIN:VEVENT
DTSTART;TZID=America/New_York:20250930T173000
DTEND;TZID=America/New_York:20250930T190000
DTSTAMP:20260423T083801
CREATED:20250828T160100Z
LAST-MODIFIED:20250828T160100Z
UID:2105-1759253400-1759258800@marylandstemfestival.org
SUMMARY:STEAM Fall Fun Festival
DESCRIPTION:Lyons Mill Elementary School STEAM Night\nIgniting a passion for Science\, Technology\, Engineering\, Art\, and Mathematics in every learner \nLyons Mill Elementary School\, home to over 700 curious and creative students\, proudly invites families and community partners to our annual STEAM Night — a celebration of innovation\, problem solving\, and hands-on learning. This exciting evening event is designed to bring families together as they explore the wonders of Science\, Technology\, Engineering\, Art\, and Math through interactive stations and real-world experiences. \nStudents and their families will rotate through a variety of hands-on activities\, including building challenges\, coding games\, engineering tasks\, makerspace creations\, and artistic design opportunities — all designed to spark creativity and encourage collaboration. In addition to our staff-led stations\, outside vendors and community organizations will be on site to provide enriching demonstrations\, STEM career connections\, and engaging educational experiences that highlight cutting-edge tools\, technology\, and resources. \nSTEAM Night at Lyons Mill is more than an event — it’s an experience that showcases how curiosity\, perseverance\, and critical thinking come together to shape the future. We are thrilled to partner with community supporters as we open our doors to families for a night of exploration\, discovery\, and fun.
URL:https://marylandstemfestival.org/event/steam-fall-fun-festival/
LOCATION:Lyon Mills ELementary School\, 9345 Lyons Mill Road\, Owings Mills\, MD\, 2117\, United States
CATEGORIES:Arts,Earth and Space Science,Engineering,Mathematics,Science and Society,Technology
END:VEVENT
BEGIN:VEVENT
DTSTART;TZID=America/New_York:20250927T083000
DTEND;TZID=America/New_York:20250927T113000
DTSTAMP:20260423T083801
CREATED:20250814T032632Z
LAST-MODIFIED:20250814T032632Z
UID:1948-1758961800-1758972600@marylandstemfestival.org
SUMMARY:"Go Outside More: Mathematics & Citizen Science"
DESCRIPTION:“Go Outside More: Mathematics & Citizen Science” is a fun way to engage in science and math outside of the classroom. \nThere are swags\, hands-on activities and Q&A at the table. Swing by and join us.
URL:https://marylandstemfestival.org/event/go-outside-more-mathematics-citizen-science/
LOCATION:MD
CATEGORIES:Earth and Space Science,Mathematics,Science and Society
ORGANIZER;CN="NASA Goddard Space Flight Center SSAI":MAILTO:agnes.p.conaty@nasa.gov
END:VEVENT
END:VCALENDAR