BEGIN:VCALENDAR
VERSION:2.0
PRODID:-//Maryland STEM Festival - ECPv6.15.20//NONSGML v1.0//EN
CALSCALE:GREGORIAN
METHOD:PUBLISH
X-WR-CALNAME:Maryland STEM Festival
X-ORIGINAL-URL:https://marylandstemfestival.org
X-WR-CALDESC:Events for Maryland STEM Festival
REFRESH-INTERVAL;VALUE=DURATION:PT1H
X-Robots-Tag:noindex
X-PUBLISHED-TTL:PT1H
BEGIN:VTIMEZONE
TZID:America/New_York
BEGIN:DAYLIGHT
TZOFFSETFROM:-0500
TZOFFSETTO:-0400
TZNAME:EDT
DTSTART:20240310T070000
END:DAYLIGHT
BEGIN:STANDARD
TZOFFSETFROM:-0400
TZOFFSETTO:-0500
TZNAME:EST
DTSTART:20241103T060000
END:STANDARD
BEGIN:DAYLIGHT
TZOFFSETFROM:-0500
TZOFFSETTO:-0400
TZNAME:EDT
DTSTART:20250309T070000
END:DAYLIGHT
BEGIN:STANDARD
TZOFFSETFROM:-0400
TZOFFSETTO:-0500
TZNAME:EST
DTSTART:20251102T060000
END:STANDARD
BEGIN:DAYLIGHT
TZOFFSETFROM:-0500
TZOFFSETTO:-0400
TZNAME:EDT
DTSTART:20260308T070000
END:DAYLIGHT
BEGIN:STANDARD
TZOFFSETFROM:-0400
TZOFFSETTO:-0500
TZNAME:EST
DTSTART:20261101T060000
END:STANDARD
END:VTIMEZONE
BEGIN:VEVENT
DTSTART;TZID=America/New_York:20251104T110000
DTEND;TZID=America/New_York:20251104T120000
DTSTAMP:20260423T032333
CREATED:20250904T130834Z
LAST-MODIFIED:20250904T130834Z
UID:2167-1762254000-1762257600@marylandstemfestival.org
SUMMARY:Kids' Academy: Nanoscience
DESCRIPTION:Explore the world of the extremely small–so small you cannot see it with the human eye and where odd things happen at a nanoscale! \nEducational activities for homeschoolers and children in non-traditional school settings. Ages 6-11.
URL:https://marylandstemfestival.org/event/kids-academy-nanoscience/
LOCATION:Perryville Branch Library\, 500 Coudon Blvd.\, Perryville\, MD\, 21903\, United States
CATEGORIES:Chemistry,Engineering,Health,Life Sciences,Physics
ORGANIZER;CN="Cecil County Public Library":MAILTO:kmclimans@cecilcountylibrary.org
END:VEVENT
BEGIN:VEVENT
DTSTART;TZID=America/New_York:20251104T133000
DTEND;TZID=America/New_York:20251104T190000
DTSTAMP:20260423T032333
CREATED:20251003T181616Z
LAST-MODIFIED:20251003T181616Z
UID:2556-1762263000-1762282800@marylandstemfestival.org
SUMMARY:MD STEM Fest Challenge
DESCRIPTION:Stations will be set up with Legos and marble runs. Look through our microscope and magnifying glass\, what do you see?
URL:https://marylandstemfestival.org/event/md-stem-fest-challenge-2/
LOCATION:Sharpsburg Library\, 106 East Main ST\, Sharpesburg\, MD\, 21782\, United States
CATEGORIES:Arts,Chemistry,Earth and Space Science,Engineering,Life Sciences,Physics,Technology
ORGANIZER;CN="Washington County Free Library":MAILTO:jraab@washcolibrary.org
END:VEVENT
BEGIN:VEVENT
DTSTART;TZID=America/New_York:20251104T150000
DTEND;TZID=America/New_York:20251104T170000
DTSTAMP:20260423T032333
CREATED:20251001T000139Z
LAST-MODIFIED:20251001T000139Z
UID:2475-1762268400-1762275600@marylandstemfestival.org
SUMMARY:Build-In Movie: Big Hero 6
DESCRIPTION:It’s Maryland STEM Fest! Can you build a robot like Hiro and his friends out of our building chips? Set mechanical energies and your own creativity in motion while you watch Disney’s Big Hero 6. \nA young tech whiz named Hiro must save his city from a nefarious villain with the help of his inflatable robot Baymax\, as well as his friends Go Go Tomago\, Wasabi\, Honey Lemon and Fred. \n2014 | PG | 1hr42min
URL:https://marylandstemfestival.org/event/build-in-movie-big-hero-6/
LOCATION:Orleans Branch\, 1303 Orleans Street\, Baltimore\, MD\, 21231\, United States
CATEGORIES:Engineering,Mathematics,Physics,Technology
END:VEVENT
BEGIN:VEVENT
DTSTART;TZID=America/New_York:20251104T153000
DTEND;TZID=America/New_York:20251104T163000
DTSTAMP:20260423T032333
CREATED:20250930T235605Z
LAST-MODIFIED:20250930T235605Z
UID:2476-1762270200-1762273800@marylandstemfestival.org
SUMMARY:Light Street Lab: DIY Kazoo
DESCRIPTION:Let’s celebrate the MD STEM Festival. This year’s theme is Energy! \nLearn about the science behind the energy of sound waves and make your own kazoo out of household items!
URL:https://marylandstemfestival.org/event/light-street-lab-diy-kazoo/
LOCATION:Light Street Library\, 1251 Light St\, Baltimore\, MD\, 21230\, United States
CATEGORIES:Engineering,Physics,Technology
END:VEVENT
END:VCALENDAR