BEGIN:VCALENDAR
VERSION:2.0
PRODID:-//Maryland STEM Festival - ECPv6.15.20//NONSGML v1.0//EN
CALSCALE:GREGORIAN
METHOD:PUBLISH
X-ORIGINAL-URL:https://marylandstemfestival.org
X-WR-CALDESC:Events for Maryland STEM Festival
REFRESH-INTERVAL;VALUE=DURATION:PT1H
X-Robots-Tag:noindex
X-PUBLISHED-TTL:PT1H
BEGIN:VTIMEZONE
TZID:America/New_York
BEGIN:DAYLIGHT
TZOFFSETFROM:-0500
TZOFFSETTO:-0400
TZNAME:EDT
DTSTART:20240310T070000
END:DAYLIGHT
BEGIN:STANDARD
TZOFFSETFROM:-0400
TZOFFSETTO:-0500
TZNAME:EST
DTSTART:20241103T060000
END:STANDARD
BEGIN:DAYLIGHT
TZOFFSETFROM:-0500
TZOFFSETTO:-0400
TZNAME:EDT
DTSTART:20250309T070000
END:DAYLIGHT
BEGIN:STANDARD
TZOFFSETFROM:-0400
TZOFFSETTO:-0500
TZNAME:EST
DTSTART:20251102T060000
END:STANDARD
BEGIN:DAYLIGHT
TZOFFSETFROM:-0500
TZOFFSETTO:-0400
TZNAME:EDT
DTSTART:20260308T070000
END:DAYLIGHT
BEGIN:STANDARD
TZOFFSETFROM:-0400
TZOFFSETTO:-0500
TZNAME:EST
DTSTART:20261101T060000
END:STANDARD
BEGIN:DAYLIGHT
TZOFFSETFROM:-0500
TZOFFSETTO:-0400
TZNAME:EDT
DTSTART:20270314T070000
END:DAYLIGHT
BEGIN:STANDARD
TZOFFSETFROM:-0400
TZOFFSETTO:-0500
TZNAME:EST
DTSTART:20271107T060000
END:STANDARD
END:VTIMEZONE
BEGIN:VEVENT
DTSTART;TZID=America/New_York:20251105T103000
DTEND;TZID=America/New_York:20251105T110000
DTSTAMP:20260423T082953
CREATED:20250927T123440Z
LAST-MODIFIED:20250927T123440Z
UID:2407-1762338600-1762340400@marylandstemfestival.org
SUMMARY:Preschool Science: Dancing Balloons
DESCRIPTION:Ages: 3-5 with caregiver \nLearn how to create a vortex and make the balloons dance! We will learn all about a vortex using balloons and fans in this hands-on experiment!
URL:https://marylandstemfestival.org/event/preschool-science-dancing-balloons/
LOCATION:Queen Anne’s County Library\, 121 S Commerce St\, Centreville\, MD\, 21617\, United States
CATEGORIES:Engineering,Physics
ORGANIZER;CN="Queen Anne's County Library":MAILTO:caitbyrnes@qaclibrary.org
END:VEVENT
BEGIN:VEVENT
DTSTART;TZID=America/New_York:20251105T133000
DTEND;TZID=America/New_York:20251105T190000
DTSTAMP:20260423T082953
CREATED:20251001T012300Z
LAST-MODIFIED:20251003T181703Z
UID:2436-1762349400-1762369200@marylandstemfestival.org
SUMMARY:MD STEM Fest Challenge
DESCRIPTION:Stations will be set up with Legos and marble runs. Look through our microscope and magnifying glass\, what do you see?
URL:https://marylandstemfestival.org/event/md-stem-fest-challenge/
LOCATION:Sharpsburg Library\, 106 East Main ST\, Sharpesburg\, MD\, 21782\, United States
CATEGORIES:Arts,Chemistry,Earth and Space Science,Engineering,Life Sciences,Physics,Technology
ORGANIZER;CN="Washington County Free Library":MAILTO:jraab@washcolibrary.org
END:VEVENT
BEGIN:VEVENT
DTSTART;TZID=America/New_York:20251105T150000
DTEND;TZID=America/New_York:20251105T160000
DTSTAMP:20260423T082953
CREATED:20251001T022202Z
LAST-MODIFIED:20251001T022202Z
UID:2477-1762354800-1762358400@marylandstemfestival.org
SUMMARY:Science Heroes Presents: Adventure of the Missing Color
DESCRIPTION:Join Science Heroes on their mission to turn science into an adventure! \nDiscover how fun and colorful science can be through hands-on experiments all about: \nchemical reactions\nair pressure\nphysical explosions\nand more!\nDon’t miss this exciting and interactive STEM learning adventure!
URL:https://marylandstemfestival.org/event/science-heroes-presents-adventure-of-the-missing-color-2/
LOCATION:Roland Park Libray\, 5108 Roland Ave\, Baltimore\, MD\, 21210\, United States
CATEGORIES:Chemistry,Engineering,Mathematics,Physics
END:VEVENT
BEGIN:VEVENT
DTSTART;TZID=America/New_York:20251105T153000
DTEND;TZID=America/New_York:20251105T173000
DTSTAMP:20260423T082953
CREATED:20250814T031057Z
LAST-MODIFIED:20250814T031057Z
UID:1996-1762356600-1762363800@marylandstemfestival.org
SUMMARY:Minds in Motion (STEAM)
DESCRIPTION:Get ready to imagine\, explore\, and create! Minds in Motion is a hands-on STEAM program designed for elementary students to spark curiosity and build problem-solving skills through fun\, engaging activities. Each session will feature exciting experiments and challenges in science\, technology\, engineering\, art\, and math—perfect for curious minds who love to tinker\, build\, and discover. Whether we’re coding robots\, designing structures\, or launching simple science experiments\, there’s always something new to explore.
URL:https://marylandstemfestival.org/event/minds-in-motion-steam/
LOCATION:Wicomico Public Library-Paul S Sarbanes Branch\, 122 South Division Street\, Salisbury\, MD\, 21801\, United States
CATEGORIES:Arts,Earth and Space Science,Engineering,Life Sciences,Mathematics,Physics,Technology
END:VEVENT
BEGIN:VEVENT
DTSTART;TZID=America/New_York:20251105T160000
DTEND;TZID=America/New_York:20251105T170000
DTSTAMP:20260423T082953
CREATED:20250930T235333Z
LAST-MODIFIED:20250930T235333Z
UID:2478-1762358400-1762362000@marylandstemfestival.org
SUMMARY:It's Kinetic! Slingshot Rockets
DESCRIPTION:Let’s celebrate this year’s Maryland STEM Festival’s theme of ENERGY by shooting for the stars! Learn about kinetic energy by building a slingshot rocket.
URL:https://marylandstemfestival.org/event/its-kinetic-slingshot-rockets/
LOCATION:Southeast Anchor\, 3601 Eastern Avenue\, Baltimore\, MD\, 21224\, United States
CATEGORIES:Engineering,Physics
END:VEVENT
BEGIN:VEVENT
DTSTART;TZID=America/New_York:20251105T163000
DTEND;TZID=America/New_York:20251105T173000
DTSTAMP:20260423T082953
CREATED:20250929T124031Z
LAST-MODIFIED:20250929T124031Z
UID:2415-1762360200-1762363800@marylandstemfestival.org
SUMMARY:STEM Fun: Pumpkin Boat Challenge
DESCRIPTION:Dive into the world of science\, technology\, engineering\, and math with fun\, hands-on experiments and activities! Explore physics while trying to find a creative way to make your mini pumpkin float.
URL:https://marylandstemfestival.org/event/stem-fun-pumpkin-boat-challenge/
LOCATION:Hillcrest Heights Library\, 398 Iverson St\,\, Hillcrest Heights\, MD\, 20748\, United States
CATEGORIES:Physics
END:VEVENT
BEGIN:VEVENT
DTSTART;TZID=America/New_York:20251106T123000
DTEND;TZID=America/New_York:20251106T143000
DTSTAMP:20260423T082953
CREATED:20250626T130138Z
LAST-MODIFIED:20250626T130138Z
UID:1947-1762432200-1762439400@marylandstemfestival.org
SUMMARY:Science & Technology Career Fair
DESCRIPTION:Connect with regional science and technology employers to discover their mission\, careers and internships opportunities\,
URL:https://marylandstemfestival.org/event/science-technology-career-fair/
LOCATION:Hood College\, 401 Rosemont Avenue Whitaker Campus Center\, Frederick\, MD\, 21701\, United States
CATEGORIES:Business and Careers,Chemistry,Conservation,Health,Life Sciences,Mathematics,Physics,Technology
ORGANIZER;CN="Hood Collere Center for Career Development & Experiential Education":MAILTO:page@hood.edu
END:VEVENT
BEGIN:VEVENT
DTSTART;TZID=America/New_York:20251106T133000
DTEND;TZID=America/New_York:20251106T190000
DTSTAMP:20260423T082954
CREATED:20251003T181808Z
LAST-MODIFIED:20251003T181808Z
UID:2557-1762435800-1762455600@marylandstemfestival.org
SUMMARY:MD STEM Fest Challenge
DESCRIPTION:Stations will be set up with Legos and marble runs. Look through our microscope and magnifying glass\, what do you see?
URL:https://marylandstemfestival.org/event/md-stem-fest-challenge-3/
LOCATION:Sharpsburg Library\, 106 East Main ST\, Sharpesburg\, MD\, 21782\, United States
CATEGORIES:Arts,Chemistry,Earth and Space Science,Engineering,Life Sciences,Physics,Technology
ORGANIZER;CN="Washington County Free Library":MAILTO:jraab@washcolibrary.org
END:VEVENT
BEGIN:VEVENT
DTSTART;TZID=America/New_York:20251107T110000
DTEND;TZID=America/New_York:20251107T120000
DTSTAMP:20260423T082954
CREATED:20250830T160020Z
LAST-MODIFIED:20250830T160020Z
UID:2194-1762513200-1762516800@marylandstemfestival.org
SUMMARY:Little Scientist Storytime
DESCRIPTION:Come listen to stories\, rhymes and songs all about different science concepts for little ones! Then stick around as we explore and experiment with activities that highlight early literacy skills during this special extended storytime! \nIdeal for ages 18 months to 5 years with a parent or caregiver. \nParents/caregivers MUST accompany children under the age of 8 during the program. \nQuestions about this program? Please contact Gaithersburg Library at 240-773-9490.
URL:https://marylandstemfestival.org/event/little-scientist-storytime/
LOCATION:Gaithersburg Library\, 18330 Montgomery Village Ave.\, Gaithersburg\, MD\, 20879\, United States
CATEGORIES:Engineering,Mathematics,Physics
END:VEVENT
BEGIN:VEVENT
DTSTART;TZID=America/New_York:20251107T140000
DTEND;TZID=America/New_York:20251107T160000
DTSTAMP:20260423T082954
CREATED:20251022T121724Z
LAST-MODIFIED:20251022T121724Z
UID:2742-1762524000-1762531200@marylandstemfestival.org
SUMMARY:Chemistry Magic Show and Mathstravaganza
DESCRIPTION:Join us for a Maryland STEM Festival event at Stevenson University. \nEnjoy an afternoon of science and math fun for all ages. \nThe Chemistry Magic Show (2–3 PM) will showcase the magic of chemistry through demonstrations that make ordinary materials behave in extraordinary ways. \nThe Mathstravaganza (3–4 PM) features hands-on math demonstrations that makes problem solving come alive. Explore the Monty Hall problem with jelly beans\, create fractal patterns through the chaos game\, experiment with bubble surfaces\, investigate probability with Buffon’s needle using Pixy Stix\, and more! \nFree and fun for everyone. Come explore the magic of STEM with us at Stevenson University.
URL:https://marylandstemfestival.org/event/chemistry-magic-show-and-mathstravaganza/
LOCATION:Stevenson University Manning Academic Center\, 11200 Gundry Ln\, Owings Mills\, MD\, 21117\, United States
CATEGORIES:Chemistry,Engineering,Mathematics,Physics,Technology
ORGANIZER;CN="Stevenson University":MAILTO:bwilson4@stevenson.edu
END:VEVENT
BEGIN:VEVENT
DTSTART;TZID=America/New_York:20251108T100000
DTEND;TZID=America/New_York:20251108T110000
DTSTAMP:20260423T082954
CREATED:20250910T150939Z
LAST-MODIFIED:20250910T150939Z
UID:2276-1762596000-1762599600@marylandstemfestival.org
SUMMARY:Preschool Science: Forces and Energy
DESCRIPTION:Join us for some pint-sized physics experiments to help us learn about forces and energy!
URL:https://marylandstemfestival.org/event/preschool-science-forces-and-energy/
LOCATION:Mt Airy Branch\, 705 Ridge Avenue\, Mt Airy\, MD\, 21771\, United States
CATEGORIES:Physics
ORGANIZER;CN="Carroll County Public Library":MAILTO:lpicker@carr.org
END:VEVENT
BEGIN:VEVENT
DTSTART;TZID=America/New_York:20251108T103000
DTEND;TZID=America/New_York:20251108T113000
DTSTAMP:20260423T082954
CREATED:20251024T115412Z
LAST-MODIFIED:20251024T115412Z
UID:2746-1762597800-1762601400@marylandstemfestival.org
SUMMARY:STEM at the Chevy Chase Library: Egg Drop Engineering Challenge - Presented by Science Connections
DESCRIPTION:Calling all future NASA engineers! Join Michelle Bertke of Science Connections to test out your design and construction skills. Learn how NASA engineers landed the most recent rover\, Perseverance\, on Mars in February 2021. Apply some of the same techniques they used to plan\, build\, and test out your very own creation. Can you complete the challenge: to protect your raw egg cargo from a 10-foot drop!! \nScience Connections specializes in exploring STEM (science\, technology\, engineering\, math) topics with hands-on activities that bring science alive. Each program and activity has been designed with Next Generation Science Standards in mind to ensure that it is not only fun but also educational. We will provide all of the materials for this program. \nFor 6-10 year olds \nSpace is limited. Register on our website! \nGenerously sponsored by the Friends of the Chevy Chase Library \nLocation: Chevy Chase Library Meeting Room (lower level) \nQuestions about this program? Contact the Chevy Chase Library at 240-773-9590
URL:https://marylandstemfestival.org/event/stem-at-the-chevy-chase-library-egg-drop-engineering-challenge-presented-by-science-connections/
LOCATION:Chevy Chase Library\, 8005 Connecticut Ave.\, Chevy Chase\, MD\, 20815\, United States
CATEGORIES:Earth and Space Science,Engineering,Physics
END:VEVENT
BEGIN:VEVENT
DTSTART;TZID=America/New_York:20251108T210000
DTEND;TZID=America/New_York:20251108T210000
DTSTAMP:20260423T082954
CREATED:20251109T120047Z
LAST-MODIFIED:20251118T125030Z
UID:2797-1762635600-1762635600@marylandstemfestival.org
SUMMARY:National STEM Day 2025 ~ Celebrate STEM Careers with Music
DESCRIPTION:? Play On\, Play – STEM is Power is an original anthem created to celebrate National STEM Day 2025 and beyond to inspire students to explore the power of creativity within STEM careers. \nThe song brings together music\, imagination\, and innovation\, showing how creative expression and scientific thinking can work in harmony to spark curiosity and discovery. \nDeveloped as part of the “Celebrate STEM with Music” initiative\, this anthem encourages students to dream boldly\, think critically\, and design their own path toward the future — all through the rhythm of music and the possibilities of STEM. \n? Purpose:\nTo motivate students to connect with STEM in a fun and expressive way — reminding them that the future of science and technology thrives on creativity\, collaboration\, and play. \n? Watch the Video: https://youtu.be/OaHv7GWWZJM
URL:https://marylandstemfestival.org/event/national-stem-day-2025-celebrate-stem-careers-with-music/
LOCATION:Online
CATEGORIES:Arts,Chemistry,Earth and Space Science,Engineering,Health,Internet Event,Mathematics,Physics,Technology
ORGANIZER;CN="MARTA ALI STUDIOS":MAILTO:martaalistudios@gmail.com
END:VEVENT
BEGIN:VEVENT
DTSTART;TZID=America/New_York:20251110T150000
DTEND;TZID=America/New_York:20251110T160000
DTSTAMP:20260423T082954
CREATED:20250930T232138Z
LAST-MODIFIED:20250930T232138Z
UID:2480-1762786800-1762790400@marylandstemfestival.org
SUMMARY:STEM Windmills
DESCRIPTION:Join us to celebrate the Maryland Stem Festival by making a craft based on this year’s theme: Energy! We will make our own windmills to show how wind energy works.
URL:https://marylandstemfestival.org/event/stem-windmills/
LOCATION:Roland Park Libray\, 5108 Roland Ave\, Baltimore\, MD\, 21210\, United States
CATEGORIES:Arts,Engineering,Physics
END:VEVENT
BEGIN:VEVENT
DTSTART;TZID=America/New_York:20251110T160000
DTEND;TZID=America/New_York:20251110T170000
DTSTAMP:20260423T082954
CREATED:20250909T131601Z
LAST-MODIFIED:20250909T131601Z
UID:2269-1762790400-1762794000@marylandstemfestival.org
SUMMARY:STEM at the Library: Catapults
DESCRIPTION:Join us for a fun afternoon of learning about energy through the construction and use of popsicle stick catapults. After building the catapults\, we will also conduct a competition to see which design works best.
URL:https://marylandstemfestival.org/event/stem-at-the-library-catapults/
LOCATION:Olney Library\, 3500 Olney Laytonsville Rd\, Olney\, MD\, 20832\, United States
CATEGORIES:Engineering,Physics
END:VEVENT
BEGIN:VEVENT
DTSTART;TZID=America/New_York:20251111T153000
DTEND;TZID=America/New_York:20251111T163000
DTSTAMP:20260423T082954
CREATED:20250930T231732Z
LAST-MODIFIED:20250930T231732Z
UID:2481-1762875000-1762878600@marylandstemfestival.org
SUMMARY:Celebrate the MD STEM Festival: Whirligigs
DESCRIPTION:Spin your way over to the Canton branch and create your own whirligig! \nJoin us in celebration of the MD STEM Festival and learn about this year’s theme: energy. Explore how wind and kinetic energy cause whirligigs to spin.
URL:https://marylandstemfestival.org/event/celebrate-the-md-stem-festival-whirligigs/
LOCATION:Canton Branch Library\, 1030 S. Ellwood Avenue\, Baltimore\, MD\, 21224\, United States
CATEGORIES:Arts,Physics,Technology
END:VEVENT
BEGIN:VEVENT
DTSTART;TZID=America/New_York:20251112T140000
DTEND;TZID=America/New_York:20251112T150000
DTSTAMP:20260423T082954
CREATED:20250814T032808Z
LAST-MODIFIED:20250814T032808Z
UID:1963-1762956000-1762959600@marylandstemfestival.org
SUMMARY:Make Your Own Wind-Up Toy
DESCRIPTION:Make your own wind-up toy vehicle using the power of springs and rubber bands\, and then compete to see whose runs the best! We’ll learn about the history and present of wind-up springs as an energy source\, explore various wind-up devices\, and make our own spring-powered toy vehicles to race and take home.
URL:https://marylandstemfestival.org/event/make-your-own-wind-up-toy/
LOCATION:Severn Branch Library\, 2624 Annapolis Rd\, Severn\, MD\, 21144\, United States
CATEGORIES:Engineering,Physics,Science and Society,Technology
END:VEVENT
BEGIN:VEVENT
DTSTART;TZID=America/New_York:20251112T150000
DTEND;TZID=America/New_York:20251112T160000
DTSTAMP:20260423T082954
CREATED:20250830T153449Z
LAST-MODIFIED:20250830T153449Z
UID:2173-1762959600-1762963200@marylandstemfestival.org
SUMMARY:Nanoscience
DESCRIPTION:Explore the world of the extremely small–so small you cannot see it with the human eye and where odd things happen at a nanoscale! \nEducational activities for homeschoolers and children in non-traditional school settings. Ages 6-11. (Repeat program offered on Nov. 4th at 11:00 a.m.)
URL:https://marylandstemfestival.org/event/nanoscience/
LOCATION:Perryville Branch Library\, 500 Coudon Blvd.\, Perryville\, MD\, 21903\, United States
CATEGORIES:Chemistry,Physics,Science and Society
ORGANIZER;CN="Cecil County Public Library":MAILTO:kmclimans@cecilcountylibrary.org
END:VEVENT
BEGIN:VEVENT
DTSTART;TZID=America/New_York:20251112T160000
DTEND;TZID=America/New_York:20251112T170000
DTSTAMP:20260423T082954
CREATED:20251001T010155Z
LAST-MODIFIED:20251001T010155Z
UID:2439-1762963200-1762966800@marylandstemfestival.org
SUMMARY:Taking Flight: STEM Program
DESCRIPTION:Childern will put together both a paper airplane/launcher and a 3D printer glider to learn about the Science of Flight. \nFor ages 6-12 \nSpace is limited. Register to save your spot.
URL:https://marylandstemfestival.org/event/taking-flight-stem-program/
LOCATION:Boonsboro Library\, 401 Potomac St.\, Boonsboro\, MD\, 21713\, United States
CATEGORIES:Engineering,Physics,Sports and Fitness
ORGANIZER;CN="Washington County Free Library":MAILTO:jraab@washcolibrary.org
END:VEVENT
BEGIN:VEVENT
DTSTART;TZID=America/New_York:20251112T173000
DTEND;TZID=America/New_York:20251112T200000
DTSTAMP:20260423T082954
CREATED:20251110T174719Z
LAST-MODIFIED:20251110T174719Z
UID:2799-1762968600-1762977600@marylandstemfestival.org
SUMMARY:Anne Arundel Community College's STEAM Night
DESCRIPTION:STEAM Night – Wednesday\, Nov 12\, 2025\, at 5:30 PM to 8:00 PM – Arnold – Robert E. Kauffman Theater in the Pascal Center for the Performing Arts. See how fun science can be! See how science connects all fields\, from architecture to performing and visual arts\, from drones to engineering to mathematics\, and everything in between. This family-friendly event is open to all ages and is sure to be a fun evening! What will your kids love more – the science show or the interactive demos? Plan to do both while you are here!5:30-6:30 p.m. and 7-8 p.m. \nTwo (identical) science shows will be on tap in the theatre. 5:30-7:30 p.m. \nEnjoy demonstrations and hands-on activities in the Student Union Hawk’s Nest before the 7 p.m. show or after the 5:30 p.m. show. For information\, visit the School of Science\, Technology\, and Education or email Professor Jason Barbour\, Ph.D.\, at jpbarbour@aacc.edu. \n  \n 
URL:https://marylandstemfestival.org/event/anne-arundel-community-colleges-steam-night/
LOCATION:Anne Arundel Community College\, 101 College Parkway\, Arnold\, MD\, 21044\, United States
CATEGORIES:Arts,Chemistry,Earth and Space Science,Engineering,Life Sciences,Mathematics,Physics,STEAM,Technology
ORGANIZER;CN="Arundel Community College":MAILTO:jpbarbour@aacc.edu
END:VEVENT
BEGIN:VEVENT
DTSTART;TZID=America/New_York:20251116T090000
DTEND;TZID=America/New_York:20251116T120000
DTSTAMP:20260423T082954
CREATED:20250908T151419Z
LAST-MODIFIED:20250908T151419Z
UID:2257-1763283600-1763294400@marylandstemfestival.org
SUMMARY:STEM Family Fun Festival
DESCRIPTION:Bring the whole family for a series of fun-filled drop-in events that give kids an opportunity to engage with STEM and collaborate to solve engineering design tasks. Our event is sponsored by NDMU’s School of Education and is run by the Leadership in Teaching: STEM program’s faculty and students.
URL:https://marylandstemfestival.org/event/stem-family-fun-festival/
LOCATION:Notre Dame of Maryland\, 4701 North Charles Street\, Baltimore\, MD\, 21210\, United States
CATEGORIES:Arts,Chemistry,Earth and Space Science,Engineering,Health,Life Sciences,Mathematics,Physics,Science and Society,Technology
ORGANIZER;CN="Notre Dame of Maryland":MAILTO:jdupuis@ndm.edu
END:VEVENT
BEGIN:VEVENT
DTSTART;TZID=America/New_York:20251117T160000
DTEND;TZID=America/New_York:20251117T170000
DTSTAMP:20260423T082954
CREATED:20250930T225900Z
LAST-MODIFIED:20250930T225900Z
UID:2484-1763395200-1763398800@marylandstemfestival.org
SUMMARY:Science Heroes Presents: Adventure of the Missing Color
DESCRIPTION:Join Science Heroes on their mission to turn science into an adventure! \nDiscover how fun and colorful science can be through hands-on experiments all about: \nchemical reactions\nair pressure\nphysical explosions\nand more!\nDon’t miss this exciting and interactive STEM learning adventure!
URL:https://marylandstemfestival.org/event/science-heroes-presents-adventure-of-the-missing-color/
LOCATION:Southeast Anchor\, 3601 Eastern Avenue\, Baltimore\, MD\, 21224\, United States
CATEGORIES:Chemistry,Physics,Technology
END:VEVENT
BEGIN:VEVENT
DTSTART;TZID=America/New_York:20260319T160000
DTEND;TZID=America/New_York:20260319T180000
DTSTAMP:20260423T082954
CREATED:20251113T124729Z
LAST-MODIFIED:20251113T124729Z
UID:2806-1773936000-1773943200@marylandstemfestival.org
SUMMARY:Family STEAM Night
DESCRIPTION:STEAM Night is a dynamic\, two-hour event featuring 15 hands-on\, student-led and guest-presenter activities\, including a planetarium\, that highlight engaging concepts in energy and energy transfer\, with participation from valued community partners such as the University of Maryland\, the Department of Public Works\, The NEED Project\, and Constellation.
URL:https://marylandstemfestival.org/event/family-steam-night/
LOCATION:KIPP Harmony Academy\, 2000 Edgewood Street\, Baltimore\, MD\, 21085\, United States
CATEGORIES:Chemistry,Engineering,Life Sciences,Physics,Science and Society
ORGANIZER;CN="KIPP Harmony Academy":MAILTO:pkendall@kippbaltimore.org
END:VEVENT
END:VCALENDAR