BEGIN:VCALENDAR
VERSION:2.0
PRODID:-//Maryland STEM Festival - ECPv6.15.20//NONSGML v1.0//EN
CALSCALE:GREGORIAN
METHOD:PUBLISH
X-WR-CALNAME:Maryland STEM Festival
X-ORIGINAL-URL:https://marylandstemfestival.org
X-WR-CALDESC:Events for Maryland STEM Festival
REFRESH-INTERVAL;VALUE=DURATION:PT1H
X-Robots-Tag:noindex
X-PUBLISHED-TTL:PT1H
BEGIN:VTIMEZONE
TZID:America/New_York
BEGIN:DAYLIGHT
TZOFFSETFROM:-0500
TZOFFSETTO:-0400
TZNAME:EDT
DTSTART:20240310T070000
END:DAYLIGHT
BEGIN:STANDARD
TZOFFSETFROM:-0400
TZOFFSETTO:-0500
TZNAME:EST
DTSTART:20241103T060000
END:STANDARD
BEGIN:DAYLIGHT
TZOFFSETFROM:-0500
TZOFFSETTO:-0400
TZNAME:EDT
DTSTART:20250309T070000
END:DAYLIGHT
BEGIN:STANDARD
TZOFFSETFROM:-0400
TZOFFSETTO:-0500
TZNAME:EST
DTSTART:20251102T060000
END:STANDARD
BEGIN:DAYLIGHT
TZOFFSETFROM:-0500
TZOFFSETTO:-0400
TZNAME:EDT
DTSTART:20260308T070000
END:DAYLIGHT
BEGIN:STANDARD
TZOFFSETFROM:-0400
TZOFFSETTO:-0500
TZNAME:EST
DTSTART:20261101T060000
END:STANDARD
END:VTIMEZONE
BEGIN:VEVENT
DTSTART;TZID=America/New_York:20251005T100000
DTEND;TZID=America/New_York:20251005T190000
DTSTAMP:20260419T095444
CREATED:20251003T184341Z
LAST-MODIFIED:20251003T184341Z
UID:2570-1759658400-1759690800@marylandstemfestival.org
SUMMARY:STEM Challenge Kit: Newton's Disc Spinner
DESCRIPTION:Stop by the Smithsburg Branch and pick up the STEM Challenge Kit for October. It is Newton’s Disc Spinner. While supplies last.
URL:https://marylandstemfestival.org/event/stem-challenge-kit-newtons-disc-spinner-5/
LOCATION:Smithsburg Library\, 66 W. Water St.\, Smithsburg\, MD\, 21783\, United States
CATEGORIES:Arts,Physics
ORGANIZER;CN="Washington County Free Library":MAILTO:jraab@washcolibrary.org
END:VEVENT
BEGIN:VEVENT
DTSTART;TZID=America/New_York:20251004T100000
DTEND;TZID=America/New_York:20251004T190000
DTSTAMP:20260419T095444
CREATED:20251003T184221Z
LAST-MODIFIED:20251003T184221Z
UID:2569-1759572000-1759604400@marylandstemfestival.org
SUMMARY:STEM Challenge Kit: Newton's Disc Spinner
DESCRIPTION:Stop by the Smithsburg Branch and pick up the STEM Challenge Kit for October. It is Newton’s Disc Spinner. While supplies last.
URL:https://marylandstemfestival.org/event/stem-challenge-kit-newtons-disc-spinner-4/
LOCATION:Smithsburg Library\, 66 W. Water St.\, Smithsburg\, MD\, 21783\, United States
CATEGORIES:Arts,Physics
ORGANIZER;CN="Washington County Free Library":MAILTO:jraab@washcolibrary.org
END:VEVENT
BEGIN:VEVENT
DTSTART;TZID=America/New_York:20251003T100000
DTEND;TZID=America/New_York:20251003T190000
DTSTAMP:20260419T095444
CREATED:20251003T184127Z
LAST-MODIFIED:20251003T184127Z
UID:2568-1759485600-1759518000@marylandstemfestival.org
SUMMARY:STEM Challenge Kit: Newton's Disc Spinner
DESCRIPTION:Stop by the Smithsburg Branch and pick up the STEM Challenge Kit for October. It is Newton’s Disc Spinner. While supplies last.
URL:https://marylandstemfestival.org/event/stem-challenge-kit-newtons-disc-spinner-3/
LOCATION:Smithsburg Library\, 66 W. Water St.\, Smithsburg\, MD\, 21783\, United States
CATEGORIES:Arts,Physics
ORGANIZER;CN="Washington County Free Library":MAILTO:jraab@washcolibrary.org
END:VEVENT
BEGIN:VEVENT
DTSTART;TZID=America/New_York:20251002T160000
DTEND;TZID=America/New_York:20251002T170000
DTSTAMP:20260419T095444
CREATED:20251001T002143Z
LAST-MODIFIED:20251001T002143Z
UID:2471-1759420800-1759424400@marylandstemfestival.org
SUMMARY:Building Block Club
DESCRIPTION:Building Block Club is where you can let your imagination run wild! Whether you’re a master builder or just starting out\, this hands-on program lets you create amazing structures\, vehicles\, and designs using colorful building blocks. Each session is a chance to explore new building challenges\, collaborate with friends\, and unleash your creativity. Come build\, play\, and bring your wildest ideas to life with us!
URL:https://marylandstemfestival.org/event/building-block-club/
LOCATION:Waverly Branch Library\, 400 E. 33rd St\, Baltimore\, ME\, 21218\, United States
CATEGORIES:Engineering,Physics
END:VEVENT
BEGIN:VEVENT
DTSTART;TZID=America/New_York:20251002T100000
DTEND;TZID=America/New_York:20251002T190000
DTSTAMP:20260419T095444
CREATED:20251003T184032Z
LAST-MODIFIED:20251003T184032Z
UID:2567-1759399200-1759431600@marylandstemfestival.org
SUMMARY:STEM Challenge Kit: Newton's Disc Spinner
DESCRIPTION:Stop by the Smithsburg Branch and pick up the STEM Challenge Kit for October. It is Newton’s Disc Spinner. While supplies last.
URL:https://marylandstemfestival.org/event/stem-challenge-kit-newtons-disc-spinner-2/
LOCATION:Smithsburg Library\, 66 W. Water St.\, Smithsburg\, MD\, 21783\, United States
CATEGORIES:Arts,Physics
ORGANIZER;CN="Washington County Free Library":MAILTO:jraab@washcolibrary.org
END:VEVENT
BEGIN:VEVENT
DTSTART;TZID=America/New_York:20251001T100000
DTEND;TZID=America/New_York:20251001T190000
DTSTAMP:20260419T095444
CREATED:20251001T013836Z
LAST-MODIFIED:20251002T110225Z
UID:2425-1759312800-1759345200@marylandstemfestival.org
SUMMARY:STEM Challenge Kit: Newton's Disc Spinner
DESCRIPTION:Stop by the Smithsburg Branch and pick up the STEM Challenge Kit for October. It is Newton’s Disc Spinner. While supplies last.
URL:https://marylandstemfestival.org/event/stem-challenge-kit-newtons-disc-spinner/
LOCATION:Smithsburg Library\, 66 W. Water St.\, Smithsburg\, MD\, 21783\, United States
CATEGORIES:Arts,Physics
ORGANIZER;CN="Washington County Free Library":MAILTO:jraab@washcolibrary.org
END:VEVENT
END:VCALENDAR