BEGIN:VCALENDAR
VERSION:2.0
PRODID:-//Maryland STEM Festival - ECPv6.15.20//NONSGML v1.0//EN
CALSCALE:GREGORIAN
METHOD:PUBLISH
X-ORIGINAL-URL:https://marylandstemfestival.org
X-WR-CALDESC:Events for Maryland STEM Festival
REFRESH-INTERVAL;VALUE=DURATION:PT1H
X-Robots-Tag:noindex
X-PUBLISHED-TTL:PT1H
BEGIN:VTIMEZONE
TZID:America/New_York
BEGIN:DAYLIGHT
TZOFFSETFROM:-0500
TZOFFSETTO:-0400
TZNAME:EDT
DTSTART:20240310T070000
END:DAYLIGHT
BEGIN:STANDARD
TZOFFSETFROM:-0400
TZOFFSETTO:-0500
TZNAME:EST
DTSTART:20241103T060000
END:STANDARD
BEGIN:DAYLIGHT
TZOFFSETFROM:-0500
TZOFFSETTO:-0400
TZNAME:EDT
DTSTART:20250309T070000
END:DAYLIGHT
BEGIN:STANDARD
TZOFFSETFROM:-0400
TZOFFSETTO:-0500
TZNAME:EST
DTSTART:20251102T060000
END:STANDARD
BEGIN:DAYLIGHT
TZOFFSETFROM:-0500
TZOFFSETTO:-0400
TZNAME:EDT
DTSTART:20260308T070000
END:DAYLIGHT
BEGIN:STANDARD
TZOFFSETFROM:-0400
TZOFFSETTO:-0500
TZNAME:EST
DTSTART:20261101T060000
END:STANDARD
END:VTIMEZONE
BEGIN:VEVENT
DTSTART;TZID=America/New_York:20251112T173000
DTEND;TZID=America/New_York:20251112T200000
DTSTAMP:20260419T161443
CREATED:20251110T174719Z
LAST-MODIFIED:20251110T174719Z
UID:2799-1762968600-1762977600@marylandstemfestival.org
SUMMARY:Anne Arundel Community College's STEAM Night
DESCRIPTION:STEAM Night – Wednesday\, Nov 12\, 2025\, at 5:30 PM to 8:00 PM – Arnold – Robert E. Kauffman Theater in the Pascal Center for the Performing Arts. See how fun science can be! See how science connects all fields\, from architecture to performing and visual arts\, from drones to engineering to mathematics\, and everything in between. This family-friendly event is open to all ages and is sure to be a fun evening! What will your kids love more – the science show or the interactive demos? Plan to do both while you are here!5:30-6:30 p.m. and 7-8 p.m. \nTwo (identical) science shows will be on tap in the theatre. 5:30-7:30 p.m. \nEnjoy demonstrations and hands-on activities in the Student Union Hawk’s Nest before the 7 p.m. show or after the 5:30 p.m. show. For information\, visit the School of Science\, Technology\, and Education or email Professor Jason Barbour\, Ph.D.\, at jpbarbour@aacc.edu. \n  \n 
URL:https://marylandstemfestival.org/event/anne-arundel-community-colleges-steam-night/
LOCATION:Anne Arundel Community College\, 101 College Parkway\, Arnold\, MD\, 21044\, United States
CATEGORIES:Arts,Chemistry,Earth and Space Science,Engineering,Life Sciences,Mathematics,Physics,STEAM,Technology
ORGANIZER;CN="Arundel Community College":MAILTO:jpbarbour@aacc.edu
END:VEVENT
END:VCALENDAR