BEGIN:VCALENDAR
VERSION:2.0
PRODID:-//Maryland STEM Festival - ECPv6.15.20//NONSGML v1.0//EN
CALSCALE:GREGORIAN
METHOD:PUBLISH
X-ORIGINAL-URL:https://marylandstemfestival.org
X-WR-CALDESC:Events for Maryland STEM Festival
REFRESH-INTERVAL;VALUE=DURATION:PT1H
X-Robots-Tag:noindex
X-PUBLISHED-TTL:PT1H
BEGIN:VTIMEZONE
TZID:America/New_York
BEGIN:DAYLIGHT
TZOFFSETFROM:-0500
TZOFFSETTO:-0400
TZNAME:EDT
DTSTART:20240310T070000
END:DAYLIGHT
BEGIN:STANDARD
TZOFFSETFROM:-0400
TZOFFSETTO:-0500
TZNAME:EST
DTSTART:20241103T060000
END:STANDARD
BEGIN:DAYLIGHT
TZOFFSETFROM:-0500
TZOFFSETTO:-0400
TZNAME:EDT
DTSTART:20250309T070000
END:DAYLIGHT
BEGIN:STANDARD
TZOFFSETFROM:-0400
TZOFFSETTO:-0500
TZNAME:EST
DTSTART:20251102T060000
END:STANDARD
BEGIN:DAYLIGHT
TZOFFSETFROM:-0500
TZOFFSETTO:-0400
TZNAME:EDT
DTSTART:20260308T070000
END:DAYLIGHT
BEGIN:STANDARD
TZOFFSETFROM:-0400
TZOFFSETTO:-0500
TZNAME:EST
DTSTART:20261101T060000
END:STANDARD
END:VTIMEZONE
BEGIN:VEVENT
DTSTART;TZID=America/New_York:20251015T110000
DTEND;TZID=America/New_York:20251015T120000
DTSTAMP:20260419T095520
CREATED:20251001T001854Z
LAST-MODIFIED:20251001T001854Z
UID:2472-1760526000-1760529600@marylandstemfestival.org
SUMMARY:Sensory Scientists
DESCRIPTION:Little ones will become Sensory Scientists as they explore the world through touch\, sight\, smell\, and temperature. From experimenting with ice cubes to dancing on textured tiles\, it will be a fun-filled morning of sensory play!
URL:https://marylandstemfestival.org/event/sensory-scientists/
LOCATION:Edmondson Avenue Branch\, 4330 Edmondson Avenue\, Baltimore\, MD\, 21229\, United States
CATEGORIES:Engineering,Life Sciences,STEM,Technology
END:VEVENT
BEGIN:VEVENT
DTSTART;TZID=America/New_York:20251015T160000
DTEND;TZID=America/New_York:20251015T170000
DTSTAMP:20260419T095520
CREATED:20250927T123316Z
LAST-MODIFIED:20250927T123316Z
UID:2411-1760544000-1760547600@marylandstemfestival.org
SUMMARY:Makerspace Wednesday: Vibrobots
DESCRIPTION:Get ready to build something that buzzes\, spins\, and zooms! In this hands-on workshop\, tweens (ages 9–12) will design and build their own vibrating mini-robots using simple materials and real motors.
URL:https://marylandstemfestival.org/event/makerspace-wednesday-vibrobots/
LOCATION:Enoch Pratt Free Library\, 1531 W. North Avenue\, Baltimore\, MD\, 21217\, United States
CATEGORIES:Technology
END:VEVENT
BEGIN:VEVENT
DTSTART;TZID=America/New_York:20251015T163000
DTEND;TZID=America/New_York:20251015T173000
DTSTAMP:20260419T095520
CREATED:20250925T120728Z
LAST-MODIFIED:20251003T185135Z
UID:2400-1760545800-1760549400@marylandstemfestival.org
SUMMARY:Coding with Python - A Six-Week Course
DESCRIPTION:The Richard Montgomery High School robotics team\, Rocket Robotics\, is excited to offer a free\, 6-week coding course for middle school students\, designed to introduce beginners to the fundamentals of programming and spark interest in programming and robotics. This hands-on course will cover the fundamentals of coding using one of the most popular programming languages\, Python. Students will receive guided instruction over the 6-session course which will help them understand key concepts (such as basic Python syntax\, working with and manipulating data\, control structures like loops and if statements\, and creating reusable methods) and prepare them to further advance their coding skills. \nExperienced high school mentors will guide the participants\, providing personalized support and encouragement. With each session building on the last\, students will not only gain a solid foundation in Python programming that they can apply in robotics and other coding projects\, but also the confidence to explore further in the world of technology and robotics. Whether you’re new to coding or looking to strengthen your skills\, this course will provide a supportive and engaging environment to get started with Python. \nStudents are requested to bring their own laptop computers if possible. If they cannot\, a limited number of laptops will be available for student use during the course. \nClass is offered on 10/15\, 10/22\, 10/29\, 11/5\, 11/12\, 11/19
URL:https://marylandstemfestival.org/event/coding-with-python-a-six-week-course/
LOCATION:potomac library\, 10101 Glenolden Drive\, Potomac\, MD\, 20854\, United States
CATEGORIES:Technology
END:VEVENT
END:VCALENDAR