BEGIN:VCALENDAR
VERSION:2.0
PRODID:-//Maryland STEM Festival - ECPv6.15.20//NONSGML v1.0//EN
CALSCALE:GREGORIAN
METHOD:PUBLISH
X-WR-CALNAME:Maryland STEM Festival
X-ORIGINAL-URL:https://marylandstemfestival.org
X-WR-CALDESC:Events for Maryland STEM Festival
REFRESH-INTERVAL;VALUE=DURATION:PT1H
X-Robots-Tag:noindex
X-PUBLISHED-TTL:PT1H
BEGIN:VTIMEZONE
TZID:America/New_York
BEGIN:DAYLIGHT
TZOFFSETFROM:-0500
TZOFFSETTO:-0400
TZNAME:EDT
DTSTART:20240310T070000
END:DAYLIGHT
BEGIN:STANDARD
TZOFFSETFROM:-0400
TZOFFSETTO:-0500
TZNAME:EST
DTSTART:20241103T060000
END:STANDARD
BEGIN:DAYLIGHT
TZOFFSETFROM:-0500
TZOFFSETTO:-0400
TZNAME:EDT
DTSTART:20250309T070000
END:DAYLIGHT
BEGIN:STANDARD
TZOFFSETFROM:-0400
TZOFFSETTO:-0500
TZNAME:EST
DTSTART:20251102T060000
END:STANDARD
BEGIN:DAYLIGHT
TZOFFSETFROM:-0500
TZOFFSETTO:-0400
TZNAME:EDT
DTSTART:20260308T070000
END:DAYLIGHT
BEGIN:STANDARD
TZOFFSETFROM:-0400
TZOFFSETTO:-0500
TZNAME:EST
DTSTART:20261101T060000
END:STANDARD
END:VTIMEZONE
BEGIN:VEVENT
DTSTART;TZID=America/New_York:20251017T143000
DTEND;TZID=America/New_York:20251017T173000
DTSTAMP:20260419T220139
CREATED:20250930T122518Z
LAST-MODIFIED:20250930T122518Z
UID:2417-1760711400-1760722200@marylandstemfestival.org
SUMMARY:STEM Party in the Park
DESCRIPTION:Join the Mobile Library at Sudlersville Park for a day of fun where all ages can participate in a variety of STEM activities from snap circuits to microscopes and more! Refreshment will be provided\, feel free to bring your own snacks too!
URL:https://marylandstemfestival.org/event/stem-party-in-the-park/
LOCATION:Queen Anne’s County Library\, 121 S Commerce St\, Centreville\, MD\, 21617\, United States
CATEGORIES:Chemistry,Engineering,Technology
ORGANIZER;CN="Queen Anne's County Library":MAILTO:caitbyrnes@qaclibrary.org
END:VEVENT
BEGIN:VEVENT
DTSTART;TZID=America/New_York:20251017T150000
DTEND;TZID=America/New_York:20251017T160000
DTSTAMP:20260419T220139
CREATED:20250912T050220Z
LAST-MODIFIED:20250912T050220Z
UID:2288-1760713200-1760716800@marylandstemfestival.org
SUMMARY:Robot Pumpkin Smash
DESCRIPTION:Join the Robo-Lions\, a team of students\, as they fire up their robots for Robot Pumpkin Smash! Find out how long it takes a robot to crack open a pumpkin. This program is a collaboration between PIE3 (Partnership in Inspiration for Engineering Education and Entrepreneurship)\, Robo-Lions\, and Carroll County Public Library.
URL:https://marylandstemfestival.org/event/robot-pumpkin-smash-3/
LOCATION:Taneytown Branch\, 10 Grand Drive\, Tawneytown\, MD\, 21787\, United States
CATEGORIES:Engineering,Technology
ORGANIZER;CN="Carroll County Public Library":MAILTO:lpicker@carr.org
END:VEVENT
BEGIN:VEVENT
DTSTART;TZID=America/New_York:20251018T090000
DTEND;TZID=America/New_York:20251018T120000
DTSTAMP:20260419T220139
CREATED:20251012T185636Z
LAST-MODIFIED:20251015T103313Z
UID:2674-1760778000-1760788800@marylandstemfestival.org
SUMMARY:Lower Shore STEM Festival
DESCRIPTION:Join us for a morning of STEM activities. Meet former astronaut Don Thomas and more. 1st 100 students get a Festival shirt.  The event is in Henson Hall at Salisbury University. Click here for details.
URL:https://marylandstemfestival.org/event/lower-shore-stem-festival/
LOCATION:Salisbury University\, Henson School of Science & Technology\, 1101 Camden Ave\, Salisbury\, MD\, 21801\, United States
CATEGORIES:Engineering,Life Sciences,Makerspace,Science and Society,Technology
END:VEVENT
BEGIN:VEVENT
DTSTART;TZID=America/New_York:20251018T100000
DTEND;TZID=America/New_York:20251018T140000
DTSTAMP:20260419T220139
CREATED:20250912T181555Z
LAST-MODIFIED:20250912T181555Z
UID:2203-1760781600-1760796000@marylandstemfestival.org
SUMMARY:UMES Extension 4-H STEM Expo
DESCRIPTION:Join us on October 18th from 10 am to 2 pm for a day of hands-on interactive activities. The 2025 University of Maryland Eastern Shore Extension 4-H STEM Expo is a free event that is open to youth of all ages and their families. Located on the UMES campus in our Engineering & Aviation Sciences complex. \nAll are welcome\, whether you are a youth exploring the world of STEM or a parent looking for future opportunities to inspire the next generation. This is the event for you as the events goal is to promote STEM related organizations\, careers\, and degrees. \nThis years exhibitors include:\nUMES Professors from all STEM disciplines\nNASA Wallops Island\nPocomoke State Forrest\nNational Aquarium’s Animal Rescue Division\nAnd more…\nThe 2025 University of Maryland Eastern Shore Extension 4-H STEM Expo coordinated by the University of Maryland Eastern Shore Extension 4-H STEM faculty/staff will be held on Saturday\, October 18th \, 2025\, from 10:00 am to 2:00 pm. This event will once again be held inside (limited outside space could be used upon request) the UMES Engineering & Aviation Science Complex on campus in Princess Anne\, Maryland. \nWe invite you or a representative from your organization/department to offer an interactive exhibit at this year’s event. The UMES Extension 4-H STEM Festival is part of the broader Maryland STEM Festival\, whose statewide theme is “Energy” (do not worry about following this theme for our event). We ask all exhibitors to have an interactive display/activity station that promotes STEM related careers/degrees that your organization is connected to or meets the statewide theme. Our focus is youth in K-12 and families with past festival years drawing from 175 to 400 participants. \nEach exhibitor will be supplied with a table and 2 chairs (more tables or chairs available upon request). If you need electricity for your table\, please let us know through the JotForm below. The event starts at 10:00 am and we ask you to have your exhibit/activity set up by 9:30 am on October 18th 2025. Breakdown/clean up begins at 2:00 pm. \nPlease consider joining us for another great UMES Extension 4-H STEM Expo. To register your organization/group please complete the Exhibitor Registration Form (https://form.jotform.com/252195123635152 ). We kindly ask that you respond by Friday October 3rd 2025 to give us time to coordinate tables and space. \nPlease share this information with any colleagues or organizations that you think would be willing to take part or attend the event.
URL:https://marylandstemfestival.org/event/umes-extension-4-h-stem-expo/
LOCATION:UMES Engineering & Aviation Sciences Building\, 30690 University Blvd. S. Kiah Hall 1112\, Princess Anne\, MD\, 21853\, United States
CATEGORIES:Arts,Business and Careers,Chemistry,Earth and Space Science,Engineering,Food,Health,Life Sciences,Mathematics,Physics,Science and Society,Technology
ORGANIZER;CN="University of Maryland Eastern Shore Extension 4-H":MAILTO:amclay@umes.edu
END:VEVENT
BEGIN:VEVENT
DTSTART;TZID=America/New_York:20251018T120000
DTEND;TZID=America/New_York:20251018T160000
DTSTAMP:20260419T220139
CREATED:20250813T163512Z
LAST-MODIFIED:20250813T163512Z
UID:1966-1760788800-1760803200@marylandstemfestival.org
SUMMARY:Solar Science and Engineering Celebration
DESCRIPTION:The Solar Science and Engineering Celebration is an opportunity for families to immerse themselves in a day of discovery! Learn about solar science through special opportunities to safely view the Sun through multiple wavelengths. Engage in hands-on engineering challenges to learn more about current space missions and technology. Do you want to control a robot? Our local robotics teams will have a station available for families to see robots in action. A food truck\, outdoor games\, and other activities are also available throughout the day.
URL:https://marylandstemfestival.org/event/solar-science-and-engineering-celebration/
LOCATION:Glenelg Country School Upper School Building\, 12793 Folly Quarter Rd\, Ellicott City\, MD\, 21042-1271\, United States
CATEGORIES:Earth and Space Science,Engineering,Technology
ATTACH;FMTTYPE=image/webp:https://marylandstemfestival.org/wp-content/uploads/2025/07/Solar-Science-and-Engineering-Celebration-719e9f690adef637bfed90fda3bc85cc.webp
ORGANIZER;CN="Grenelg Country School":MAILTO:krolon@glenelg.org
END:VEVENT
BEGIN:VEVENT
DTSTART;TZID=America/New_York:20251018T133000
DTEND;TZID=America/New_York:20251018T163000
DTSTAMP:20260419T220139
CREATED:20250919T122326Z
LAST-MODIFIED:20250919T122326Z
UID:2331-1760794200-1760805000@marylandstemfestival.org
SUMMARY:Intro to Laser Cutting
DESCRIPTION:This beginner-level laser cutter class will walk you through design basics\, machine use\, and safety procedures. At the instructor’s discretion\, customers who successfully complete this program will be certified to use the Exploration Commons’ Fusion Pro and Fusion Edge laser cutters.
URL:https://marylandstemfestival.org/event/intro-to-laser-cutting/
LOCATION:Carroll County Public Library\, Exploration Commons\, 50 East Main Street\, Westminster\, MD\, 21157\, United States
CATEGORIES:Technology
ORGANIZER;CN="Carroll County Public Library":MAILTO:lpicker@carr.org
END:VEVENT
BEGIN:VEVENT
DTSTART;TZID=America/New_York:20251018T140000
DTEND;TZID=America/New_York:20251018T150000
DTSTAMP:20260419T220139
CREATED:20250813T162704Z
LAST-MODIFIED:20250813T162704Z
UID:2050-1760796000-1760799600@marylandstemfestival.org
SUMMARY:Hocus-Pocus Slime Science (Ages 6+ w/adult)
DESCRIPTION:Come explore the science of chemistry as we brew up some fiendishly fun slime for Halloween. \nTickets will be available at the children’s desk 15 minutes before class. \nThis class is part of the 2025 Maryland STEM Festival.
URL:https://marylandstemfestival.org/event/hocus-pocus-slime-science-ages-6-w-adult/
LOCATION:Elkridge Branch Library\, 6540 Washington Blvd\,\, Elkridge\, MD\, 21075\, United States
CATEGORIES:Science and Society,Technology
END:VEVENT
BEGIN:VEVENT
DTSTART;TZID=America/New_York:20251018T140000
DTEND;TZID=America/New_York:20251018T150000
DTSTAMP:20260419T220139
CREATED:20250814T025602Z
LAST-MODIFIED:20250814T025602Z
UID:2049-1760796000-1760799600@marylandstemfestival.org
SUMMARY:Chemistry in the Library: The Hidden Life of Spices (grades 2 and up)
DESCRIPTION:Grades 2 & up (Students aged 7-8 must be accompanied by an adult.). 60 min. Registration required. \nJoin a chemist from the American Chemical Society for a hands-on program on the chemistry of the hidden life of spices. \nThis class is part of the 2025 Maryland STEM Festival.
URL:https://marylandstemfestival.org/event/chemistry-in-the-library-the-hidden-life-of-spices-grades-2-and-up/
LOCATION:Miller Branch Library\, 9421 Frederick Rd\, Ellicott City\, MD\, 21042\, United States
CATEGORIES:Science and Society,Technology
END:VEVENT
BEGIN:VEVENT
DTSTART;TZID=America/New_York:20251018T140000
DTEND;TZID=America/New_York:20251018T150000
DTSTAMP:20260419T220139
CREATED:20251001T020507Z
LAST-MODIFIED:20251001T020507Z
UID:2430-1760796000-1760799600@marylandstemfestival.org
SUMMARY:LEGO Club
DESCRIPTION:Children ages 4 and older\, come build with LEGO. A new LEGO building idea every month. Materials must stay at the library. No registration necessary. This month’s theme: Pumpkins
URL:https://marylandstemfestival.org/event/lego-club-8/
LOCATION:Hagerstown Branch\, 100 S. Potomac St.\, Hagerstown\, MD\, 21740\, United States
CATEGORIES:Engineering,Mathematics,Technology
ORGANIZER;CN="Washington County Free Library":MAILTO:jraab@washcolibrary.org
END:VEVENT
BEGIN:VEVENT
DTSTART;TZID=America/New_York:20251018T140000
DTEND;TZID=America/New_York:20251018T153000
DTSTAMP:20260419T220139
CREATED:20250814T030022Z
LAST-MODIFIED:20250814T030022Z
UID:2052-1760796000-1760801400@marylandstemfestival.org
SUMMARY:Electric Moving Head Fan: Makerspace Maryland STEM Festival
DESCRIPTION:Engineer a standing\, electric fan while learning motor assembly\, basic circuitry\, and the principles of convection and evaporation. \nThis class is part of the 2025 Maryland STEM Festival.
URL:https://marylandstemfestival.org/event/electric-moving-head-fan-makerspace-maryland-stem-festival/
LOCATION:Elkridge Branch Library\, 6540 Washington Blvd\,\, Elkridge\, MD\, 21075\, United States
CATEGORIES:Technology
END:VEVENT
BEGIN:VEVENT
DTSTART;TZID=America/New_York:20251018T140000
DTEND;TZID=America/New_York:20251018T153000
DTSTAMP:20260419T220139
CREATED:20250814T031519Z
LAST-MODIFIED:20250814T031519Z
UID:1993-1760796000-1760801400@marylandstemfestival.org
SUMMARY:3D Print Keychains
DESCRIPTION:great way to decorate your backpack or lanyard! Open to children 6-18. Space is limited and registration is required.
URL:https://marylandstemfestival.org/event/3d-print-keychains/
LOCATION:Wicomico Public Library-Paul S Sarbanes Branch\, 122 South Division Street\, Salisbury\, MD\, 21801\, United States
CATEGORIES:Technology
END:VEVENT
BEGIN:VEVENT
DTSTART;TZID=America/New_York:20251020T090000
DTEND;TZID=America/New_York:20251020T170000
DTSTAMP:20260419T220139
CREATED:20251001T013602Z
LAST-MODIFIED:20251003T183333Z
UID:2431-1760950800-1760979600@marylandstemfestival.org
SUMMARY:Take N Make: Pantograph Art Machine
DESCRIPTION:Register to pick up your Take N Make kit at the library branch of your choice between October 20 and 24. For ages 6 to 12. Registration required. This month’s Take N Make project: Make a Pantograph!
URL:https://marylandstemfestival.org/event/take-n-make-pantograph-art-machine/
LOCATION:Hagerstown Branch\, 100 S. Potomac St.\, Hagerstown\, MD\, 21740\, United States
CATEGORIES:Arts,Earth and Space Science,Technology
ORGANIZER;CN="Washington County Free Library":MAILTO:jraab@washcolibrary.org
END:VEVENT
BEGIN:VEVENT
DTSTART;TZID=America/New_York:20251020T110000
DTEND;TZID=America/New_York:20251020T113000
DTSTAMP:20260419T220139
CREATED:20251011T022429Z
LAST-MODIFIED:20251011T022429Z
UID:2636-1760958000-1760959800@marylandstemfestival.org
SUMMARY:Little Adventurers
DESCRIPTION:Children learn and explore through hands on activities using science\, technology\, engineering\, art\, and math concepts at the library. Caregivers are encouraged to connect with children and participate in the activities!
URL:https://marylandstemfestival.org/event/little-adventurers-4/
LOCATION:Emmitsburg Library\, 300 South Seton Ave\, Emmitsburg\, MD\, 21727\, United States
CATEGORIES:Arts,Engineering,Mathematics,Science and Society,Technology
ORGANIZER;CN="Frederick County Public Libraries":MAILTO:rgoetz@frederickcountymd.gov
END:VEVENT
BEGIN:VEVENT
DTSTART;TZID=America/New_York:20251020T140000
DTEND;TZID=America/New_York:20251020T150000
DTSTAMP:20260419T220139
CREATED:20250912T190927Z
LAST-MODIFIED:20250912T190927Z
UID:2224-1760968800-1760972400@marylandstemfestival.org
SUMMARY:Adult Computer Class: Ancestry and Heritage Quest
DESCRIPTION:Join staff for an introductory lesson in using Ancestry (library use only) and Heritage Quest (use anywhere with your library card) and take knowledge of these free-to-you databases with you through your journey of discovery. No experience needed. Laptops will be provided for use during the program. \nRegistration is required. Recommended for ages 18+. \nIf you have questions\, please contact the P.D. Brown Branch at 301-645-2864 or email pdbrownref@ccplonline.org
URL:https://marylandstemfestival.org/event/adult-computer-class-ancestry-and-heritage-quest/
LOCATION:PD Brown Memorial Branch\, 50 Village Street\, Waldorf\, MD\, 20602\, United States
CATEGORIES:Science and Society,Technology
ORGANIZER;CN="Charles County Public Library":MAILTO:rdavis@ccplonline.org
END:VEVENT
BEGIN:VEVENT
DTSTART;TZID=America/New_York:20251020T163000
DTEND;TZID=America/New_York:20251020T193000
DTSTAMP:20260419T220139
CREATED:20250921T023731Z
LAST-MODIFIED:20250921T023731Z
UID:2332-1760977800-1760988600@marylandstemfestival.org
SUMMARY:Ghostly Glow: 3D Printed Night-Lights
DESCRIPTION:Want to spice up your Halloween night decor? In this class\, we will 3D model our own ghostly figures that can be rigged up to everyday electronics to create a one-of-a-kind spooky night-light!
URL:https://marylandstemfestival.org/event/ghostly-glow-3d-printed-night-lights/
LOCATION:Westminster Branch\, 50 East Main Street\, Westminster\, MD\, 21157\, United States
CATEGORIES:Engineering,Technology
ORGANIZER;CN="Carroll County Public Library":MAILTO:lpicker@carr.org
END:VEVENT
BEGIN:VEVENT
DTSTART;TZID=America/New_York:20251020T170000
DTEND;TZID=America/New_York:20251020T180000
DTSTAMP:20260419T220139
CREATED:20250915T000431Z
LAST-MODIFIED:20250915T000431Z
UID:2275-1760979600-1760983200@marylandstemfestival.org
SUMMARY:LEGO® Builders Club
DESCRIPTION:Want to practice your building skills? Join us for a LEGO® program where you tackle a new design each time! Bring a grown-up and build together. We supply the bricks\, and you supply the creativity.
URL:https://marylandstemfestival.org/event/lego-builders-club/
LOCATION:Carroll County Public Library Mount Airy location\, 705 Ridge Avenue\, Mount Airy\, MD\, 21771\, United States
CATEGORIES:Engineering,Physics,Technology
ORGANIZER;CN="Carroll County Public Library":MAILTO:lpicker@carr.org
END:VEVENT
BEGIN:VEVENT
DTSTART;TZID=America/New_York:20251020T173000
DTEND;TZID=America/New_York:20251020T183000
DTSTAMP:20260419T220139
CREATED:20250814T025841Z
LAST-MODIFIED:20250814T025841Z
UID:2054-1760981400-1760985000@marylandstemfestival.org
SUMMARY:3-D Pattern Puzzles (ages 6-10)
DESCRIPTION:Ages 6-10; 45min. \nSolve fun 3-D puzzle challenges and create your own designs with 3-D red and white pattern blocks. \nThis class is part of the 2025 Maryland STEM Festival. Click here for the full schedule of classes and events for all ages.
URL:https://marylandstemfestival.org/event/3-d-pattern-puzzles-ages-6-10/
LOCATION:Elkridge Branch Library\, 6540 Washington Blvd\,\, Elkridge\, MD\, 21075\, United States
CATEGORIES:Technology
END:VEVENT
BEGIN:VEVENT
DTSTART;TZID=America/New_York:20251020T180000
DTEND;TZID=America/New_York:20251020T193000
DTSTAMP:20260419T220139
CREATED:20250807T130243Z
LAST-MODIFIED:20250807T130243Z
UID:2056-1760983200-1760988600@marylandstemfestival.org
SUMMARY:Newton's Cradle: Makerspace Mondays
DESCRIPTION:Learn about Sir Isaac Newton\, the law of Conservation of Momentum\, vectors\, closed systems\, and energy while engineering a perpetual motion pendulum. All materials provided and students keep their constructed machines. \nThis class is part of the 2025 Maryland STEM Festival.
URL:https://marylandstemfestival.org/event/newtons-cradle-makerspace-mondays/
LOCATION:Elkridge Branch Library\, 6540 Washington Blvd\,\, Elkridge\, MD\, 21075\, United States
CATEGORIES:Science and Society,Technology
END:VEVENT
BEGIN:VEVENT
DTSTART;TZID=America/New_York:20251021T090000
DTEND;TZID=America/New_York:20251021T170000
DTSTAMP:20260419T220139
CREATED:20251003T183418Z
LAST-MODIFIED:20251003T183418Z
UID:2563-1761037200-1761066000@marylandstemfestival.org
SUMMARY:Take N Make: Pantograph Art Machine
DESCRIPTION:Register to pick up your Take N Make kit at the library branch of your choice between October 20 and 24. For ages 6 to 12. Registration required. This month’s Take N Make project: Make a Pantograph!
URL:https://marylandstemfestival.org/event/take-n-make-pantograph-art-machine-2/
LOCATION:Hagerstown Branch\, 100 S. Potomac St.\, Hagerstown\, MD\, 21740\, United States
CATEGORIES:Arts,Earth and Space Science,Technology
ORGANIZER;CN="Washington County Free Library":MAILTO:jraab@washcolibrary.org
END:VEVENT
BEGIN:VEVENT
DTSTART;TZID=America/New_York:20251021T150000
DTEND;TZID=America/New_York:20251021T160000
DTSTAMP:20260419T220139
CREATED:20250912T191332Z
LAST-MODIFIED:20250912T191332Z
UID:2225-1761058800-1761062400@marylandstemfestival.org
SUMMARY:Clases de Computadoras en Español
DESCRIPTION:En estas clases aprenderás los conceptos básicos de la informática\, desde el uso de los sistema operativo hasta la navegación en internet que le serán útiles para la vida diaria. Ideal para adultos que quieran tener una experiencia con la nueva tecnologia de una manera fácil y útil. ! Las clases son completamente gratis ! Para más información llama al 301-645-1395 y pregunta por Ivette .Join staff for an introductory lesson in using Ancestry (library use only) and Heritage Quest (use anywhere with your library card) and take knowledge of these free-to-you databases with you through your journey of discovery. No experience needed. Laptops will be provided for use during the program. \nRegistration is required. Recommended for ages 18+. \nIf you have questions\, please contact the P.D. Brown Branch at 301-645-2864 or email pdbrownref@ccplonline.org
URL:https://marylandstemfestival.org/event/clases-de-computadoras-en-espanol/
LOCATION:Waldorf West Branch\, 10405 O’Donnell Place\, Waldord\, MD\, 20603\, United States
CATEGORIES:Science and Society,Technology
ORGANIZER;CN="Charles County Public Library":MAILTO:rdavis@ccplonline.org
END:VEVENT
BEGIN:VEVENT
DTSTART;TZID=America/New_York:20251021T163000
DTEND;TZID=America/New_York:20251021T170000
DTSTAMP:20260419T220139
CREATED:20250921T031118Z
LAST-MODIFIED:20250921T031118Z
UID:2348-1761064200-1761066000@marylandstemfestival.org
SUMMARY:STEAM Lab: Creepy Crawly (Five Senses)
DESCRIPTION:Join us for a variety of science\, technology\, engineering\, arts and math activities for elementary-aged children.
URL:https://marylandstemfestival.org/event/steam-lab-creepy-crawly-five-senses/
LOCATION:C. Burr Artz Library\, 110 East Patrick St.\, Frederick\, MD\, 21701\, United States
CATEGORIES:Arts,Engineering,Mathematics,Science and Society,Technology
ORGANIZER;CN="Frederick County Public Libraries":MAILTO:rgoetz@frederickcountymd.gov
END:VEVENT
BEGIN:VEVENT
DTSTART;TZID=America/New_York:20251021T163000
DTEND;TZID=America/New_York:20251021T173000
DTSTAMP:20260419T220139
CREATED:20250814T024655Z
LAST-MODIFIED:20250814T024655Z
UID:2081-1761064200-1761067800@marylandstemfestival.org
SUMMARY:FrankenSTEAM: Spark of Life
DESCRIPTION:It’s alive…and it scribbles. Join us as we build our own\nwiggly drawing machines while learning about motors and\nbasic engineering.
URL:https://marylandstemfestival.org/event/frankensteam-spark-of-life-2/
LOCATION:Pocomoke Library\, 301 Market\, Pocomoke City\, 21851\, United States
CATEGORIES:Engineering,Science and Society,Technology
ORGANIZER;CN="Worcester County Library":MAILTO:sarena@worcesterlibrary.org
END:VEVENT
BEGIN:VEVENT
DTSTART;TZID=America/New_York:20251021T180000
DTEND;TZID=America/New_York:20251021T193000
DTSTAMP:20260419T220139
CREATED:20250912T191527Z
LAST-MODIFIED:20250912T191527Z
UID:2226-1761069600-1761075000@marylandstemfestival.org
SUMMARY:LEGO WeDo 2.0 Robotics Club for TEENS
DESCRIPTION:Lego WeDo kits allow users to build awesome creations from Legos then program them using a laptop\, that is provided by the library\, for some amazing robotics action. In this program\, participants are taught the basics of robotics in a way that’s fun and interactive! \nThis program is designed to teach teens the basics of robotics. \nRegistration is required. \nIf you have questions\, please contact the Waldorf West Branch at 301-645-1395 or email westref@ccplonline.org.
URL:https://marylandstemfestival.org/event/lego-wedo-2-0-robotics-club-for-teens/
LOCATION:Waldorf West Branch\, 10405 O’Donnell Place\, Waldord\, MD\, 20603\, United States
CATEGORIES:Engineering,Technology
ORGANIZER;CN="Charles County Public Library":MAILTO:rdavis@ccplonline.org
END:VEVENT
BEGIN:VEVENT
DTSTART;TZID=America/New_York:20251021T183000
DTEND;TZID=America/New_York:20251021T193000
DTSTAMP:20260419T220139
CREATED:20250813T203646Z
LAST-MODIFIED:20250813T203646Z
UID:2057-1761071400-1761075000@marylandstemfestival.org
SUMMARY:STEAM Team (grades 3-5)
DESCRIPTION:Grades 3-5. 45 min. Registration required. \nWork together in small groups investigating hands on STEAM activities. \nPlease register for each class separately. \nRegistration for this class begins Thursday\, October 16 @ 10a. \nThis class is part of the 2025 Maryland STEM Festival.
URL:https://marylandstemfestival.org/event/steam-team-grades-3-5-2/
LOCATION:Miller Branch Library\, 9421 Frederick Rd\, Ellicott City\, MD\, 21042\, United States
CATEGORIES:Science and Society,Technology
END:VEVENT
BEGIN:VEVENT
DTSTART;TZID=America/New_York:20251022T090000
DTEND;TZID=America/New_York:20251022T170000
DTSTAMP:20260419T220139
CREATED:20251003T183514Z
LAST-MODIFIED:20251003T183514Z
UID:2564-1761123600-1761152400@marylandstemfestival.org
SUMMARY:Take N Make: Pantograph Art Machine
DESCRIPTION:Register to pick up your Take N Make kit at the library branch of your choice between October 20 and 24. For ages 6 to 12. Registration required. This month’s Take N Make project: Make a Pantograph!
URL:https://marylandstemfestival.org/event/take-n-make-pantograph-art-machine-3/
LOCATION:Hagerstown Branch\, 100 S. Potomac St.\, Hagerstown\, MD\, 21740\, United States
CATEGORIES:Arts,Earth and Space Science,Technology
ORGANIZER;CN="Washington County Free Library":MAILTO:jraab@washcolibrary.org
END:VEVENT
BEGIN:VEVENT
DTSTART;TZID=America/New_York:20251022T110000
DTEND;TZID=America/New_York:20251022T113000
DTSTAMP:20260419T220139
CREATED:20250921T030114Z
LAST-MODIFIED:20250921T030114Z
UID:2345-1761130800-1761132600@marylandstemfestival.org
SUMMARY:Tiny STEAM
DESCRIPTION:Explore Science\, Technology\, Engineering\, Art\, and Math concepts. Designed for ages 2-5 with a caregiver.
URL:https://marylandstemfestival.org/event/tiny-steam-3/
LOCATION:Myersville Community Library\, 8 Harp Place\, Myersville\, MD\, 21773\, United States
CATEGORIES:Engineering,Mathematics,Science and Society,Technology
ORGANIZER;CN="Frederick County Public Libraries":MAILTO:rgoetz@frederickcountymd.gov
END:VEVENT
BEGIN:VEVENT
DTSTART;TZID=America/New_York:20251022T113000
DTEND;TZID=America/New_York:20251022T123000
DTSTAMP:20260419T220139
CREATED:20250813T161809Z
LAST-MODIFIED:20250813T161939Z
UID:2058-1761132600-1761136200@marylandstemfestival.org
SUMMARY:STEAM Makers: Logic Builds! (8-11 years)
DESCRIPTION:Ages 8-11; 60 min. Registration required. \nThis class is part of the 2025 Maryland STEM Festival. Click here for the full schedule of classes and events for all ages. \nPlan\, create\, and test your engineering skills to create a road for your city!
URL:https://marylandstemfestival.org/event/steam-makers-logic-builds-8-11-years/
LOCATION:Savage Branch Library\, 9525 Durness Lane\, Laurel\, MD\, 20723\, United States
CATEGORIES:Technology
END:VEVENT
BEGIN:VEVENT
DTSTART;TZID=America/New_York:20251022T140000
DTEND;TZID=America/New_York:20251022T150000
DTSTAMP:20260419T220139
CREATED:20250912T190508Z
LAST-MODIFIED:20250912T190508Z
UID:2220-1761141600-1761145200@marylandstemfestival.org
SUMMARY:Senior Planet: Streaming and Smart TVs
DESCRIPTION:Every day\, more and more people are “cutting the cord” and canceling their cable subscriptions. Instead\, they’re using free or low-cost streaming services like YouTube\, Netflix\, and Hulu to watch their favorite shows and movies online. This presentation will introduce streaming: what it is\, how to use it\, and the variety of content available. You’ll also learn how to watch live TV without cable and how smart TVs and streaming devices can let you watch videos from the Internet on your television.
URL:https://marylandstemfestival.org/event/senior-planet-streaming-and-smart-tvs/
LOCATION:Eldersburg Public Library\, 6400 West Hemlock Drive\, Eldersburg\, MD\, 21784\, United States
CATEGORIES:Engineering,Technology
ORGANIZER;CN="Carroll County Public Library":MAILTO:lpicker@carr.org
END:VEVENT
BEGIN:VEVENT
DTSTART;TZID=America/New_York:20251022T140000
DTEND;TZID=America/New_York:20251022T153000
DTSTAMP:20260419T220139
CREATED:20250919T122118Z
LAST-MODIFIED:20250919T122118Z
UID:2333-1761141600-1761147000@marylandstemfestival.org
SUMMARY:Laser Cutting Refresher
DESCRIPTION:If it’s been a while since you passed your Exploration Commons laser certification and you could use a refresher on the process\, this class is for you! Get a reintroduction to the basics of using our Epilog Fusion Pro and Edge lasers. \nThis class is for customers who have already been certified for Exploration Commons independent laser use. This class does not result in independent laser cutter use certification. \nPrevious laser certification is required.
URL:https://marylandstemfestival.org/event/laser-cutting-refresher/
LOCATION:Carroll County Public Library\, Exploration Commons\, 50 East Main Street\, Westminster\, MD\, 21157\, United States
CATEGORIES:Technology
ORGANIZER;CN="Carroll County Public Library":MAILTO:lpicker@carr.org
END:VEVENT
BEGIN:VEVENT
DTSTART;TZID=America/New_York:20251022T150000
DTEND;TZID=America/New_York:20251022T160000
DTSTAMP:20260419T220139
CREATED:20251001T020309Z
LAST-MODIFIED:20251001T020309Z
UID:2433-1761145200-1761148800@marylandstemfestival.org
SUMMARY:LEGO Club
DESCRIPTION:Attention Legomaniacs! Join other LEGO lovers in some bricktastic building fun! A different challenge each month! \nThis event is for students in grades 1 through 5.\nNo dropoffs\, all students will require an adult in the building at all times.\nEach month will have a different challenge
URL:https://marylandstemfestival.org/event/lego-club-7/
LOCATION:Hancock War Memorial Library\, 231 Hancock Veterans Pkwy\, Hancock\, MD\, 21750\, United States
CATEGORIES:Engineering,Technology
ORGANIZER;CN="Washington County Free Library":MAILTO:jraab@washcolibrary.org
END:VEVENT
END:VCALENDAR